BEGIN:VCALENDAR
VERSION:2.0
PRODID:-//Lehigh Valley Bahai - ECPv6.15.20//NONSGML v1.0//EN
CALSCALE:GREGORIAN
METHOD:PUBLISH
X-WR-CALNAME:Lehigh Valley Bahai
X-ORIGINAL-URL:https://www.bahailv.org
X-WR-CALDESC:Events for Lehigh Valley Bahai
REFRESH-INTERVAL;VALUE=DURATION:PT1H
X-Robots-Tag:noindex
X-PUBLISHED-TTL:PT1H
BEGIN:VTIMEZONE
TZID:America/New_York
BEGIN:DAYLIGHT
TZOFFSETFROM:-0500
TZOFFSETTO:-0400
TZNAME:EDT
DTSTART:20240310T070000
END:DAYLIGHT
BEGIN:STANDARD
TZOFFSETFROM:-0400
TZOFFSETTO:-0500
TZNAME:EST
DTSTART:20241103T060000
END:STANDARD
BEGIN:DAYLIGHT
TZOFFSETFROM:-0500
TZOFFSETTO:-0400
TZNAME:EDT
DTSTART:20250309T070000
END:DAYLIGHT
BEGIN:STANDARD
TZOFFSETFROM:-0400
TZOFFSETTO:-0500
TZNAME:EST
DTSTART:20251102T060000
END:STANDARD
BEGIN:DAYLIGHT
TZOFFSETFROM:-0500
TZOFFSETTO:-0400
TZNAME:EDT
DTSTART:20260308T070000
END:DAYLIGHT
BEGIN:STANDARD
TZOFFSETFROM:-0400
TZOFFSETTO:-0500
TZNAME:EST
DTSTART:20261101T060000
END:STANDARD
END:VTIMEZONE
BEGIN:VEVENT
DTSTART;TZID=America/New_York:20251204T190000
DTEND;TZID=America/New_York:20251204T200000
DTSTAMP:20260423T163140
CREATED:20251116T222825Z
LAST-MODIFIED:20251116T222825Z
UID:10002282-1764874800-1764878400@www.bahailv.org
SUMMARY:Weekly Thursday Zoom devotions hosted by the Almonte family.  Click here for details.
DESCRIPTION:Weekly Thursday Zoom devotions hosted by the Almonte family.  Contact Ana: 484 620 7466.
URL:https://www.bahailv.org/event/weekly-wednesday-zoom-devotions-hosted-by-the-almonte-family-click-here-for-details-2/
ATTACH;FMTTYPE=image/jpeg:https://www.bahailv.org/wp-content/uploads/2021/09/devotions_sm.jpg
END:VEVENT
BEGIN:VEVENT
DTSTART;TZID=America/New_York:20251207T193000
DTEND;TZID=America/New_York:20251207T203000
DTSTAMP:20260423T163140
CREATED:20250927T023446Z
LAST-MODIFIED:20250927T023446Z
UID:10003250-1765135800-1765139400@www.bahailv.org
SUMMARY:Sunday night Zoom Healing Devotions hosted by Moira & Randy Padfield.  Click here for details.
DESCRIPTION:Dear friends\,  \nThe Padfield family are hosting a devotional via Zoom Sunday evening at 7:30pm and each Sunday thereafter.  Link will be emailed to the friends directly.  We will be saying prayers for Richard Beane (our son-in-law in Belize) and Shirin’s sister as well as others in the community in need of healing prayers. We will also offer healing prayers for our community\, country and the world.   \nWe would be happy to have you join us and would welcome anything you would like to contribute in the form of prayers\, Writings\, or poems.   \nWe hope to see you on Sunday night.  Zoom link was emailed to the friends directly. \nWith loving regards\,
URL:https://www.bahailv.org/event/sunday-night-zoom-healing-devotions-hosted-by-moira-randy-padfield-click-here-for-details-11/2025-12-07/
ATTACH;FMTTYPE=image/jpeg:https://www.bahailv.org/wp-content/uploads/2020/05/devotions.jpg
END:VEVENT
BEGIN:VEVENT
DTSTART;TZID=America/New_York:20251210T190000
DTEND;TZID=America/New_York:20251210T210000
DTSTAMP:20260423T163140
CREATED:20250715T154246Z
LAST-MODIFIED:20250725T011910Z
UID:10002406-1765393200-1765400400@www.bahailv.org
SUMMARY:Zoom ONLY - Feast of Masail (Questions).  Hosted by Gladys Nay.  Click here for details.
DESCRIPTION:Host – Gladys Nay.
URL:https://www.bahailv.org/event/feast-of-masail-questions-host-tbd-click-here-for-details-2/
ATTACH;FMTTYPE=image/jpeg:https://www.bahailv.org/wp-content/uploads/2024/06/Feast-of-Masail-Questions.jpeg
END:VEVENT
BEGIN:VEVENT
DTSTART;TZID=America/New_York:20251211T190000
DTEND;TZID=America/New_York:20251211T200000
DTSTAMP:20260423T163140
CREATED:20251116T223007Z
LAST-MODIFIED:20251116T223007Z
UID:10002283-1765479600-1765483200@www.bahailv.org
SUMMARY:Weekly Thursday Zoom devotions hosted by the Almonte family.  Click here for details.
DESCRIPTION:Weekly Thursday Zoom devotions hosted by the Almonte family.  Contact Ana: 484 620 7466.
URL:https://www.bahailv.org/event/weekly-wednesday-zoom-devotions-hosted-by-the-almonte-family-click-here-for-details-3/
ATTACH;FMTTYPE=image/jpeg:https://www.bahailv.org/wp-content/uploads/2021/09/devotions_sm.jpg
END:VEVENT
BEGIN:VEVENT
DTSTART;TZID=America/New_York:20251212T190000
DTEND;TZID=America/New_York:20251212T200000
DTSTAMP:20260423T163140
CREATED:20250911T203648Z
LAST-MODIFIED:20251116T223537Z
UID:10003235-1765566000-1765569600@www.bahailv.org
SUMMARY:Bi-weekly Friday night devotions/Study Circle in person or via Zoom.  Click here for details.
DESCRIPTION:Please join our Bi-weekly Friday night devotional/Study Circle in-person or via Zoom.\n\n\n\n\nTopic: varies each time7:00 PM Eastern Time (US and Canada).\n\nZoom link was directly emailed to friends\, however for direct zoom link to the devotions contact Shirin Khalighi: khalighi1@aol.com OR Gladys Nay: gladandlou@msn.com
URL:https://www.bahailv.org/event/bi-weekly-friday-night-devotions-study-circle-in-person-or-via-zoom-click-here-for-details-6/
ATTACH;FMTTYPE=image/jpeg:https://www.bahailv.org/wp-content/uploads/2021/09/Devotions-3.jpeg
END:VEVENT
BEGIN:VEVENT
DTSTART;TZID=America/New_York:20251214T193000
DTEND;TZID=America/New_York:20251214T203000
DTSTAMP:20260423T163140
CREATED:20250927T023446Z
LAST-MODIFIED:20250927T023446Z
UID:10003251-1765740600-1765744200@www.bahailv.org
SUMMARY:Sunday night Zoom Healing Devotions hosted by Moira & Randy Padfield.  Click here for details.
DESCRIPTION:Dear friends\,  \nThe Padfield family are hosting a devotional via Zoom Sunday evening at 7:30pm and each Sunday thereafter.  Link will be emailed to the friends directly.  We will be saying prayers for Richard Beane (our son-in-law in Belize) and Shirin’s sister as well as others in the community in need of healing prayers. We will also offer healing prayers for our community\, country and the world.   \nWe would be happy to have you join us and would welcome anything you would like to contribute in the form of prayers\, Writings\, or poems.   \nWe hope to see you on Sunday night.  Zoom link was emailed to the friends directly. \nWith loving regards\,
URL:https://www.bahailv.org/event/sunday-night-zoom-healing-devotions-hosted-by-moira-randy-padfield-click-here-for-details-11/2025-12-14/
ATTACH;FMTTYPE=image/jpeg:https://www.bahailv.org/wp-content/uploads/2020/05/devotions.jpg
END:VEVENT
BEGIN:VEVENT
DTSTART;TZID=America/New_York:20251218T190000
DTEND;TZID=America/New_York:20251218T200000
DTSTAMP:20260423T163140
CREATED:20260106T123327Z
LAST-MODIFIED:20260106T123529Z
UID:10003274-1766084400-1766088000@www.bahailv.org
SUMMARY:Weekly Thursday Zoom devotions hosted by the Almonte family.  Click here for details.
DESCRIPTION:Weekly Thursday Zoom devotions hosted by the Almonte family.  Contact Ana – 484 620 7466.
URL:https://www.bahailv.org/event/weekly-thursday-zoom-devotions-hosted-by-the-almonte-family-click-here-for-details/2025-12-18/
ATTACH;FMTTYPE=image/jpeg:https://www.bahailv.org/wp-content/uploads/2021/09/devotions_sm.jpg
END:VEVENT
BEGIN:VEVENT
DTSTART;TZID=America/New_York:20251221T100000
DTEND;TZID=America/New_York:20251221T120000
DTSTAMP:20260423T163140
CREATED:20251219T011726Z
LAST-MODIFIED:20251219T011726Z
UID:10003224-1766311200-1766318400@www.bahailv.org
SUMMARY:Bahá'í Learning Center
DESCRIPTION:Dear loved Friends\, \nWe are very happy and excited to announce the start of another season of learning\, devotions\, and fellowship at the Bahá’í Learning Center in Allentown ( Lehigh Valley Center for Sight\, 1739 Fairmont Street\, Allentown 18104 ) one Sunday a month 10 AM to 12 PM starting on September 28. This year we will have an adult class which will focus on the study of Ruhi Book 12 Unit 1 Family and the Community. You are welcome to attend all or come to as many sessions you are able. \nYou can find the schedule on the Lehigh Valley Bahá’í Community Calendar. Please contact Houman Ahdieh for further information and directions; houmanahdieh@yahoo.com 610-737-3938.  \nWe look very much forward to seeing you all soon! \nWith Much Love\, \nBahá’í Learning Center Planning Committee  \n  \nTo promote knowledge is thus an inescapable duty imposed on every one of the friends of God. \n–Abdu’l-Bahá
URL:https://www.bahailv.org/event/bahai-learning-center-9-3/2025-12-21/
ATTACH;FMTTYPE=image/jpeg:https://www.bahailv.org/wp-content/uploads/2024/09/Bahai-Sunday-School.jpeg
END:VEVENT
BEGIN:VEVENT
DTSTART;TZID=America/New_York:20251221T193000
DTEND;TZID=America/New_York:20251221T203000
DTSTAMP:20260423T163140
CREATED:20250927T023446Z
LAST-MODIFIED:20250927T023446Z
UID:10003252-1766345400-1766349000@www.bahailv.org
SUMMARY:Sunday night Zoom Healing Devotions hosted by Moira & Randy Padfield.  Click here for details.
DESCRIPTION:Dear friends\,  \nThe Padfield family are hosting a devotional via Zoom Sunday evening at 7:30pm and each Sunday thereafter.  Link will be emailed to the friends directly.  We will be saying prayers for Richard Beane (our son-in-law in Belize) and Shirin’s sister as well as others in the community in need of healing prayers. We will also offer healing prayers for our community\, country and the world.   \nWe would be happy to have you join us and would welcome anything you would like to contribute in the form of prayers\, Writings\, or poems.   \nWe hope to see you on Sunday night.  Zoom link was emailed to the friends directly. \nWith loving regards\,
URL:https://www.bahailv.org/event/sunday-night-zoom-healing-devotions-hosted-by-moira-randy-padfield-click-here-for-details-11/2025-12-21/
ATTACH;FMTTYPE=image/jpeg:https://www.bahailv.org/wp-content/uploads/2020/05/devotions.jpg
END:VEVENT
BEGIN:VEVENT
DTSTART;TZID=America/New_York:20251225T190000
DTEND;TZID=America/New_York:20251225T200000
DTSTAMP:20260423T163140
CREATED:20260106T123327Z
LAST-MODIFIED:20260106T123529Z
UID:10003275-1766689200-1766692800@www.bahailv.org
SUMMARY:Weekly Thursday Zoom devotions hosted by the Almonte family.  Click here for details.
DESCRIPTION:Weekly Thursday Zoom devotions hosted by the Almonte family.  Contact Ana – 484 620 7466.
URL:https://www.bahailv.org/event/weekly-thursday-zoom-devotions-hosted-by-the-almonte-family-click-here-for-details/2025-12-25/
ATTACH;FMTTYPE=image/jpeg:https://www.bahailv.org/wp-content/uploads/2021/09/devotions_sm.jpg
END:VEVENT
BEGIN:VEVENT
DTSTART;TZID=America/New_York:20251230T173000
DTEND;TZID=America/New_York:20251230T203000
DTSTAMP:20260423T163140
CREATED:20250715T154730Z
LAST-MODIFIED:20251220T171247Z
UID:10002407-1767115800-1767126600@www.bahailv.org
SUMMARY:Feast of Sharaf (Honor).  Hosted by Laura & Henry Lawrence.  Click here for details.
DESCRIPTION:Hosts – Henry & Laura Lawrence. \nA light supper will be served at 5:30.  RSVP lglawrence19@yahoo.com
URL:https://www.bahailv.org/event/feast-of-sharaf-honor-host-tbd-click-here-for-details-3/
ATTACH;FMTTYPE=image/jpeg:https://www.bahailv.org/wp-content/uploads/2024/06/Feast-of-Sharaf-Honor.jpeg
END:VEVENT
END:VCALENDAR