BEGIN:VCALENDAR
VERSION:2.0
PRODID:-//Lehigh Valley Bahai - ECPv6.15.20//NONSGML v1.0//EN
CALSCALE:GREGORIAN
METHOD:PUBLISH
X-ORIGINAL-URL:https://www.bahailv.org
X-WR-CALDESC:Events for Lehigh Valley Bahai
REFRESH-INTERVAL;VALUE=DURATION:PT1H
X-Robots-Tag:noindex
X-PUBLISHED-TTL:PT1H
BEGIN:VTIMEZONE
TZID:America/New_York
BEGIN:DAYLIGHT
TZOFFSETFROM:-0500
TZOFFSETTO:-0400
TZNAME:EDT
DTSTART:20240310T070000
END:DAYLIGHT
BEGIN:STANDARD
TZOFFSETFROM:-0400
TZOFFSETTO:-0500
TZNAME:EST
DTSTART:20241103T060000
END:STANDARD
BEGIN:DAYLIGHT
TZOFFSETFROM:-0500
TZOFFSETTO:-0400
TZNAME:EDT
DTSTART:20250309T070000
END:DAYLIGHT
BEGIN:STANDARD
TZOFFSETFROM:-0400
TZOFFSETTO:-0500
TZNAME:EST
DTSTART:20251102T060000
END:STANDARD
BEGIN:DAYLIGHT
TZOFFSETFROM:-0500
TZOFFSETTO:-0400
TZNAME:EDT
DTSTART:20260308T070000
END:DAYLIGHT
BEGIN:STANDARD
TZOFFSETFROM:-0400
TZOFFSETTO:-0500
TZNAME:EST
DTSTART:20261101T060000
END:STANDARD
END:VTIMEZONE
BEGIN:VEVENT
DTSTART;TZID=America/New_York:20250906T160000
DTEND;TZID=America/New_York:20250906T190000
DTSTAMP:20260423T204940
CREATED:20250715T152150Z
LAST-MODIFIED:20250822T172812Z
UID:10002400-1757174400-1757185200@www.bahailv.org
SUMMARY:Feast of Izzat (Might) - Hosted by the West family.  Click here for details.
DESCRIPTION:Hosted by the Wests’ – 610 662 1860. \nDetails to follow.
URL:https://www.bahailv.org/event/feast-of-izzat-might-host-tbd-click-here-for-details-2/
ATTACH;FMTTYPE=image/jpeg:https://www.bahailv.org/wp-content/uploads/2024/06/Feast-of-Izzat-Might.jpeg
END:VEVENT
BEGIN:VEVENT
DTSTART;TZID=America/New_York:20250907T193000
DTEND;TZID=America/New_York:20250907T203000
DTSTAMP:20260423T204940
CREATED:20250927T023446Z
LAST-MODIFIED:20250927T023446Z
UID:10003237-1757273400-1757277000@www.bahailv.org
SUMMARY:Sunday night Zoom Healing Devotions hosted by Moira & Randy Padfield.  Click here for details.
DESCRIPTION:Dear friends\,  \nThe Padfield family are hosting a devotional via Zoom Sunday evening at 7:30pm and each Sunday thereafter.  Link will be emailed to the friends directly.  We will be saying prayers for Richard Beane (our son-in-law in Belize) and Shirin’s sister as well as others in the community in need of healing prayers. We will also offer healing prayers for our community\, country and the world.   \nWe would be happy to have you join us and would welcome anything you would like to contribute in the form of prayers\, Writings\, or poems.   \nWe hope to see you on Sunday night.  Zoom link was emailed to the friends directly. \nWith loving regards\,
URL:https://www.bahailv.org/event/sunday-night-zoom-healing-devotions-hosted-by-moira-randy-padfield-click-here-for-details-11/2025-09-07/
ATTACH;FMTTYPE=image/jpeg:https://www.bahailv.org/wp-content/uploads/2020/05/devotions.jpg
END:VEVENT
BEGIN:VEVENT
DTSTART;TZID=America/New_York:20250912T190000
DTEND;TZID=America/New_York:20250912T200000
DTSTAMP:20260423T204940
CREATED:20250823T233547Z
LAST-MODIFIED:20250823T233547Z
UID:10003215-1757703600-1757707200@www.bahailv.org
SUMMARY:Monthly Baha'i Basics.  An online introduction to the Baha'i Faith followed by Q & A.  Click here for details.
DESCRIPTION:Dear Friends\,\n\n \nIntroduction to the Baha’i Faith and discussions and Q&A following the introduction.  This is being held the second Friday of each month from 7-8 p.m. An email reminder with the Zoom link information will be emailed each month.   \n \n\nThis Fireside chat will feature a brief introduction to the Baha’i Teachings on the importance of religion and spirituality in creating harmony among the diverse nations\, races and religions of the world.  After the presentation there will be opportunity for questions and discussion by the participants.  This meeting is open to all.  Please invite friends and anyone who you think would be interested in learning about this topic
URL:https://www.bahailv.org/event/monthly-bahai-basics-an-online-introduction-to-the-bahai-faith-followed-by-q-a-click-here-for-details/
ATTACH;FMTTYPE=image/jpeg:https://www.bahailv.org/wp-content/uploads/2020/12/BB.jpeg
END:VEVENT
BEGIN:VEVENT
DTSTART;TZID=America/New_York:20250914T130000
DTEND;TZID=America/New_York:20250914T150000
DTSTAMP:20260423T204940
CREATED:20250228T185549Z
LAST-MODIFIED:20250628T011045Z
UID:10002397-1757854800-1757862000@www.bahailv.org
SUMMARY:Little Pond monthly Sunday devotions hosted by Bill & Bridget George. 1-3 p.m. at Little Pond\, Nazareth.  Click here for details.
DESCRIPTION:Dear Friends\,\n \nAs always\, the Devotional program will be followed by refreshments and discussion. It helps us to know if you are coming\, so please respond to bridgetgeorge9@gmail.com.\n \nWe do hope you will join us\, and of course you are welcome to forward this invitation to your friends.\nDirections to Little Pond can be found on our website\, https://littlepond.org/\n\n \nWe also thought it would be helpful to let you know the dates of the Little Pond Devotionals  April 2025 to January 2026.. All dates are Sundays at 1 pm on weekends that do not conflict with the Baha’i Learning Center activities.\n\n\nApril 6\nMay 18\nJune 22\nAugust 3\nAugust 24\nSeptember 14\nOctober 19\nNovember 16\nJanuary 4 – 2026.
URL:https://www.bahailv.org/event/little-pond-monthly-sunday-devotions-hosted-by-bill-bridget-george-1-3-p-m-at-little-pond-nazareth-click-here-for-details-4/
ATTACH;FMTTYPE=image/jpeg:https://www.bahailv.org/wp-content/uploads/2021/09/Devotions-3.jpeg
END:VEVENT
BEGIN:VEVENT
DTSTART;TZID=America/New_York:20250914T193000
DTEND;TZID=America/New_York:20250914T203000
DTSTAMP:20260423T204940
CREATED:20250927T023446Z
LAST-MODIFIED:20250927T023446Z
UID:10003238-1757878200-1757881800@www.bahailv.org
SUMMARY:Sunday night Zoom Healing Devotions hosted by Moira & Randy Padfield.  Click here for details.
DESCRIPTION:Dear friends\,  \nThe Padfield family are hosting a devotional via Zoom Sunday evening at 7:30pm and each Sunday thereafter.  Link will be emailed to the friends directly.  We will be saying prayers for Richard Beane (our son-in-law in Belize) and Shirin’s sister as well as others in the community in need of healing prayers. We will also offer healing prayers for our community\, country and the world.   \nWe would be happy to have you join us and would welcome anything you would like to contribute in the form of prayers\, Writings\, or poems.   \nWe hope to see you on Sunday night.  Zoom link was emailed to the friends directly. \nWith loving regards\,
URL:https://www.bahailv.org/event/sunday-night-zoom-healing-devotions-hosted-by-moira-randy-padfield-click-here-for-details-11/2025-09-14/
ATTACH;FMTTYPE=image/jpeg:https://www.bahailv.org/wp-content/uploads/2020/05/devotions.jpg
END:VEVENT
BEGIN:VEVENT
DTSTART;TZID=America/New_York:20250919T190000
DTEND;TZID=America/New_York:20250919T200000
DTSTAMP:20260423T204940
CREATED:20250823T235152Z
LAST-MODIFIED:20250823T235152Z
UID:10003217-1758308400-1758312000@www.bahailv.org
SUMMARY:Bi-weekly Friday night devotions/Study Circle in person or via Zoom.  Click here for details.
DESCRIPTION:Please join our Bi-weekly Friday night devotional/Study Circle in-person or via Zoom.\n\n\n\n\nTopic: varies each time7:00 PM Eastern Time (US and Canada).\n\nZoom link was directly emailed to friends\, however for direct zoom link to the devotions contact Shirin Khalighi: khalighi1@aol.com OR Gladys Nay: gladandlou@msn.com
URL:https://www.bahailv.org/event/bi-weekly-friday-night-devotions-study-circle-in-person-or-via-zoom-click-here-for-details/2025-09-19/
ATTACH;FMTTYPE=image/jpeg:https://www.bahailv.org/wp-content/uploads/2021/09/Devotions-3.jpeg
END:VEVENT
BEGIN:VEVENT
DTSTART;TZID=America/New_York:20250925T180000
DTEND;TZID=America/New_York:20250925T210000
DTSTAMP:20260423T204940
CREATED:20250715T152734Z
LAST-MODIFIED:20250820T221505Z
UID:10002402-1758823200-1758834000@www.bahailv.org
SUMMARY:Feast of Mashiyyat (Will).  Hosted by Houman Ahdieh at Baha'i Learning Center (his office).  Click here for details.
DESCRIPTION:Houman is hosting his feast Will on Thursday Sept.\, 25 at 6 pm at Baha’i Learning Center (his office in Allentown) offering dinner.
URL:https://www.bahailv.org/event/feast-of-mashiyyat-will-host-tbd/
ATTACH;FMTTYPE=image/jpeg:https://www.bahailv.org/wp-content/uploads/2024/06/Feast-of-Mashiyyat-Will.jpeg
END:VEVENT
BEGIN:VEVENT
DTSTART;TZID=America/New_York:20250928T100000
DTEND;TZID=America/New_York:20250928T120000
DTSTAMP:20260423T204940
CREATED:20250915T213635Z
LAST-MODIFIED:20250915T213635Z
UID:10003221-1759053600-1759060800@www.bahailv.org
SUMMARY:Bahá'í Learning Center at Lehigh Valley Center for Sight\, 1739 Fairmont Street\, Allentown 18104.
DESCRIPTION:Dear loved Friends\, \nWe are very happy and excited to announce the start of another season of learning\, devotions\, and fellowship at the Bahá’í Learning Center in Allentown ( Lehigh Valley Center for Sight\, 1739 Fairmont Street\, Allentown 18104 ) one Sunday a month 10 AM to 12 PM starting on September 28. This year we will have an adult class which will focus on the study of Ruhi Book 12 Unit 1 Family and the Community. You are welcome to attend all or come to as many sessions you are able. \nYou can find the schedule on the Lehigh Valley Bahá’í Community Calendar. Please contact Houman Ahdieh for further information and directions; houmanahdieh@yahoo.com 610-737-3938.  \nWe look very much forward to seeing you all soon! \nWith Much Love\, \nBahá’í Learning Center Planning Committee  \n  \nTo promote knowledge is thus an inescapable duty imposed on every one of the friends of God. \n–Abdu’l-Bahá
URL:https://www.bahailv.org/event/bahai-learning-center-9-2/
ATTACH;FMTTYPE=image/jpeg:https://www.bahailv.org/wp-content/uploads/2024/09/Bahai-Sunday-School.jpeg
END:VEVENT
BEGIN:VEVENT
DTSTART;TZID=America/New_York:20250928T193000
DTEND;TZID=America/New_York:20250928T203000
DTSTAMP:20260423T204940
CREATED:20250927T023446Z
LAST-MODIFIED:20250927T023446Z
UID:10003240-1759087800-1759091400@www.bahailv.org
SUMMARY:Sunday night Zoom Healing Devotions hosted by Moira & Randy Padfield.  Click here for details.
DESCRIPTION:Dear friends\,  \nThe Padfield family are hosting a devotional via Zoom Sunday evening at 7:30pm and each Sunday thereafter.  Link will be emailed to the friends directly.  We will be saying prayers for Richard Beane (our son-in-law in Belize) and Shirin’s sister as well as others in the community in need of healing prayers. We will also offer healing prayers for our community\, country and the world.   \nWe would be happy to have you join us and would welcome anything you would like to contribute in the form of prayers\, Writings\, or poems.   \nWe hope to see you on Sunday night.  Zoom link was emailed to the friends directly. \nWith loving regards\,
URL:https://www.bahailv.org/event/sunday-night-zoom-healing-devotions-hosted-by-moira-randy-padfield-click-here-for-details-11/2025-09-28/
ATTACH;FMTTYPE=image/jpeg:https://www.bahailv.org/wp-content/uploads/2020/05/devotions.jpg
END:VEVENT
BEGIN:VEVENT
DTSTART;TZID=America/New_York:20250930T190000
DTEND;TZID=America/New_York:20250930T200000
DTSTAMP:20260423T204940
CREATED:20250909T201525Z
LAST-MODIFIED:20250909T201703Z
UID:10003231-1759258800-1759262400@www.bahailv.org
SUMMARY:Fireside invitation to the home of Moira & Randy Padfield on Tuesday September 30 at 7:00 PM.
DESCRIPTION:A story of artists embracing place \nRooted\, a 75 minute documentary film about artists embracing place\, premiered \nfor an enthusiastic audience of more than 300 at Zoellner Arts Center \n as part of the Southside Film Festival and was nominated for a \n “best documentary” award at the Newark International Film Festival.  \n  \nDrawing from over two hours of interviews\, new and archival video\, music\, and photos\, Rooted distills fifty years of the story of Bethlehem Pennsylvania \n–a community transformed by art and artists transformed by community.   \n  \nThe Baha’is of the Nazareth Area are pleased to host \n two of the film’s creative team\, Bill and Bridget George\, \non Tuesday September 30 at 7:00 PM. \nBill and Bridget will introduce a screening of the film and facilitate a conversation \n about how place and working together are crucial to identity\, and stimulate us  \nsocially and spiritually in building a revitalized community.   \n  \nPlease come if you can. \nLocation: Home of Moira and Randy Padfield \n 317 Constitution Circle\, Nazareth PA \nMore Info: Roseann Bowerman 610-704-0026 or Moira Padfield 610-703-2974  
URL:https://www.bahailv.org/event/fireside-invitation-to-the-home-of-moira-randy-padfield-on-tuesday-september-30-at-700-pm/
ATTACH;FMTTYPE=image/jpeg:https://www.bahailv.org/wp-content/uploads/2024/07/Firesides-2-e1746502911265.jpeg
END:VEVENT
END:VCALENDAR