BEGIN:VCALENDAR
VERSION:2.0
PRODID:-//Lehigh Valley Bahai - ECPv6.15.20//NONSGML v1.0//EN
CALSCALE:GREGORIAN
METHOD:PUBLISH
X-ORIGINAL-URL:https://www.bahailv.org
X-WR-CALDESC:Events for Lehigh Valley Bahai
REFRESH-INTERVAL;VALUE=DURATION:PT1H
X-Robots-Tag:noindex
X-PUBLISHED-TTL:PT1H
BEGIN:VTIMEZONE
TZID:America/New_York
BEGIN:DAYLIGHT
TZOFFSETFROM:-0500
TZOFFSETTO:-0400
TZNAME:EDT
DTSTART:20240310T070000
END:DAYLIGHT
BEGIN:STANDARD
TZOFFSETFROM:-0400
TZOFFSETTO:-0500
TZNAME:EST
DTSTART:20241103T060000
END:STANDARD
BEGIN:DAYLIGHT
TZOFFSETFROM:-0500
TZOFFSETTO:-0400
TZNAME:EDT
DTSTART:20250309T070000
END:DAYLIGHT
BEGIN:STANDARD
TZOFFSETFROM:-0400
TZOFFSETTO:-0500
TZNAME:EST
DTSTART:20251102T060000
END:STANDARD
BEGIN:DAYLIGHT
TZOFFSETFROM:-0500
TZOFFSETTO:-0400
TZNAME:EDT
DTSTART:20260308T070000
END:DAYLIGHT
BEGIN:STANDARD
TZOFFSETFROM:-0400
TZOFFSETTO:-0500
TZNAME:EST
DTSTART:20261101T060000
END:STANDARD
END:VTIMEZONE
BEGIN:VEVENT
DTSTART;TZID=America/New_York:20250803T130000
DTEND;TZID=America/New_York:20250803T150000
DTSTAMP:20260423T221619
CREATED:20250628T010651Z
LAST-MODIFIED:20250628T010652Z
UID:10002345-1754226000-1754233200@www.bahailv.org
SUMMARY:Little Pond monthly Sunday devotions hosted by Bill & Bridget George. 1-3 p.m. at Little Pond\, Nazareth.  Click here for details.
DESCRIPTION:Dear Friends\,\n \nAs always\, the Devotional program will be followed by refreshments and discussion. It helps us to know if you are coming\, so please respond to bridgetgeorge9@gmail.com.\n \nWe do hope you will join us\, and of course you are welcome to forward this invitation to your friends.\nDirections to Little Pond can be found on our website\, https://littlepond.org/\n\n \nWe also thought it would be helpful to let you know the dates of the Little Pond Devotionals  April 2025 to January 2026.. All dates are Sundays at 1 pm on weekends that do not conflict with the Baha’i Learning Center activities.\n\n\nApril 6\nMay 18\nJune 22\nJuly 27\nAugust 24\nSeptember 21\nOctober 19\nNovember 16\nJanuary 4 – 2026.
URL:https://www.bahailv.org/event/little-pond-monthly-sunday-devotions-hosted-by-bill-bridget-george-1-3-p-m-at-little-pond-nazareth-click-here-for-details-2-2-3/2025-08-03/
ATTACH;FMTTYPE=image/jpeg:https://www.bahailv.org/wp-content/uploads/2021/09/Devotions-3.jpeg
END:VEVENT
BEGIN:VEVENT
DTSTART;TZID=America/New_York:20250808T190000
DTEND;TZID=America/New_York:20250808T200000
DTSTAMP:20260423T221619
CREATED:20250609T164350Z
LAST-MODIFIED:20250609T164350Z
UID:10002395-1754679600-1754683200@www.bahailv.org
SUMMARY:Bi-weekly Friday night devotion/Study Circle in person or via Zoo.  Click here for details.
DESCRIPTION:Please join our Bi-weekly Friday night devotional/Study Circle in-person or via Zoom.\n\n\n\n\nTopic: varies each time7:00 PM Eastern Time (US and Canada).\n\nZoom link was directly emailed to friends\, however for direct zoom link to the devotions contact Shirin Khalighi: khalighi1@aol.com OR Gladys Nay: gladandlou@msn.com
URL:https://www.bahailv.org/event/bi-weekly-friday-night-devotion-study-circle-in-person-or-via-zoo-click-here-for-details/2025-08-08/
ATTACH;FMTTYPE=image/jpeg:https://www.bahailv.org/wp-content/uploads/2021/09/Devotions-3.jpeg
END:VEVENT
BEGIN:VEVENT
DTSTART;TZID=America/New_York:20250815T190000
DTEND;TZID=America/New_York:20250815T200000
DTSTAMP:20260423T221619
CREATED:20250609T162415Z
LAST-MODIFIED:20250823T233149Z
UID:10002394-1755284400-1755288000@www.bahailv.org
SUMMARY:Monthly Baha'i Basics.  An online introduction to the Bahai Faith followed by discussions and Q&A.  Click here for details.
DESCRIPTION:Dear Friends\,\n\n \nIntroduction to the Baha’i Faith and discussions and Q&A following the introduction.  This is being held the second Friday of each month from 7-8 p.m. An email reminder with the Zoom link information will be emailed each month.   \n \n\nThis Fireside chat will feature a brief introduction to the Baha’i Teachings on the importance of religion and spirituality in creating harmony among the diverse nations\, races and religions of the world.  After the presentation there will be opportunity for questions and discussion by the participants.  This meeting is open to all.  Please invite friends and anyone who you think would be interested in learning about this topic \n\n  \n \n    
URL:https://www.bahailv.org/event/monthly-bahai-basics-an-online-introduction-to-the-bahai-faith-followed-by-discussions-and-qa-click-here-for-details-8/
ATTACH;FMTTYPE=image/jpeg:https://www.bahailv.org/wp-content/uploads/2020/12/BB.jpeg
END:VEVENT
BEGIN:VEVENT
DTSTART;TZID=America/New_York:20250819T183000
DTEND;TZID=America/New_York:20250819T213000
DTSTAMP:20260423T221619
CREATED:20240614T192652Z
LAST-MODIFIED:20250815T153837Z
UID:10001815-1755628200-1755639000@www.bahailv.org
SUMMARY:Feast of Asma (Names). Hosted by Neisan & Alaleh Sabet on Tuesday\, August 19 at 6:15 p.m. at the Community Room of their apartment building. .  Click here for details.
DESCRIPTION:Hosts – Neisan & Alaleh Sabet – 215 740 5099 \nFriends to arrive by 6:15 to start 6:30 and followed by dinner.  \nDear Friends\,\n \nNeisan & Alaleh Sabet welcome you to the Feast of Asma (Names)\, which will be held on Tuesday\, August 19 at 6:15 p.m. at the Community Room of their apartment building.  This will then be followed by dinner.\n \nAddress:  Devonshire Park Apartment Community Room\,\n1641 33rd St. SW\, Allentown 18103.\n \nMobile for Neisan – 215 740 5099\n \nFor friends who are unable to join in person\, the zoom link was emailed directly.\n \nWarm regards\,\n \n\n  \n  \n 
URL:https://www.bahailv.org/event/feast-of-asma-names-host-tbd-click-here-for-details-4/
ATTACH;FMTTYPE=image/jpeg:https://www.bahailv.org/wp-content/uploads/2023/07/Feast-of-Asma-Names.jpeg
END:VEVENT
BEGIN:VEVENT
DTSTART;TZID=America/New_York:20250826T190000
DTEND;TZID=America/New_York:20250826T200000
DTSTAMP:20260423T221619
CREATED:20250814T203504Z
LAST-MODIFIED:20250814T204037Z
UID:10003214-1756234800-1756238400@www.bahailv.org
SUMMARY:Baha'i Monthly Firesides - organized by Roseann Bowerman & Bill and Bridget George.  Click here for details.
DESCRIPTION:  \nFor everyone interested in learning more about the Baha’i Faith.  Monthly Tuesdays at 7 p.m. at the home of Roseann Bowerman. \nPhone:  610 704 0026 \nemail: rb04@Lehigh.edu. \n  \nAmongst the most influential women of the 19th Century – Elizabeth Cady Stanton\, Susan B Anthony\, Sojourner Truth\, Lucretia Mott – one more name must be added – Tahirih (Taw-here-ray) – Persian Poetess and religious scholar (1815-1852).  You are warmly invited to hear her poetry\, learn of her remarkable life and the amazing historical coincidence that linked the cause of the emancipation of women in the United States to a tiny hamlet in Iran.  \nThe Bahai’s of the Nazareth Area are pleased to host our dear friend\, Laura Lawrence\, on Tuesday August 26 at 7:00 PM to share her knowledge and research into the historical impact of the life of Tahirih. Please come if you can. \nLocation: Home of Roseann Bowerman.
URL:https://www.bahailv.org/event/bahai-monthly-firesides-organized-by-roseann-bowerman-bill-and-bridget-george-click-here-for-details-2/
ATTACH;FMTTYPE=image/jpeg:https://www.bahailv.org/wp-content/uploads/2024/07/Firesides-2-e1746502911265.jpeg
END:VEVENT
BEGIN:VEVENT
DTSTART;TZID=America/New_York:20250829T080000
DTEND;TZID=America/New_York:20250829T170000
DTSTAMP:20260423T221619
CREATED:20250719T212658Z
LAST-MODIFIED:20250719T212658Z
UID:10003213-1756454400-1756486800@www.bahailv.org
SUMMARY:Camp Tabarsi - August 29 - September 1\, 2025
DESCRIPTION:Register Now for an Unforgettable Experience !\nWe are thrilled to announce that registration for Camp Tabarsi 2025 is now open! Join us on August 29 – September 1st. \nIn a world where conflict shows up in many forms—at school\, at home\, in our communities\, and across social media—junior youth have a powerful opportunity to rise above division and become agents of unity\, insight\, and healing. \nGrounded in the teachings of the Bahá’í Faith and inspired by guidance from the Universal House of Justice\, Camp Tabarsi 2025 will explore how young people can respond to the challenges of today’s world with spiritual strength\, moral clarity\, and purposeful action. \n\n\n\n\n\n\n\n\n\nThrough meaningful conversations\, creative workshops\, and joyful camp experiences\,we’ll uncover how true peace begins from within—shaped by our values\, guided by consultation\, and built through our relationships with others. Together\, we’ll learn to identify the root causes of conflict and develop tangible skills to contribute to peaceful resolutions in our families\, friendships\, neighborhoods\, and beyond. \nThis isn’t just a theme. It’s a call to action. \nJoin us this summer as we grow into true practitioners of peace. \n\n\n\n\n\n\n\n\n\n\n\n\n\nRegister Now!
URL:https://www.bahailv.org/event/camp-tabarsi-august-29-september-1-2025/
ATTACH;FMTTYPE=image/jpeg:https://www.bahailv.org/wp-content/uploads/2025/07/Camp-Tabarsi.jpeg
END:VEVENT
BEGIN:VEVENT
DTSTART;TZID=America/New_York:20250829T190000
DTEND;TZID=America/New_York:20250829T200000
DTSTAMP:20260423T221619
CREATED:20250609T164350Z
LAST-MODIFIED:20250609T164350Z
UID:10002396-1756494000-1756497600@www.bahailv.org
SUMMARY:Bi-weekly Friday night devotion/Study Circle in person or via Zoo.  Click here for details.
DESCRIPTION:Please join our Bi-weekly Friday night devotional/Study Circle in-person or via Zoom.\n\n\n\n\nTopic: varies each time7:00 PM Eastern Time (US and Canada).\n\nZoom link was directly emailed to friends\, however for direct zoom link to the devotions contact Shirin Khalighi: khalighi1@aol.com OR Gladys Nay: gladandlou@msn.com
URL:https://www.bahailv.org/event/bi-weekly-friday-night-devotion-study-circle-in-person-or-via-zoo-click-here-for-details/2025-08-29/
ATTACH;FMTTYPE=image/jpeg:https://www.bahailv.org/wp-content/uploads/2021/09/Devotions-3.jpeg
END:VEVENT
END:VCALENDAR