BEGIN:VCALENDAR
VERSION:2.0
PRODID:-//Lehigh Valley Bahai - ECPv6.15.20//NONSGML v1.0//EN
CALSCALE:GREGORIAN
METHOD:PUBLISH
X-ORIGINAL-URL:https://www.bahailv.org
X-WR-CALDESC:Events for Lehigh Valley Bahai
REFRESH-INTERVAL;VALUE=DURATION:PT1H
X-Robots-Tag:noindex
X-PUBLISHED-TTL:PT1H
BEGIN:VTIMEZONE
TZID:America/New_York
BEGIN:DAYLIGHT
TZOFFSETFROM:-0500
TZOFFSETTO:-0400
TZNAME:EDT
DTSTART:20240310T070000
END:DAYLIGHT
BEGIN:STANDARD
TZOFFSETFROM:-0400
TZOFFSETTO:-0500
TZNAME:EST
DTSTART:20241103T060000
END:STANDARD
BEGIN:DAYLIGHT
TZOFFSETFROM:-0500
TZOFFSETTO:-0400
TZNAME:EDT
DTSTART:20250309T070000
END:DAYLIGHT
BEGIN:STANDARD
TZOFFSETFROM:-0400
TZOFFSETTO:-0500
TZNAME:EST
DTSTART:20251102T060000
END:STANDARD
BEGIN:DAYLIGHT
TZOFFSETFROM:-0500
TZOFFSETTO:-0400
TZNAME:EDT
DTSTART:20260308T070000
END:DAYLIGHT
BEGIN:STANDARD
TZOFFSETFROM:-0400
TZOFFSETTO:-0500
TZNAME:EST
DTSTART:20261101T060000
END:STANDARD
END:VTIMEZONE
BEGIN:VEVENT
DTSTART;TZID=America/New_York:20250604T180000
DTEND;TZID=America/New_York:20250604T210000
DTSTAMP:20260424T013811
CREATED:20240614T190954Z
LAST-MODIFIED:20250529T224342Z
UID:10001811-1749060000-1749070800@www.bahailv.org
SUMMARY:Feast of Nur (Light). WEDNESDAY\, JUNE 4TH AT 6:00 pm   Hosted by the Lawrence family.   Click here for details.
DESCRIPTION: \nLaura and Henry Lawrence warmly invite you to the Feast of Nur (Light) at their home \n \nWEDNESDAY\, JUNE 4TH AT 6:00 pm  \n \nLIGHT dinner will be provided – For vegetarians too! 😉 (Dinner 6:00 PM Feast 6:30)\n \nAddress was emailed to the friends directly.\n \nFor friends who are not able to attend in person\, a zoom link was emailed to friends directly.\n\n\n\n\n\n\n\nWarmest regards\,\n\n\nLaura and Henry  ( 484 ) 934 1504.
URL:https://www.bahailv.org/event/feast-of-nur-light-host-tbd-click-here-for-details-3/
ATTACH;FMTTYPE=image/jpeg:https://www.bahailv.org/wp-content/uploads/2024/06/Feast-of-Nur-Light.jpeg
END:VEVENT
BEGIN:VEVENT
DTSTART;TZID=America/New_York:20250610T190000
DTEND;TZID=America/New_York:20250610T210000
DTSTAMP:20260424T013811
CREATED:20240701T181004Z
LAST-MODIFIED:20250506T034305Z
UID:10002379-1749582000-1749589200@www.bahailv.org
SUMMARY:Baha'i Monthly Firesides - organized by Roseann Bowerman & Bill & Bridget George.  Click here for details.
DESCRIPTION:  \nFor everyone interested in learning more about the Baha’i Faith\, \nMonthly Tuesdays at 7 p.m. \nAt the home of Roseann Bowerman: \nPhone: 610 704 0026 \nemail: rb04@Lehigh.edu
URL:https://www.bahailv.org/event/bahai-monthly-firesides-organized-by-roseann-bowerman-bill-bridget-george-click-here-for-details-2-2-2-2/2025-06-10/
ATTACH;FMTTYPE=image/jpeg:https://www.bahailv.org/wp-content/uploads/2024/07/Firesides-2-e1746502911265.jpeg
END:VEVENT
BEGIN:VEVENT
DTSTART;TZID=America/New_York:20250620T190000
DTEND;TZID=America/New_York:20250620T200000
DTSTAMP:20260424T013811
CREATED:20250503T191607Z
LAST-MODIFIED:20250609T014117Z
UID:10002377-1750446000-1750449600@www.bahailv.org
SUMMARY:Monthly Baha'i Basics.  An online introduction to the Baha'i Faith followed by discussion and Q&A.  Click here for details.
DESCRIPTION:Dear Friends\,\n\n \nIntroduction to the Baha’i Faith and discussions and Q&A following the introduction.  This is being held the second Friday of each month from 7-8 p.m. An email reminder with the Zoom link information will be emailed each month.   \n \nThis Fireside chat will feature a brief introduction to the Baha’i Teachings on the importance of religion and spirituality in creating harmony among the diverse nations\, races and religions of the world.  After the presentation there will be opportunity for questions and discussion by the participants.  This meeting is open to all.  Please invite friends and anyone who you think would be interested in learning about this topic.
URL:https://www.bahailv.org/event/monthly-bahai-basics-an-online-introduction-to-the-bahai-faith-followed-by-discussion-and-qa-click-here-for-details/
ATTACH;FMTTYPE=image/jpeg:https://www.bahailv.org/wp-content/uploads/2022/10/BB.jpeg
END:VEVENT
BEGIN:VEVENT
DTSTART;TZID=America/New_York:20250622T130000
DTEND;TZID=America/New_York:20250622T150000
DTSTAMP:20260424T013811
CREATED:20250228T184516Z
LAST-MODIFIED:20250228T184516Z
UID:10002338-1750597200-1750604400@www.bahailv.org
SUMMARY:Little Pond monthly Sunday devotions hosted by Bill & Bridget George. 1-3 p.m. at Little Pond\, Nazareth.  Click here for details.
DESCRIPTION:Dear Friends\,\n \nAs always\, the Devotional program will be followed by refreshments and discussion. It helps us to know if you are coming\, so please respond to bridgetgeorge9@gmail.com.\n \nWe do hope you will join us\, and of course you are welcome to forward this invitation to your friends.\nDirections to Little Pond can be found on our website\, https://littlepond.org/\n\n \nWe also thought it would be helpful to let you know the dates of the Little Pond Devotionals  April 2025 to January 2026.. All dates are Sundays at 1 pm on weekends that do not conflict with the Baha’i Learning Center activities.\n\n\nApril 6\nMay 18\nJune 22\nJuly 27\nAugust 24\nSeptember 21\nOctober 19\nNovember 16\nJanuary 4 – 2026.
URL:https://www.bahailv.org/event/little-pond-monthly-sunday-devotions-hosted-by-bill-bridget-george-1-3-p-m-at-little-pond-nazareth-click-here-for-details-2-2/
ATTACH;FMTTYPE=image/jpeg:https://www.bahailv.org/wp-content/uploads/2021/09/Devotions-3.jpeg
END:VEVENT
BEGIN:VEVENT
DTSTART;TZID=America/New_York:20250623T190000
DTEND;TZID=America/New_York:20250623T213000
DTSTAMP:20260424T013811
CREATED:20240614T191256Z
LAST-MODIFIED:20250620T044908Z
UID:10001812-1750705200-1750714200@www.bahailv.org
SUMMARY:Feast of Rahmat (Mercy).  Hosted by Marjan & Edward Joe-Kamara On Monday June 23rd\, starting at 7 p.m. Click here for details.
DESCRIPTION:Dear Friends\, \n \nMarjan & Edward Joe Kamara warmly welcome you to the Feast of Rahmat (Mercy)\, at their home in Easton\, PA. on Monday\, June 23rd starting at 7 p.m. \n \nFriends in the community were emailed the address directly.\n \nFor friends who are not able to join in person\, the zoom link was also emailed directly to the friends.\nhttps://us02web.zoom.us/j/84102431438?pwd=PrJiLN5OepbYqEUzx6ZuKnkJl7ToSe.1\n\n \nMobile: 609 358 2576.\n \nLooking forward to seeing you!\n \nWith kind regards\,
URL:https://www.bahailv.org/event/feast-of-rahmat-mercy-host-tbd-click-here-for-details/
ATTACH;FMTTYPE=image/jpeg:https://www.bahailv.org/wp-content/uploads/2023/07/Feast-of-Rahmat-Mercy.jpeg
END:VEVENT
BEGIN:VEVENT
DTSTART;TZID=America/New_York:20250627T190000
DTEND;TZID=America/New_York:20250627T200000
DTSTAMP:20260424T013811
CREATED:20250609T014333Z
LAST-MODIFIED:20250609T014404Z
UID:10002303-1751050800-1751054400@www.bahailv.org
SUMMARY:Bi-weekly Friday night devotional/Study Circle in person or via Zoom.  Click here for details.
DESCRIPTION:  \n  \nPlease join our Bi-weekly Friday night devotional/Study Circle in-person or via Zoom.\n\n\n\n\nTopic: varies each time7:00 PM Eastern Time (US and Canada).\n\nZoom link was directly emailed to friends\, however for direct zoom link to the devotions contact Shirin Khalighi: khalighi1@aol.com OR Gladys Nay: gladandlou@msn.com
URL:https://www.bahailv.org/event/bi-weekly-friday-night-devotional-study-circle-in-person-or-via-zoom-click-here-for-details-4-3/
ATTACH;FMTTYPE=image/jpeg:https://www.bahailv.org/wp-content/uploads/2021/09/Devotions-3.jpeg
END:VEVENT
BEGIN:VEVENT
DTSTART;TZID=America/New_York:20250628T120000
DTEND;TZID=America/New_York:20250628T170000
DTSTAMP:20260424T013811
CREATED:20250515T172437Z
LAST-MODIFIED:20250515T172607Z
UID:10002392-1751112000-1751130000@www.bahailv.org
SUMMARY:113th Annual Souvenir Unity Feast - Saturday\, June 28\, 2025 12:00 PM  1:00 PM Wilhelm Baha'i Properties126 Evergreen Place\, Teaneck\, NJ\, 07666
DESCRIPTION:113th Annual Souvenir Unity Feast\n\nSaturday\, June 28\, 2025\n12:00 PM  1:00 PM\n\n\nWilhelm Baha’i Properties126 Evergreen PlaceTeaneck\, NJ\, 07666United States (map)\n\n\n\n\n\n\n\n\n\nThe Wilhelm Bahá’í Properties are one of the oldest and most unique Bahá’í sites in the United States.  Built by eminent American Bahá’í Roy Wilhelm\, the grounds were blessed by the presence of `Abdu’l-Bahá in 1912.  After more than 50 years of imprisonment and exile with his father Bahá’u’lláh\, the Founder of the Bahá’í Faith\, `Abdu’l-Bahá journeyed to Europe and America where he shared and exemplified the Bahá’í teachings. \nFor the last 112 years\, Bahá’ís and local community members have annually commemorated `Abdu’l-Bahá’s 1912 visit to the Wilhelm Properties on the last Saturday of June. This year’s 113th Souvenir Unity Feast will be held on Saturday\, June 28th\, 2025. The day begins at noon and the program will be at 3pm.
URL:https://www.bahailv.org/event/113th-annual-souvenir-unity-feast-saturday-june-28-2025-1200-pm-100-pm-wilhelm-bahai-properties126-evergreen-place-teaneck-nj-07666/
ATTACH;FMTTYPE=image/jpeg:https://www.bahailv.org/wp-content/uploads/2022/01/teaneck.jpg
END:VEVENT
END:VCALENDAR