BEGIN:VCALENDAR
VERSION:2.0
PRODID:-//Lehigh Valley Bahai - ECPv6.15.20//NONSGML v1.0//EN
CALSCALE:GREGORIAN
METHOD:PUBLISH
X-ORIGINAL-URL:https://www.bahailv.org
X-WR-CALDESC:Events for Lehigh Valley Bahai
REFRESH-INTERVAL;VALUE=DURATION:PT1H
X-Robots-Tag:noindex
X-PUBLISHED-TTL:PT1H
BEGIN:VTIMEZONE
TZID:America/New_York
BEGIN:DAYLIGHT
TZOFFSETFROM:-0500
TZOFFSETTO:-0400
TZNAME:EDT
DTSTART:20230312T070000
END:DAYLIGHT
BEGIN:STANDARD
TZOFFSETFROM:-0400
TZOFFSETTO:-0500
TZNAME:EST
DTSTART:20231105T060000
END:STANDARD
BEGIN:DAYLIGHT
TZOFFSETFROM:-0500
TZOFFSETTO:-0400
TZNAME:EDT
DTSTART:20240310T070000
END:DAYLIGHT
BEGIN:STANDARD
TZOFFSETFROM:-0400
TZOFFSETTO:-0500
TZNAME:EST
DTSTART:20241103T060000
END:STANDARD
BEGIN:DAYLIGHT
TZOFFSETFROM:-0500
TZOFFSETTO:-0400
TZNAME:EDT
DTSTART:20250309T070000
END:DAYLIGHT
BEGIN:STANDARD
TZOFFSETFROM:-0400
TZOFFSETTO:-0500
TZNAME:EST
DTSTART:20251102T060000
END:STANDARD
END:VTIMEZONE
BEGIN:VEVENT
DTSTART;TZID=America/New_York:20240807T190000
DTEND;TZID=America/New_York:20240807T200000
DTSTAMP:20260424T171738
CREATED:20240610T191353Z
LAST-MODIFIED:20240610T191354Z
UID:10001764-1723057200-1723060800@www.bahailv.org
SUMMARY:Weekly Wednesday Spanish Devotions hosted by the Almonte family. Click here for details.
DESCRIPTION:Weekly Wednesday Spanish Devotions hosted by the Almonte family. Click here for details. Contact Ana: 484 620 7466.
URL:https://www.bahailv.org/event/weekly-wednesday-spanish-devotions-hosted-by-the-almonte-family-click-here-for-details-2/2024-08-07/
ATTACH;FMTTYPE=image/jpeg:https://www.bahailv.org/wp-content/uploads/2021/09/devotions_sm.jpg
END:VEVENT
BEGIN:VEVENT
DTSTART;TZID=America/New_York:20240809T190000
DTEND;TZID=America/New_York:20240809T200000
DTSTAMP:20260424T171738
CREATED:20240610T192110Z
LAST-MODIFIED:20240610T192110Z
UID:10001770-1723230000-1723233600@www.bahailv.org
SUMMARY:Bi-weekly Friday night devotions.  Click here for details.
DESCRIPTION:Please join our Bi-weekly Friday night devotional/Study Circle in-person or via Zoom.\n\n\n\n\nTopic: varies each time7:00 PM Eastern Time (US and Canada).\n\nZoom link was directly emailed to friends\, however for direct zoom link to the devotions contact Shirin Khalighi: khalighi1@aol.com OR Gladys Nay: gladandlou@msn.com
URL:https://www.bahailv.org/event/bi-weekly-friday-night-devotions-click-here-for-details-3/2024-08-09/
ATTACH;FMTTYPE=image/jpeg:https://www.bahailv.org/wp-content/uploads/2021/09/Devotions-3.jpeg
END:VEVENT
BEGIN:VEVENT
DTSTART;TZID=America/New_York:20240814T190000
DTEND;TZID=America/New_York:20240814T200000
DTSTAMP:20260424T171738
CREATED:20240610T191353Z
LAST-MODIFIED:20240610T191354Z
UID:10001765-1723662000-1723665600@www.bahailv.org
SUMMARY:Weekly Wednesday Spanish Devotions hosted by the Almonte family. Click here for details.
DESCRIPTION:Weekly Wednesday Spanish Devotions hosted by the Almonte family. Click here for details. Contact Ana: 484 620 7466.
URL:https://www.bahailv.org/event/weekly-wednesday-spanish-devotions-hosted-by-the-almonte-family-click-here-for-details-2/2024-08-14/
ATTACH;FMTTYPE=image/jpeg:https://www.bahailv.org/wp-content/uploads/2021/09/devotions_sm.jpg
END:VEVENT
BEGIN:VEVENT
DTSTART;TZID=America/New_York:20240816T190000
DTEND;TZID=America/New_York:20240816T200000
DTSTAMP:20260424T171738
CREATED:20240610T192857Z
LAST-MODIFIED:20240610T192858Z
UID:10001773-1723834800-1723838400@www.bahailv.org
SUMMARY:Monthly Baha'i Basics.  An online introduction to the Baha'i Faith and discussions and Q & A.  Click here for details.
DESCRIPTION:Dear Friends\,\n\n \nIntroduction to the Baha’i Faith and discussions and Q&A following the introduction.  This is being held the second Friday of each month from 7-8 p.m. An email reminder with the Zoom link information will be emailed each month.   \n \nThis Fireside chat will feature a brief introduction to the Baha’i Teachings on the importance of religion and spirituality in creating harmony among the diverse nations\, races and religions of the world.  After the presentation there will be opportunity for questions and discussion by the participants.  This meeting is open to all.  Please invite friends and anyone who you think would be interested in learning about this topic.
URL:https://www.bahailv.org/event/monthly-bahai-basics-an-online-introduction-to-the-bahai-faith-and-discussions-and-q-a-click-here-for-details/2024-08-16/
ATTACH;FMTTYPE=image/jpeg:https://www.bahailv.org/wp-content/uploads/2022/10/BB.jpeg
END:VEVENT
BEGIN:VEVENT
DTSTART;TZID=America/New_York:20240819T183000
DTEND;TZID=America/New_York:20240819T210000
DTSTAMP:20260424T171738
CREATED:20230711T232258Z
LAST-MODIFIED:20240801T234835Z
UID:10001409-1724092200-1724101200@www.bahailv.org
SUMMARY:Feast of Asma (Names). Host Pam Ptak. Click here for details.
DESCRIPTION:Host Pam Ptak.  Details TBD.
URL:https://www.bahailv.org/event/feast-of-asma-names-host-tbd-click-here-for-details-3/
ATTACH;FMTTYPE=image/jpeg:https://www.bahailv.org/wp-content/uploads/2023/07/Feast-of-Asma-Names.jpeg
END:VEVENT
BEGIN:VEVENT
DTSTART;TZID=America/New_York:20240820T190000
DTEND;TZID=America/New_York:20240820T210000
DTSTAMP:20260424T171738
CREATED:20240701T175249Z
LAST-MODIFIED:20240701T175524Z
UID:10001817-1724180400-1724187600@www.bahailv.org
SUMMARY:Baha'i Monthly Firesides - organized by Roseann Bowerman & Bill & Bridget George.  Click here for details.
DESCRIPTION:  \nFor everyone interested in learning more about the Baha’i Faith\, \nMonthly Tuesdays at 7 p.m. \nAt the home of Roseann Bowerman: \nPhone: 610 704 0026 \nemail: rb04@Lehigh.edu
URL:https://www.bahailv.org/event/bahai-monthly-firesides-organized-by-roseann-bowerman-bill-bridget-george-click-here-for-details-2/2024-08-20/
ATTACH;FMTTYPE=image/jpeg:https://www.bahailv.org/wp-content/uploads/2024/07/Fireside.jpeg
END:VEVENT
BEGIN:VEVENT
DTSTART;TZID=America/New_York:20240821T190000
DTEND;TZID=America/New_York:20240821T200000
DTSTAMP:20260424T171738
CREATED:20240610T191353Z
LAST-MODIFIED:20240610T191354Z
UID:10001766-1724266800-1724270400@www.bahailv.org
SUMMARY:Weekly Wednesday Spanish Devotions hosted by the Almonte family. Click here for details.
DESCRIPTION:Weekly Wednesday Spanish Devotions hosted by the Almonte family. Click here for details. Contact Ana: 484 620 7466.
URL:https://www.bahailv.org/event/weekly-wednesday-spanish-devotions-hosted-by-the-almonte-family-click-here-for-details-2/2024-08-21/
ATTACH;FMTTYPE=image/jpeg:https://www.bahailv.org/wp-content/uploads/2021/09/devotions_sm.jpg
END:VEVENT
BEGIN:VEVENT
DTSTART;TZID=America/New_York:20240823T190000
DTEND;TZID=America/New_York:20240823T200000
DTSTAMP:20260424T171738
CREATED:20240610T192110Z
LAST-MODIFIED:20240610T192110Z
UID:10001771-1724439600-1724443200@www.bahailv.org
SUMMARY:Bi-weekly Friday night devotions.  Click here for details.
DESCRIPTION:Please join our Bi-weekly Friday night devotional/Study Circle in-person or via Zoom.\n\n\n\n\nTopic: varies each time7:00 PM Eastern Time (US and Canada).\n\nZoom link was directly emailed to friends\, however for direct zoom link to the devotions contact Shirin Khalighi: khalighi1@aol.com OR Gladys Nay: gladandlou@msn.com
URL:https://www.bahailv.org/event/bi-weekly-friday-night-devotions-click-here-for-details-3/2024-08-23/
ATTACH;FMTTYPE=image/jpeg:https://www.bahailv.org/wp-content/uploads/2021/09/Devotions-3.jpeg
END:VEVENT
BEGIN:VEVENT
DTSTART;TZID=America/New_York:20240825T193000
DTEND;TZID=America/New_York:20240825T203000
DTSTAMP:20260424T171738
CREATED:20240825T203839Z
LAST-MODIFIED:20240825T211030Z
UID:10001917-1724614200-1724617800@www.bahailv.org
SUMMARY:Sunday night Zoom Healing Devotions hosted by Moira & Randy Padfield.  Click here for details.
DESCRIPTION:Dear friends\,  \nThe Padfield family are hosting a devotional via Zoom Sunday evening at 7:30pm and each Sunday thereafter.  Link will be emailed to the friends directly.  We will be saying prayers for Richard Beane (our son-in-law in Belize) and Shirin’s sister as well as others in the community in need of healing prayers. We will also offer healing prayers for our community\, country and the world.   \nWe would be happy to have you join us and would welcome anything you would like to contribute in the form of prayers\, Writings\, or poems.   \nWe hope to see you on Sunday night.  Zoom link was emailed to the friends directly. \nWith loving regards\, \nRandy & Moira
URL:https://www.bahailv.org/event/sunday-night-zoom-healing-devotions-hosted-by-moira-randy-padfield-click-here-for-details-10/2024-08-25/
ATTACH;FMTTYPE=image/jpeg:https://www.bahailv.org/wp-content/uploads/2020/05/devotions.jpg
END:VEVENT
BEGIN:VEVENT
DTSTART;TZID=America/New_York:20240828T190000
DTEND;TZID=America/New_York:20240828T200000
DTSTAMP:20260424T171738
CREATED:20240610T191353Z
LAST-MODIFIED:20240610T191354Z
UID:10001767-1724871600-1724875200@www.bahailv.org
SUMMARY:Weekly Wednesday Spanish Devotions hosted by the Almonte family. Click here for details.
DESCRIPTION:Weekly Wednesday Spanish Devotions hosted by the Almonte family. Click here for details. Contact Ana: 484 620 7466.
URL:https://www.bahailv.org/event/weekly-wednesday-spanish-devotions-hosted-by-the-almonte-family-click-here-for-details-2/2024-08-28/
ATTACH;FMTTYPE=image/jpeg:https://www.bahailv.org/wp-content/uploads/2021/09/devotions_sm.jpg
END:VEVENT
END:VCALENDAR