BEGIN:VCALENDAR
VERSION:2.0
PRODID:-//Lehigh Valley Bahai - ECPv6.15.20//NONSGML v1.0//EN
CALSCALE:GREGORIAN
METHOD:PUBLISH
X-WR-CALNAME:Lehigh Valley Bahai
X-ORIGINAL-URL:https://www.bahailv.org
X-WR-CALDESC:Events for Lehigh Valley Bahai
REFRESH-INTERVAL;VALUE=DURATION:PT1H
X-Robots-Tag:noindex
X-PUBLISHED-TTL:PT1H
BEGIN:VTIMEZONE
TZID:America/New_York
BEGIN:DAYLIGHT
TZOFFSETFROM:-0500
TZOFFSETTO:-0400
TZNAME:EDT
DTSTART:20210314T070000
END:DAYLIGHT
BEGIN:STANDARD
TZOFFSETFROM:-0400
TZOFFSETTO:-0500
TZNAME:EST
DTSTART:20211107T060000
END:STANDARD
BEGIN:DAYLIGHT
TZOFFSETFROM:-0500
TZOFFSETTO:-0400
TZNAME:EDT
DTSTART:20220313T070000
END:DAYLIGHT
BEGIN:STANDARD
TZOFFSETFROM:-0400
TZOFFSETTO:-0500
TZNAME:EST
DTSTART:20221106T060000
END:STANDARD
BEGIN:DAYLIGHT
TZOFFSETFROM:-0500
TZOFFSETTO:-0400
TZNAME:EDT
DTSTART:20230312T070000
END:DAYLIGHT
BEGIN:STANDARD
TZOFFSETFROM:-0400
TZOFFSETTO:-0500
TZNAME:EST
DTSTART:20231105T060000
END:STANDARD
END:VTIMEZONE
BEGIN:VEVENT
DTSTART;TZID=America/New_York:20221102T190000
DTEND;TZID=America/New_York:20221102T200000
DTSTAMP:20260425T232755
CREATED:20220731T021540Z
LAST-MODIFIED:20221003T032215Z
UID:10000455-1667415600-1667419200@www.bahailv.org
SUMMARY:Weekly on Wednesdays – Spanish language devotions hosted by Ana & Ivan Almonte. Click here for details.
DESCRIPTION:Weekly on Wednesdays – Spanish language devotions hosted by Ana & Ivan Almonte.
URL:https://www.bahailv.org/event/weekly-on-wednesdays-spanish-language-devotions-hosted-by-ana-ivan-almonte-click-here-for-details-13/2022-11-02/
ATTACH;FMTTYPE=image/jpeg:https://www.bahailv.org/wp-content/uploads/2021/09/devotions_sm.jpg
END:VEVENT
BEGIN:VEVENT
DTSTART;TZID=America/New_York:20221104T190000
DTEND;TZID=America/New_York:20221104T200000
DTSTAMP:20260425T232755
CREATED:20221015T004552Z
LAST-MODIFIED:20221015T004553Z
UID:10000996-1667588400-1667592000@www.bahailv.org
SUMMARY:Bi-weekly Friday night ZOOM  devotions/Ruhi 1 facilitated by Khalighis & Gladys Nay.  Click here for details.
DESCRIPTION:Dear Friends\,\n \nPlease join our Bi-weekly Friday night devotional/Ruhi 1 via Zoom.\n\n\n\n\nTopic: varies each time7:00 PM Eastern Time (US and Canada).\n\nZoom link was directly emailed to friends\, however for direct zoom link to the devotions contact Shirin Khalighi: khalighi1@aol.com OR Gladys Nay: gladandlou@msn.com 
URL:https://www.bahailv.org/event/bi-weekly-friday-night-zoom-devotions-ruhi-1-facilitated-by-khalighis-gladys-nay-click-here-for-details/
ATTACH;FMTTYPE=image/jpeg:https://www.bahailv.org/wp-content/uploads/2021/09/Devotions-3.jpeg
END:VEVENT
BEGIN:VEVENT
DTSTART;TZID=America/New_York:20221105T170000
DTEND;TZID=America/New_York:20221105T200000
DTSTAMP:20260425T232755
CREATED:20220809T162322Z
LAST-MODIFIED:20221029T181310Z
UID:10000477-1667667600-1667678400@www.bahailv.org
SUMMARY:In person/Zoom Feast of Qudrat (Power) to be hosted by Moira & Randy Padfield.  Click here for details.
DESCRIPTION:Hosts – Moira & Randy Padfield invite you to join them for the Feast of Qudrat which will begin at 5 pm with soup and salad and then followed by devotional at 6 p.m.  This Feast also has a Zoom option. Please let Moira know if you plan to come for dinner at 5PM so that they can prepare enough food.\n \nPhone:  610 703 2874.
URL:https://www.bahailv.org/event/feast-of-qudrat-power-to-be-hosted-by-moira-randy-padfield-click-here-for-details/
ATTACH;FMTTYPE=image/jpeg:https://www.bahailv.org/wp-content/uploads/2021/08/Feast.jpg
END:VEVENT
BEGIN:VEVENT
DTSTART;TZID=America/New_York:20221106T100000
DTEND;TZID=America/New_York:20221106T120000
DTSTAMP:20260425T232755
CREATED:20221008T225708Z
LAST-MODIFIED:20221009T191221Z
UID:10000547-1667728800-1667736000@www.bahailv.org
SUMMARY:Baha’i Learning Center 10am-12noon at Lehigh Valley Center for Sight\, Allentown\, PA  18104. 
DESCRIPTION:Dear friends please join us for the start of the Baha’i Learning Center in person. \nBaha’i Learning Center 10am-12noon.  Location: In person at Houman Ahdieh’s office\, Lehigh Valley Center for Sight\, 1739 West Fairmont Street\, Allentown\, PA  18104. \n\n\nWe look forward to seeing you\,  Moira Padfield for the LSA of Bethlehem Township
URL:https://www.bahailv.org/event/bahai-learning-center-10am-12noon-at-lehigh-valley-center-for-sight-allentown-pa-18104/
ATTACH;FMTTYPE=image/jpeg:https://www.bahailv.org/wp-content/uploads/2021/03/Childrens-classes.jpeg
END:VEVENT
BEGIN:VEVENT
DTSTART;TZID=America/New_York:20221106T193000
DTEND;TZID=America/New_York:20221106T203000
DTSTAMP:20260425T232755
CREATED:20211212T164718Z
LAST-MODIFIED:20211231T031351Z
UID:10000336-1667763000-1667766600@www.bahailv.org
SUMMARY:Sunday night Healing Devotionals via Zoom - hosted by Moira & Randy Padfield.  Click here for details.
DESCRIPTION:Sunday healing devotional beginning at 7:30pm on Zoom.  People can contact Randy at 201-315-3681 for the link.  We are going to try to host this once a week on Sundays at 7:30pm. People should feel free to bring a prayer\, poem or Writing to share if they would like. \nDear friends\,  \nThe Padfield family are hosting a devotional via Zoom (link below) this Sunday evening November 8\, at 7:30pm and each Sunday thereafter.   We will be saying prayers for Richard Beane (our son-in-law in Belize) and Shirin’s sister as well as others in the community in need of healing prayers. We will also offer healing prayers for our community\, country and the world.   \nWe would be happy to have you join us and would welcome anything you would like to contribute in the form of prayers\, Writings\, or poems.   \nWe hope to see you on Sunday night. \nWith loving regards\,
URL:https://www.bahailv.org/event/sunday-nigh-healing-devotionals-via-zoom-hosted-by-moira-randy-padfield-click-here-for-details/2022-11-06/
ATTACH;FMTTYPE=image/jpeg:https://www.bahailv.org/wp-content/uploads/2020/05/devotions.jpg
END:VEVENT
BEGIN:VEVENT
DTSTART;TZID=America/New_York:20221109T190000
DTEND;TZID=America/New_York:20221109T200000
DTSTAMP:20260425T232755
CREATED:20220731T021540Z
LAST-MODIFIED:20221003T032215Z
UID:10000456-1668020400-1668024000@www.bahailv.org
SUMMARY:Weekly on Wednesdays – Spanish language devotions hosted by Ana & Ivan Almonte. Click here for details.
DESCRIPTION:Weekly on Wednesdays – Spanish language devotions hosted by Ana & Ivan Almonte.
URL:https://www.bahailv.org/event/weekly-on-wednesdays-spanish-language-devotions-hosted-by-ana-ivan-almonte-click-here-for-details-13/2022-11-09/
ATTACH;FMTTYPE=image/jpeg:https://www.bahailv.org/wp-content/uploads/2021/09/devotions_sm.jpg
END:VEVENT
BEGIN:VEVENT
DTSTART;TZID=America/New_York:20221110T190000
DTEND;TZID=America/New_York:20221110T210000
DTSTAMP:20260425T232755
CREATED:20221014T143623Z
LAST-MODIFIED:20221014T143624Z
UID:10000995-1668106800-1668114000@www.bahailv.org
SUMMARY:Meeting of the Local Spiritual Assembly of the Baha’is of Bethlehem Township. Click here for details.
DESCRIPTION:Meeting of the Local Spiritual Assembly of the Baha’is of Bethlehem Township. 7 p.m. to 9 p.m. November 10\, 2022.
URL:https://www.bahailv.org/event/meeting-of-the-local-spiritual-assembly-of-the-bahais-of-bethlehem-township-click-here-for-details-2/
ATTACH;FMTTYPE=image/jpeg:https://www.bahailv.org/wp-content/uploads/2021/12/LSA-BT.jpeg
END:VEVENT
BEGIN:VEVENT
DTSTART;TZID=America/New_York:20221113T100000
DTEND;TZID=America/New_York:20221113T120000
DTSTAMP:20260425T232755
CREATED:20221014T132726Z
LAST-MODIFIED:20221123T154214Z
UID:10000974-1668333600-1668340800@www.bahailv.org
SUMMARY:On line study of the 9 Year Plan. Click here for details.
DESCRIPTION:Starting study of the 9 Year Plan on October 30 from 10 am to 12 pm.  Several Sundays until we finish the booklets. \nZoom link will be emailed to friends from Phil Dunmire.
URL:https://www.bahailv.org/event/on-line-study-of-the-9-year-plan-3/2022-11-13/
ATTACH;FMTTYPE=image/webp:https://www.bahailv.org/wp-content/uploads/2022/10/The-Nine-Year-Plan-2022-2031.webp
END:VEVENT
BEGIN:VEVENT
DTSTART;TZID=America/New_York:20221113T193000
DTEND;TZID=America/New_York:20221113T203000
DTSTAMP:20260425T232755
CREATED:20211212T164718Z
LAST-MODIFIED:20211231T031351Z
UID:10000337-1668367800-1668371400@www.bahailv.org
SUMMARY:Sunday night Healing Devotionals via Zoom - hosted by Moira & Randy Padfield.  Click here for details.
DESCRIPTION:Sunday healing devotional beginning at 7:30pm on Zoom.  People can contact Randy at 201-315-3681 for the link.  We are going to try to host this once a week on Sundays at 7:30pm. People should feel free to bring a prayer\, poem or Writing to share if they would like. \nDear friends\,  \nThe Padfield family are hosting a devotional via Zoom (link below) this Sunday evening November 8\, at 7:30pm and each Sunday thereafter.   We will be saying prayers for Richard Beane (our son-in-law in Belize) and Shirin’s sister as well as others in the community in need of healing prayers. We will also offer healing prayers for our community\, country and the world.   \nWe would be happy to have you join us and would welcome anything you would like to contribute in the form of prayers\, Writings\, or poems.   \nWe hope to see you on Sunday night. \nWith loving regards\,
URL:https://www.bahailv.org/event/sunday-nigh-healing-devotionals-via-zoom-hosted-by-moira-randy-padfield-click-here-for-details/2022-11-13/
ATTACH;FMTTYPE=image/jpeg:https://www.bahailv.org/wp-content/uploads/2020/05/devotions.jpg
END:VEVENT
BEGIN:VEVENT
DTSTART;TZID=America/New_York:20221114T190000
DTEND;TZID=America/New_York:20221114T200000
DTSTAMP:20260425T232755
CREATED:20221014T134316Z
LAST-MODIFIED:20221014T134635Z
UID:10000975-1668452400-1668456000@www.bahailv.org
SUMMARY:Monthly Bahai Basics. An online Introduction to the Baha'i Faith and discussions and Q&A. Click here for details.
DESCRIPTION:Dear Friends\,\n\n\n \n\nIntroduction to the Baha’i Faith and discussions and Q&A following the introduction.  This is being held the second Monday of each month from 7-8 p.m. An email reminder with the Zoom link information will be emailed each month.   \n \nThis Fireside chat will feature a brief introduction to the Baha’i Teachings on the importance of religion and spirituality in creating harmony among the diverse nations\, races and religions of the world.  After the presentation there will be opportunity for questions and discussion by the participants.  This meeting is open to all.  Please invite friends and anyone who you think would be interested in learning about this topic.
URL:https://www.bahailv.org/event/bahai-basics/
ATTACH;FMTTYPE=image/jpeg:https://www.bahailv.org/wp-content/uploads/2022/10/BB.jpeg
END:VEVENT
BEGIN:VEVENT
DTSTART;TZID=America/New_York:20221116T190000
DTEND;TZID=America/New_York:20221116T200000
DTSTAMP:20260425T232755
CREATED:20220731T021540Z
LAST-MODIFIED:20221003T032215Z
UID:10000457-1668625200-1668628800@www.bahailv.org
SUMMARY:Weekly on Wednesdays – Spanish language devotions hosted by Ana & Ivan Almonte. Click here for details.
DESCRIPTION:Weekly on Wednesdays – Spanish language devotions hosted by Ana & Ivan Almonte.
URL:https://www.bahailv.org/event/weekly-on-wednesdays-spanish-language-devotions-hosted-by-ana-ivan-almonte-click-here-for-details-13/2022-11-16/
ATTACH;FMTTYPE=image/jpeg:https://www.bahailv.org/wp-content/uploads/2021/09/devotions_sm.jpg
END:VEVENT
BEGIN:VEVENT
DTSTART;TZID=America/New_York:20221118T190000
DTEND;TZID=America/New_York:20221118T200000
DTSTAMP:20260425T232755
CREATED:20220731T022628Z
LAST-MODIFIED:20221126T031537Z
UID:10000470-1668798000-1668801600@www.bahailv.org
SUMMARY:Bi-weekly Friday night devotions/Ruhi 1 facilitated by Khalighis & Gladys Nay.  Click here for details.
DESCRIPTION:Dear Friends\,\n \nPlease join our Bi-weekly Friday night devotional/Ruhi 1 via Zoom.\n\n\n\n\nTopic: varies each time7:00 PM Eastern Time (US and Canada).\n\nZoom link was directly emailed to friends\, however for direct zoom link to the devotions contact Shirin Khalighi: khalighi1@aol.com OR Gladys Nay: gladandlou@msn.com 
URL:https://www.bahailv.org/event/bi-weekly-friday-night-devotions-ruhi-1-facilitated-by-khalighis-gladys-nay/2022-11-18/
ATTACH;FMTTYPE=image/jpeg:https://www.bahailv.org/wp-content/uploads/2021/09/Devotions-3.jpeg
END:VEVENT
BEGIN:VEVENT
DTSTART;TZID=America/New_York:20221120T100000
DTEND;TZID=America/New_York:20221120T120000
DTSTAMP:20260425T232755
CREATED:20221008T230335Z
LAST-MODIFIED:20221109T004424Z
UID:10000548-1668938400-1668945600@www.bahailv.org
SUMMARY:In person Baha’i Learning Center 10am-12noon at Lehigh Valley Center for Sight\, Allentown\, PA  18104. 
DESCRIPTION:Dear friends please join us for the start of the Baha’i Learning Center in person. \nBaha’i Learning Center 10am-12noon.  Location: In person at Houman Ahdieh’s office\, Lehigh Valley Center for Sight\, 1739 West Fairmont Street\, Allentown\, PA  18104. \n\n\nWe look forward to seeing you\,  Moira Padfield for the LSA of Bethlehem Township.\n\n\n\nBAHA’I LEARNING CENTER STARTS NOV. 20 ! \nWhere: LV Center for Sight\, 1739 W. Fairmont St. Allentown (lower level) \nWhen: 10am to Noon\, every other Sunday* \nWhat: \n\nA new\, in person\, Children’s Class\nDevotions\, Snacks\, Adult Study\nOpportunity to become a protagonist in the profound spiritual and social transformation         of humanity\n\nWho: \n\nChildren\, ages 5 – 10\nJr. Youth\, 11- 15 can assist as children’s class teacher aides.\n\n(We hope to start a Jr. Youth Spiritual Empowerment Program in the near future) \n\nYouth and Adults – 16 to 100+\n\n  \n*Mark your calendar\, dates for 2022 – 2023 \nNovember 20; Dec. 4 & 18; Jan 8 & 22\, Feb. 5 & 19; March 5 & 19; Apr 2\, 16 and 30. \n(additional dates may be added until Summer) Need more info? Contact rb04@lehigh.edu
URL:https://www.bahailv.org/event/in-person-bahai-learning-center-10am-12noon-at-lehigh-valley-center-for-sight-allentown-pa-18104/
ATTACH;FMTTYPE=image/jpeg:https://www.bahailv.org/wp-content/uploads/2021/03/Childrens-classes.jpeg
END:VEVENT
BEGIN:VEVENT
DTSTART;TZID=America/New_York:20221120T130000
DTEND;TZID=America/New_York:20221120T140000
DTSTAMP:20260425T232755
CREATED:20220108T230606Z
LAST-MODIFIED:20220117T140711Z
UID:10000393-1668949200-1668952800@www.bahailv.org
SUMMARY:Monthly Sunday Zoom devotions hosted by Bill & Bridget George starting at 1 p.m.
DESCRIPTION:Devotions hosted by Bill & Bridget George on Sundays at 1 p.m.  Contact Bill @ 610 570 1335.
URL:https://www.bahailv.org/event/monthly-devotions-hosted-by-bill-bridget-george-2022-04-03/2022-11-20/
ATTACH;FMTTYPE=image/jpeg:https://www.bahailv.org/wp-content/uploads/2021/09/Devotions-3.jpeg
END:VEVENT
BEGIN:VEVENT
DTSTART;TZID=America/New_York:20221120T193000
DTEND;TZID=America/New_York:20221120T203000
DTSTAMP:20260425T232755
CREATED:20211212T164718Z
LAST-MODIFIED:20211231T031351Z
UID:10000338-1668972600-1668976200@www.bahailv.org
SUMMARY:Sunday night Healing Devotionals via Zoom - hosted by Moira & Randy Padfield.  Click here for details.
DESCRIPTION:Sunday healing devotional beginning at 7:30pm on Zoom.  People can contact Randy at 201-315-3681 for the link.  We are going to try to host this once a week on Sundays at 7:30pm. People should feel free to bring a prayer\, poem or Writing to share if they would like. \nDear friends\,  \nThe Padfield family are hosting a devotional via Zoom (link below) this Sunday evening November 8\, at 7:30pm and each Sunday thereafter.   We will be saying prayers for Richard Beane (our son-in-law in Belize) and Shirin’s sister as well as others in the community in need of healing prayers. We will also offer healing prayers for our community\, country and the world.   \nWe would be happy to have you join us and would welcome anything you would like to contribute in the form of prayers\, Writings\, or poems.   \nWe hope to see you on Sunday night. \nWith loving regards\,
URL:https://www.bahailv.org/event/sunday-nigh-healing-devotionals-via-zoom-hosted-by-moira-randy-padfield-click-here-for-details/2022-11-20/
ATTACH;FMTTYPE=image/jpeg:https://www.bahailv.org/wp-content/uploads/2020/05/devotions.jpg
END:VEVENT
BEGIN:VEVENT
DTSTART;TZID=America/New_York:20221126T170000
DTEND;TZID=America/New_York:20221126T170000
DTSTAMP:20260425T232755
CREATED:20220809T162558Z
LAST-MODIFIED:20221121T002846Z
UID:10000478-1669482000-1669482000@www.bahailv.org
SUMMARY:Feast of Qawl (Speech) hosted by Shirin & Koroush Khalighi at 5 p.m. followed by dinner.  Click here for details.
DESCRIPTION:Hosts Shirin & Koroush Khalighi warmly invite you to the Feast of Qawl (Speech) at 5 p.m.followed by dinner. \nPhone (484) 894-1666\n \n 
URL:https://www.bahailv.org/event/feast-of-qawl-speech-host-tbd-2/
ATTACH;FMTTYPE=image/jpeg:https://www.bahailv.org/wp-content/uploads/2021/08/Feast.jpg
END:VEVENT
BEGIN:VEVENT
DTSTART;TZID=America/New_York:20221127T130000
DTEND;TZID=America/New_York:20221127T150000
DTSTAMP:20260425T232755
CREATED:20221121T003736Z
LAST-MODIFIED:20221121T003737Z
UID:10001006-1669554000-1669561200@www.bahailv.org
SUMMARY:Sunday's "Thanksgiving" Devotional) in memory of Kevin Locke at Little Pond - 1 pm Sunday\, November 27th.
DESCRIPTION:There will be a Devotional (one week after this coming Sunday’s “Thanksgiving” Devotional) in memory of Kevin Locke at Little Pond.  It appears a few of the friends from Philadelphia may join us.  We will be singing (Rob Aptaker will) songs in Kevin’s native language\, doing a remembrance\, sharing stories (perhaps you have one to share?).  There will be a fire outdoors.  This is not virtual.  Pot luck afterwards…but nothing too substantial.  Just a chance to sit and tell stories together as we eat light refreshments. Please come. 1 pm Sunday\, November 27th.\nAllah’u’abha!\nBill
URL:https://www.bahailv.org/event/sundays-thanksgiving-devotional-in-memory-of-kevin-locke-at-little-pond-1-pm-sunday-november-27th/
ATTACH;FMTTYPE=image/jpeg:https://www.bahailv.org/wp-content/uploads/2021/09/Devotions-3.jpeg
END:VEVENT
BEGIN:VEVENT
DTSTART;TZID=America/New_York:20221127T193000
DTEND;TZID=America/New_York:20221127T203000
DTSTAMP:20260425T232755
CREATED:20211212T164718Z
LAST-MODIFIED:20211231T031351Z
UID:10000339-1669577400-1669581000@www.bahailv.org
SUMMARY:Sunday night Healing Devotionals via Zoom - hosted by Moira & Randy Padfield.  Click here for details.
DESCRIPTION:Sunday healing devotional beginning at 7:30pm on Zoom.  People can contact Randy at 201-315-3681 for the link.  We are going to try to host this once a week on Sundays at 7:30pm. People should feel free to bring a prayer\, poem or Writing to share if they would like. \nDear friends\,  \nThe Padfield family are hosting a devotional via Zoom (link below) this Sunday evening November 8\, at 7:30pm and each Sunday thereafter.   We will be saying prayers for Richard Beane (our son-in-law in Belize) and Shirin’s sister as well as others in the community in need of healing prayers. We will also offer healing prayers for our community\, country and the world.   \nWe would be happy to have you join us and would welcome anything you would like to contribute in the form of prayers\, Writings\, or poems.   \nWe hope to see you on Sunday night. \nWith loving regards\,
URL:https://www.bahailv.org/event/sunday-nigh-healing-devotionals-via-zoom-hosted-by-moira-randy-padfield-click-here-for-details/2022-11-27/
ATTACH;FMTTYPE=image/jpeg:https://www.bahailv.org/wp-content/uploads/2020/05/devotions.jpg
END:VEVENT
BEGIN:VEVENT
DTSTART;TZID=America/New_York:20221128T010000
DTEND;TZID=America/New_York:20221128T020000
DTSTAMP:20260425T232755
CREATED:20211005T233141Z
LAST-MODIFIED:20211005T233141Z
UID:10000276-1669597200-1669600800@www.bahailv.org
SUMMARY:Observation for the Ascension of Abdul Baha. Private prayers.  Click here for details.
DESCRIPTION:Private prayers – 1 a.m. to 2 a.m.
URL:https://www.bahailv.org/event/observation-for-the-ascension-of-abdul-baha-private-prayers-click-here-for-details/
ATTACH;FMTTYPE=image/png:https://www.bahailv.org/wp-content/uploads/2020/05/abdul-baha.png
END:VEVENT
BEGIN:VEVENT
DTSTART;TZID=America/New_York:20221130T190000
DTEND;TZID=America/New_York:20221130T200000
DTSTAMP:20260425T232755
CREATED:20221123T214213Z
LAST-MODIFIED:20221123T214214Z
UID:10001045-1669834800-1669838400@www.bahailv.org
SUMMARY:Weekly on Wednesdays – Spanish language devotions hosted by Ana & Ivan Almonte. Click here for details.
DESCRIPTION:Weekly on Wednesdays – Spanish language devotions hosted by Ana & Ivan Almonte.
URL:https://www.bahailv.org/event/weekly-on-wednesdays-spanish-language-devotions-hosted-by-ana-ivan-almonte-click-here-for-details-14/
ATTACH;FMTTYPE=image/jpeg:https://www.bahailv.org/wp-content/uploads/2021/09/devotions_sm.jpg
END:VEVENT
END:VCALENDAR