BEGIN:VCALENDAR
VERSION:2.0
PRODID:-//Lehigh Valley Bahai - ECPv6.15.20//NONSGML v1.0//EN
CALSCALE:GREGORIAN
METHOD:PUBLISH
X-WR-CALNAME:Lehigh Valley Bahai
X-ORIGINAL-URL:https://www.bahailv.org
X-WR-CALDESC:Events for Lehigh Valley Bahai
REFRESH-INTERVAL;VALUE=DURATION:PT1H
X-Robots-Tag:noindex
X-PUBLISHED-TTL:PT1H
BEGIN:VTIMEZONE
TZID:America/New_York
BEGIN:DAYLIGHT
TZOFFSETFROM:-0500
TZOFFSETTO:-0400
TZNAME:EDT
DTSTART:20230312T070000
END:DAYLIGHT
BEGIN:STANDARD
TZOFFSETFROM:-0400
TZOFFSETTO:-0500
TZNAME:EST
DTSTART:20231105T060000
END:STANDARD
BEGIN:DAYLIGHT
TZOFFSETFROM:-0500
TZOFFSETTO:-0400
TZNAME:EDT
DTSTART:20240310T070000
END:DAYLIGHT
BEGIN:STANDARD
TZOFFSETFROM:-0400
TZOFFSETTO:-0500
TZNAME:EST
DTSTART:20241103T060000
END:STANDARD
BEGIN:DAYLIGHT
TZOFFSETFROM:-0500
TZOFFSETTO:-0400
TZNAME:EDT
DTSTART:20250309T070000
END:DAYLIGHT
BEGIN:STANDARD
TZOFFSETFROM:-0400
TZOFFSETTO:-0500
TZNAME:EST
DTSTART:20251102T060000
END:STANDARD
END:VTIMEZONE
BEGIN:VEVENT
DTSTART;TZID=America/New_York:20240303T100000
DTEND;TZID=America/New_York:20240303T120000
DTSTAMP:20260425T111719
CREATED:20230807T191606Z
LAST-MODIFIED:20230807T191607Z
UID:10001424-1709460000-1709467200@www.bahailv.org
SUMMARY:Bahai Learning Center
DESCRIPTION:Bahai Learning Center Schedule : Fall 2023 to Spring 2024. \n  \nStart time is 10 a.m. however Zoom attendees can join at 10:30 a.m.  Link will be emailed to the friends directly. \n 
URL:https://www.bahailv.org/event/bahai-learning-center-5/
ATTACH;FMTTYPE=image/jpeg:https://www.bahailv.org/wp-content/uploads/2021/03/Childrens-classes.jpeg
END:VEVENT
BEGIN:VEVENT
DTSTART;TZID=America/New_York:20240303T190000
DTEND;TZID=America/New_York:20240303T203000
DTSTAMP:20260425T111719
CREATED:20231207T155722Z
LAST-MODIFIED:20231207T160440Z
UID:10001487-1709492400-1709497800@www.bahailv.org
SUMMARY:Zoom study of Book 5 - Releasing the Powers Of Junior Youth.
DESCRIPTION:Releasing the Powers\nOf Junior Youth\n…for Youth and Young Adults ages 15 to 25+\nThe Baha’is of the Lehigh Valley\, in collaboration with Camp Tabarsi’s Suzan Gould and Little Pond Arts Retreat\, will hold a Zoom study of Book 5 (with one or two in-person meetings) \n\n\nBeginning Sunday\, Jan 7 and meeting regularly every other Sunday at 7 pm to 8:30 and is looking for participants\nPlease follow the link to this interest form to sign up: Book 5 Interest Form\nFacilitated by Suzan Gould\nAdmission is free; contributions accepted; registration required\n \n“The transformation in the individual and in society are intimately linked.\nDeveloping one’s potential and working for the welfare of society cannot be separated\,\nfor a person’s moral standards and behavior shape his or her environment\nand in turn are molded by the structure of society.”
URL:https://www.bahailv.org/event/zoom-study-releasing-the-powers-of-junior-youth-ruhi-book-5/2024-03-03/
ATTACH;FMTTYPE=image/jpeg:https://www.bahailv.org/wp-content/uploads/2023/12/Releasing-the-Power.jpeg
END:VEVENT
BEGIN:VEVENT
DTSTART;TZID=America/New_York:20240303T193000
DTEND;TZID=America/New_York:20240303T193000
DTSTAMP:20260425T111719
CREATED:20230625T020626Z
LAST-MODIFIED:20230625T020828Z
UID:10001340-1709494200-1709494200@www.bahailv.org
SUMMARY:Sunday night Zoom Healing Devotions hosted by Moira & Randy Padfield. Click here for details.
DESCRIPTION:Dear friends\,  \nThe Padfield family are hosting a devotional via Zoom Sunday evening at 7:30pm and each Sunday thereafter.  Link will be emailed to the friends directly.  We will be saying prayers for Richard Beane (our son-in-law in Belize) and Shirin’s sister as well as others in the community in need of healing prayers. We will also offer healing prayers for our community\, country and the world.   \nWe would be happy to have you join us and would welcome anything you would like to contribute in the form of prayers\, Writings\, or poems.   \nWe hope to see you on Sunday night.  Zoom link was emailed to the friends directly. \nWith loving regards\,
URL:https://www.bahailv.org/event/4523/2024-03-03/
ATTACH;FMTTYPE=image/jpeg:https://www.bahailv.org/wp-content/uploads/2020/05/devotions.jpg
END:VEVENT
BEGIN:VEVENT
DTSTART;TZID=America/New_York:20240304T062800
DTEND;TZID=America/New_York:20240304T175700
DTSTAMP:20260425T111719
CREATED:20231118T205752Z
LAST-MODIFIED:20231118T205752Z
UID:10001442-1709533680-1709575020@www.bahailv.org
SUMMARY:Bahai Fast\, March 1-19\, 2024
DESCRIPTION:March 1 – 19\, 2024 The month of fasting\, during which Bahá’ís from the age of 15 abstain from food and drink between sunrise and sunset. There are exemptions\, including for those who are ill\, elderly\, traveling\, pregnant or breastfeeding.
URL:https://www.bahailv.org/event/bahai-fast-march-1-19-2024-4/
ATTACH;FMTTYPE=image/jpeg:https://www.bahailv.org/wp-content/uploads/2020/05/fasting.jpg
END:VEVENT
BEGIN:VEVENT
DTSTART;TZID=America/New_York:20240305T062600
DTEND;TZID=America/New_York:20240305T175900
DTSTAMP:20260425T111719
CREATED:20231118T210007Z
LAST-MODIFIED:20231118T210008Z
UID:10001443-1709619960-1709661540@www.bahailv.org
SUMMARY:Bahai Fast\, March 1-19\, 2024
DESCRIPTION:March 1 – 19\, 2024 The month of fasting\, during which Bahá’ís from the age of 15 abstain from food and drink between sunrise and sunset. There are exemptions\, including for those who are ill\, elderly\, traveling\, pregnant or breastfeeding.
URL:https://www.bahailv.org/event/bahai-fast-march-1-19-2024-5/
ATTACH;FMTTYPE=image/jpeg:https://www.bahailv.org/wp-content/uploads/2020/05/fasting.jpg
END:VEVENT
BEGIN:VEVENT
DTSTART;TZID=America/New_York:20240306T062400
DTEND;TZID=America/New_York:20240306T180000
DTSTAMP:20260425T111719
CREATED:20231118T210222Z
LAST-MODIFIED:20231118T210223Z
UID:10001444-1709706240-1709748000@www.bahailv.org
SUMMARY:Bahai Fast\, March 1-19\, 2024
DESCRIPTION:March 1 – 19\, 2024 The month of fasting\, during which Bahá’ís from the age of 15 abstain from food and drink between sunrise and sunset. There are exemptions\, including for those who are ill\, elderly\, traveling\, pregnant or breastfeeding.
URL:https://www.bahailv.org/event/bahai-fast-march-1-19-2024-6/
ATTACH;FMTTYPE=image/jpeg:https://www.bahailv.org/wp-content/uploads/2020/05/fasting.jpg
END:VEVENT
BEGIN:VEVENT
DTSTART;TZID=America/New_York:20240306T190000
DTEND;TZID=America/New_York:20240306T200000
DTSTAMP:20260425T111719
CREATED:20230202T165418Z
LAST-MODIFIED:20231212T045237Z
UID:10001246-1709751600-1709755200@www.bahailv.org
SUMMARY:Weekly Wednesday Zoom Spanish Devotions hosted by Ana & Ivan Almonte. Click here for details.
DESCRIPTION:Weekly Wednesday Spanish Devotions hosted by the Almonte family. Contact Ana: 484 620 7466.
URL:https://www.bahailv.org/event/weekly-wednesday-zoom-spanish-devotions-hosted-by-ana-ivan-almonte-3/2024-03-06/
ATTACH;FMTTYPE=image/jpeg:https://www.bahailv.org/wp-content/uploads/2021/09/devotions_sm.jpg
END:VEVENT
BEGIN:VEVENT
DTSTART;TZID=America/New_York:20240307T062300
DTEND;TZID=America/New_York:20240307T180100
DTSTAMP:20260425T111719
CREATED:20231118T210408Z
LAST-MODIFIED:20231118T210408Z
UID:10001445-1709792580-1709834460@www.bahailv.org
SUMMARY:Bahai Fast\, March 1-19\, 2024
DESCRIPTION:March 1 – 19\, 2024 The month of fasting\, during which Bahá’ís from the age of 15 abstain from food and drink between sunrise and sunset. There are exemptions\, including for those who are ill\, elderly\, traveling\, pregnant or breastfeeding.
URL:https://www.bahailv.org/event/bahai-fast-march-1-19-2024-7/
ATTACH;FMTTYPE=image/jpeg:https://www.bahailv.org/wp-content/uploads/2020/05/fasting.jpg
END:VEVENT
BEGIN:VEVENT
DTSTART;TZID=America/New_York:20240308T062100
DTEND;TZID=America/New_York:20240308T180200
DTSTAMP:20260425T111719
CREATED:20231118T210616Z
LAST-MODIFIED:20231118T210617Z
UID:10001446-1709878860-1709920920@www.bahailv.org
SUMMARY:Bahai Fast\, March 1-19\, 2024
DESCRIPTION:March 1 – 19\, 2024 The month of fasting\, during which Bahá’ís from the age of 15 abstain from food and drink between sunrise and sunset. There are exemptions\, including for those who are ill\, elderly\, traveling\, pregnant or breastfeeding.
URL:https://www.bahailv.org/event/bahai-fast-march-1-19-2024-8/
ATTACH;FMTTYPE=image/jpeg:https://www.bahailv.org/wp-content/uploads/2020/05/fasting.jpg
END:VEVENT
BEGIN:VEVENT
DTSTART;TZID=America/New_York:20240308T190000
DTEND;TZID=America/New_York:20240308T200000
DTSTAMP:20260425T111719
CREATED:20231130T224253Z
LAST-MODIFIED:20231130T224254Z
UID:10001479-1709924400-1709928000@www.bahailv.org
SUMMARY:Bi-weekly Friday night devotional meeting.
DESCRIPTION:Please join our Bi-weekly Friday night devotional/Study Circle in-person or via Zoom.\n\n\n\n\nTopic: varies each time7:00 PM Eastern Time (US and Canada).\n\nZoom link was directly emailed to friends\, however for direct zoom link to the devotions contact Shirin Khalighi: khalighi1@aol.com OR Gladys Nay: gladandlou@msn.com 
URL:https://www.bahailv.org/event/bi-weekly-friday-night-devotional-meeting-3/
ATTACH;FMTTYPE=image/jpeg:https://www.bahailv.org/wp-content/uploads/2021/09/Devotions-3.jpeg
END:VEVENT
BEGIN:VEVENT
DTSTART;TZID=America/New_York:20240309T062000
DTEND;TZID=America/New_York:20240309T180300
DTSTAMP:20260425T111719
CREATED:20231118T210759Z
LAST-MODIFIED:20231118T210800Z
UID:10001447-1709965200-1710007380@www.bahailv.org
SUMMARY:Bahai Fast\, March 1-19\, 2024
DESCRIPTION:March 1 – 19\, 2024 The month of fasting\, during which Bahá’ís from the age of 15 abstain from food and drink between sunrise and sunset. There are exemptions\, including for those who are ill\, elderly\, traveling\, pregnant or breastfeeding.
URL:https://www.bahailv.org/event/bahai-fast-march-1-19-2024-9/
ATTACH;FMTTYPE=image/jpeg:https://www.bahailv.org/wp-content/uploads/2020/05/fasting.jpg
END:VEVENT
BEGIN:VEVENT
DTSTART;TZID=America/New_York:20240310T071800
DTEND;TZID=America/New_York:20240310T190400
DTSTAMP:20260425T111719
CREATED:20231118T211004Z
LAST-MODIFIED:20231118T211005Z
UID:10001448-1710055080-1710097440@www.bahailv.org
SUMMARY:Bahai Fast\, March 1-19\, 2024
DESCRIPTION:March 1 – 19\, 2024 The month of fasting\, during which Bahá’ís from the age of 15 abstain from food and drink between sunrise and sunset. There are exemptions\, including for those who are ill\, elderly\, traveling\, pregnant or breastfeeding.
URL:https://www.bahailv.org/event/bahai-fast-march-1-19-2024-10/
ATTACH;FMTTYPE=image/jpeg:https://www.bahailv.org/wp-content/uploads/2020/05/fasting.jpg
END:VEVENT
BEGIN:VEVENT
DTSTART;TZID=America/New_York:20240310T103000
DTEND;TZID=America/New_York:20240310T120000
DTSTAMP:20260425T111719
CREATED:20240307T233519Z
LAST-MODIFIED:20240307T233520Z
UID:10001493-1710066600-1710072000@www.bahailv.org
SUMMARY:Zoom only - Study of the letter from the Universal House of Justice dated November 28\, 2023
DESCRIPTION:Reflections on the First Century of the Formative Age  \nZoom link emailed to friends directly.
URL:https://www.bahailv.org/event/zoom-only-study-of-the-letter-from-the-universal-house-of-justice-dated-november-28-2023-2/
ATTACH;FMTTYPE=application/pdf:https://www.bahailv.org/wp-content/uploads/2024/01/House-letter.pdf
END:VEVENT
BEGIN:VEVENT
DTSTART;TZID=America/New_York:20240311T071600
DTEND;TZID=America/New_York:20240311T190500
DTSTAMP:20260425T111719
CREATED:20231118T211237Z
LAST-MODIFIED:20231118T211237Z
UID:10001449-1710141360-1710183900@www.bahailv.org
SUMMARY:Bahai Fast\, March 1-19\, 2024
DESCRIPTION:March 1 – 19\, 2024 The month of fasting\, during which Bahá’ís from the age of 15 abstain from food and drink between sunrise and sunset. There are exemptions\, including for those who are ill\, elderly\, traveling\, pregnant or breastfeeding.
URL:https://www.bahailv.org/event/bahai-fast-march-1-19-2024-11/
ATTACH;FMTTYPE=image/jpeg:https://www.bahailv.org/wp-content/uploads/2020/05/fasting.jpg
END:VEVENT
BEGIN:VEVENT
DTSTART;TZID=America/New_York:20240312T071500
DTEND;TZID=America/New_York:20240312T190600
DTSTAMP:20260425T111719
CREATED:20231118T211432Z
LAST-MODIFIED:20231118T211433Z
UID:10001450-1710227700-1710270360@www.bahailv.org
SUMMARY:Bahai Fast\, March 1-19\, 2024
DESCRIPTION:March 1 – 19\, 2024 The month of fasting\, during which Bahá’ís from the age of 15 abstain from food and drink between sunrise and sunset. There are exemptions\, including for those who are ill\, elderly\, traveling\, pregnant or breastfeeding.
URL:https://www.bahailv.org/event/bahai-fast-march-1-19-2024-12/
ATTACH;FMTTYPE=image/jpeg:https://www.bahailv.org/wp-content/uploads/2020/05/fasting.jpg
END:VEVENT
BEGIN:VEVENT
DTSTART;TZID=America/New_York:20240313T071300
DTEND;TZID=America/New_York:20240313T190700
DTSTAMP:20260425T111719
CREATED:20231118T211619Z
LAST-MODIFIED:20231118T211620Z
UID:10001451-1710313980-1710356820@www.bahailv.org
SUMMARY:Bahai Fast\, March 1-19\, 2024
DESCRIPTION:March 1 – 19\, 2024 The month of fasting\, during which Bahá’ís from the age of 15 abstain from food and drink between sunrise and sunset. There are exemptions\, including for those who are ill\, elderly\, traveling\, pregnant or breastfeeding.
URL:https://www.bahailv.org/event/bahai-fast-march-1-19-2024-13/
ATTACH;FMTTYPE=image/jpeg:https://www.bahailv.org/wp-content/uploads/2020/05/fasting.jpg
END:VEVENT
BEGIN:VEVENT
DTSTART;TZID=America/New_York:20240313T190000
DTEND;TZID=America/New_York:20240313T200000
DTSTAMP:20260425T111719
CREATED:20230202T165418Z
LAST-MODIFIED:20231212T045237Z
UID:10001247-1710356400-1710360000@www.bahailv.org
SUMMARY:Weekly Wednesday Zoom Spanish Devotions hosted by Ana & Ivan Almonte. Click here for details.
DESCRIPTION:Weekly Wednesday Spanish Devotions hosted by the Almonte family. Contact Ana: 484 620 7466.
URL:https://www.bahailv.org/event/weekly-wednesday-zoom-spanish-devotions-hosted-by-ana-ivan-almonte-3/2024-03-13/
ATTACH;FMTTYPE=image/jpeg:https://www.bahailv.org/wp-content/uploads/2021/09/devotions_sm.jpg
END:VEVENT
BEGIN:VEVENT
DTSTART;TZID=America/New_York:20240314T071200
DTEND;TZID=America/New_York:20240314T190800
DTSTAMP:20260425T111719
CREATED:20231118T211752Z
LAST-MODIFIED:20231118T212428Z
UID:10001452-1710400320-1710443280@www.bahailv.org
SUMMARY:Bahai Fast\, March 1-19\, 2024
DESCRIPTION:March 1 – 19\, 2024 The month of fasting\, during which Bahá’ís from the age of 15 abstain from food and drink between sunrise and sunset. There are exemptions\, including for those who are ill\, elderly\, traveling\, pregnant or breastfeeding.
URL:https://www.bahailv.org/event/bahai-fast-march-1-19-2024-14/
ATTACH;FMTTYPE=image/jpeg:https://www.bahailv.org/wp-content/uploads/2020/05/fasting.jpg
END:VEVENT
BEGIN:VEVENT
DTSTART;TZID=America/New_York:20240315T071000
DTEND;TZID=America/New_York:20240315T191000
DTSTAMP:20260425T111719
CREATED:20231118T212610Z
LAST-MODIFIED:20231118T212611Z
UID:10001453-1710486600-1710529800@www.bahailv.org
SUMMARY:Bahai Fast\, March 1-19\, 2024
DESCRIPTION:March 1 – 19\, 2024 The month of fasting\, during which Bahá’ís from the age of 15 abstain from food and drink between sunrise and sunset. There are exemptions\, including for those who are ill\, elderly\, traveling\, pregnant or breastfeeding.
URL:https://www.bahailv.org/event/bahai-fast-march-1-19-2024-15/
ATTACH;FMTTYPE=image/jpeg:https://www.bahailv.org/wp-content/uploads/2020/05/fasting.jpg
END:VEVENT
BEGIN:VEVENT
DTSTART;TZID=America/New_York:20240315T190000
DTEND;TZID=America/New_York:20240315T200000
DTSTAMP:20260425T111719
CREATED:20230703T153254Z
LAST-MODIFIED:20230703T153255Z
UID:10001385-1710529200-1710532800@www.bahailv.org
SUMMARY:Monthly Bahai Basics. An online Introduction to the Baha'i Faith and discussions and Q&A. Click here for details.
DESCRIPTION:Dear Friends\,\n\n\n \n\nIntroduction to the Baha’i Faith and discussions and Q&A following the introduction.  This is being held the second Monday of each month from 7-8 p.m. An email reminder with the Zoom link information will be emailed each month.   \n \nThis Fireside chat will feature a brief introduction to the Baha’i Teachings on the importance of religion and spirituality in creating harmony among the diverse nations\, races and religions of the world.  After the presentation there will be opportunity for questions and discussion by the participants.  This meeting is open to all.  Please invite friends and anyone who you think would be interested in learning about this topic.
URL:https://www.bahailv.org/event/bahai-basics-2-2-2-3/2024-03-15/
ATTACH;FMTTYPE=image/jpeg:https://www.bahailv.org/wp-content/uploads/2022/10/BB.jpeg
END:VEVENT
BEGIN:VEVENT
DTSTART;TZID=America/New_York:20240316T070800
DTEND;TZID=America/New_York:20240316T191100
DTSTAMP:20260425T111719
CREATED:20231118T212812Z
LAST-MODIFIED:20231118T212813Z
UID:10001454-1710572880-1710616260@www.bahailv.org
SUMMARY:Bahai Fast\, March 1-19\, 2024
DESCRIPTION:March 1 – 19\, 2024 The month of fasting\, during which Bahá’ís from the age of 15 abstain from food and drink between sunrise and sunset. There are exemptions\, including for those who are ill\, elderly\, traveling\, pregnant or breastfeeding.
URL:https://www.bahailv.org/event/bahai-fast-march-1-19-2024-16/
ATTACH;FMTTYPE=image/jpeg:https://www.bahailv.org/wp-content/uploads/2020/05/fasting.jpg
END:VEVENT
BEGIN:VEVENT
DTSTART;TZID=America/New_York:20240317T070700
DTEND;TZID=America/New_York:20240317T191200
DTSTAMP:20260425T111719
CREATED:20231118T212946Z
LAST-MODIFIED:20231118T212946Z
UID:10001455-1710659220-1710702720@www.bahailv.org
SUMMARY:Bahai Fast\, March 1-19\, 2024
DESCRIPTION:March 1 – 19\, 2024 The month of fasting\, during which Bahá’ís from the age of 15 abstain from food and drink between sunrise and sunset. There are exemptions\, including for those who are ill\, elderly\, traveling\, pregnant or breastfeeding.
URL:https://www.bahailv.org/event/bahai-fast-march-1-19-2024-17/
ATTACH;FMTTYPE=image/jpeg:https://www.bahailv.org/wp-content/uploads/2020/05/fasting.jpg
END:VEVENT
BEGIN:VEVENT
DTSTART;TZID=America/New_York:20240317T100000
DTEND;TZID=America/New_York:20240317T120000
DTSTAMP:20260425T111719
CREATED:20230807T191751Z
LAST-MODIFIED:20230807T191752Z
UID:10001425-1710669600-1710676800@www.bahailv.org
SUMMARY:Bahai Learning Center
DESCRIPTION:Bahai Learning Center Schedule : Fall 2023 to Spring 2024. \n  \nStart time is 10 a.m. however Zoom attendees can join at 10:30 a.m.  Link will be emailed to the friends directly. \n 
URL:https://www.bahailv.org/event/bahai-learning-center-6/
ATTACH;FMTTYPE=image/jpeg:https://www.bahailv.org/wp-content/uploads/2021/03/Childrens-classes.jpeg
END:VEVENT
BEGIN:VEVENT
DTSTART;TZID=America/New_York:20240317T193000
DTEND;TZID=America/New_York:20240317T193000
DTSTAMP:20260425T111719
CREATED:20230625T020626Z
LAST-MODIFIED:20230625T020828Z
UID:10001342-1710703800-1710703800@www.bahailv.org
SUMMARY:Sunday night Zoom Healing Devotions hosted by Moira & Randy Padfield. Click here for details.
DESCRIPTION:Dear friends\,  \nThe Padfield family are hosting a devotional via Zoom Sunday evening at 7:30pm and each Sunday thereafter.  Link will be emailed to the friends directly.  We will be saying prayers for Richard Beane (our son-in-law in Belize) and Shirin’s sister as well as others in the community in need of healing prayers. We will also offer healing prayers for our community\, country and the world.   \nWe would be happy to have you join us and would welcome anything you would like to contribute in the form of prayers\, Writings\, or poems.   \nWe hope to see you on Sunday night.  Zoom link was emailed to the friends directly. \nWith loving regards\,
URL:https://www.bahailv.org/event/4523/2024-03-17/
ATTACH;FMTTYPE=image/jpeg:https://www.bahailv.org/wp-content/uploads/2020/05/devotions.jpg
END:VEVENT
BEGIN:VEVENT
DTSTART;TZID=America/New_York:20240318T070500
DTEND;TZID=America/New_York:20240318T191300
DTSTAMP:20260425T111719
CREATED:20231118T213148Z
LAST-MODIFIED:20231118T213149Z
UID:10001456-1710745500-1710789180@www.bahailv.org
SUMMARY:Bahai Fast\, March 1-19\, 2024
DESCRIPTION:March 1 – 19\, 2024 The month of fasting\, during which Bahá’ís from the age of 15 abstain from food and drink between sunrise and sunset. There are exemptions\, including for those who are ill\, elderly\, traveling\, pregnant or breastfeeding.
URL:https://www.bahailv.org/event/bahai-fast-march-1-19-2024-18/
ATTACH;FMTTYPE=image/jpeg:https://www.bahailv.org/wp-content/uploads/2020/05/fasting.jpg
END:VEVENT
BEGIN:VEVENT
DTSTART;TZID=America/New_York:20240319T070300
DTEND;TZID=America/New_York:20240319T191400
DTSTAMP:20260425T111719
CREATED:20231118T213322Z
LAST-MODIFIED:20231118T213344Z
UID:10001457-1710831780-1710875640@www.bahailv.org
SUMMARY:Bahai Fast\, March 1-19\, 2024
DESCRIPTION:March 1 – 19\, 2024 The month of fasting\, during which Bahá’ís from the age of 15 abstain from food and drink between sunrise and sunset. There are exemptions\, including for those who are ill\, elderly\, traveling\, pregnant or breastfeeding.
URL:https://www.bahailv.org/event/bahai-fast-march-1-19-2024-19/
ATTACH;FMTTYPE=image/jpeg:https://www.bahailv.org/wp-content/uploads/2020/05/fasting.jpg
END:VEVENT
BEGIN:VEVENT
DTSTART;TZID=America/New_York:20240319T183000
DTEND;TZID=America/New_York:20240319T210000
DTSTAMP:20260425T111719
CREATED:20230711T223201Z
LAST-MODIFIED:20240315T210207Z
UID:10001401-1710873000-1710882000@www.bahailv.org
SUMMARY:Feast of Baha (Splendor).  Hosted by Pam Ptak. Potluck dinner.  Click here for details.
DESCRIPTION:Feast of Baha (Splendor) will be hosted by Pam Ptak – 610 984-2310. \nSince it’s a weekday\,  6:30 p.m. with pot luck dinner. \nPam Ptak warmly invites you to the Feast of Baha (Splendor). \nTuesday\, March 19 beginning at 6:30 pm  \nThis will be a potluck feast. \n Zoom will also be available for this feast.  Here is the Zoom link: \nhttps://us02web.zoom.us/j/82630162768?pwd=MG9ZYmo2YjNiZVFIZU9MamttZnM4dz09 \nFor more information please contact Pam at: \nEmail:  ptakhanna@aol.com \nCell  610.984.2310 \nHome 610.346.6071 \nHappy Nawruz to all!\nMoira Padfield\nFor the LSA of Bethlehem Township
URL:https://www.bahailv.org/event/feast-of-baha-splendor-host-tbd-click-here-for-details-2/
ATTACH;FMTTYPE=image/jpeg:https://www.bahailv.org/wp-content/uploads/2021/08/Feast.jpg
END:VEVENT
BEGIN:VEVENT
DTSTART;TZID=America/New_York:20240320T180000
DTEND;TZID=America/New_York:20240320T203000
DTSTAMP:20260425T111719
CREATED:20231118T202936Z
LAST-MODIFIED:20240220T033843Z
UID:10001472-1710957600-1710966600@www.bahailv.org
SUMMARY:Naw-Rúz The Bahá’í New Year to be celebrated at Hibachi Grill\, Bethlehem.  Click here for details.
DESCRIPTION:“Naw Ruz\, BE 181/March 20\, 2024” \n\n\n\n\n\n\n\n\n\nHello Beloved Friends. \nThough the cold snows and biting winds are still upon us\, signs of the turning of the season are everywhere. \n—-the sun on our faces\, hopeful shoots popping up\, and the birdsong in the air when we pause to listen. \n                                                                   \nGreen Acre Baha’i School\, Friday\, February\, 16\, 2024 \nAs Naw Ruz\, BE 181 is just over the horizon\, \nPlease plan to celebrate the Baha’i New Year with the Lehigh Valley Baha’i Community \nOn Wednesday\, March 20\, 2024  \n(the first full day of BE 181\, as the Fast ends at sunset on March 19. 2024) \nWe will enjoy a community dinner at the Hibachi Grill and Supreme Buffet \n3811 Nazareth Pike\, Bethlehem\, PA 18020 \n610-419-8388 \nWe will meet at 6PM and open with a prayer. \nDinner will be buffet style and is $15.99 per person. \nConnect\, relax and enjoy the fellowship of our beloved community \nin a private room at the restaurant \nJust enter and ask for the Naw Ruz party \nNo need to RSVP\, but feel free to reach out to \nTammy Kita (484-788-9128) or Shirin Khaligi at (484-894-1666) with any questions. \nHope to see you there! \n“O Lord of all being and Educator of all things visible and invisible! Grant us ears that are pure\, hearts that are sanctified\, and eyes that see\, so that we may discover the sweetness of Thine enthralling utterance\, may fix our gaze upon Thy supreme horizon\, and may come to know whatever hath been sent down through Thy bounty\, O Thou Who art the King of Names! Kindle then the fire of Thy love in Thy lands\, that the hearts of Thy creatures may be set ablaze thereby\, that they may turn towards Thee\, may recognize Thy unity and acknowledge Thy oneness.” – Baha’u’llah.
URL:https://www.bahailv.org/event/naw-ruz-the-bahai-new-year-host-tbd/
ATTACH;FMTTYPE=image/png:https://www.bahailv.org/wp-content/uploads/2020/06/Naw-Ruz.png
END:VEVENT
BEGIN:VEVENT
DTSTART;TZID=America/New_York:20240322T190000
DTEND;TZID=America/New_York:20240322T200000
DTSTAMP:20260425T111719
CREATED:20231130T224533Z
LAST-MODIFIED:20231130T224534Z
UID:10001480-1711134000-1711137600@www.bahailv.org
SUMMARY:Bi-weekly Friday night devotional meeting.
DESCRIPTION:Please join our Bi-weekly Friday night devotional/Study Circle in-person or via Zoom.\n\n\n\n\nTopic: varies each time7:00 PM Eastern Time (US and Canada).\n\nZoom link was directly emailed to friends\, however for direct zoom link to the devotions contact Shirin Khalighi: khalighi1@aol.com OR Gladys Nay: gladandlou@msn.com 
URL:https://www.bahailv.org/event/bi-weekly-friday-night-devotional-meeting-4/
ATTACH;FMTTYPE=image/jpeg:https://www.bahailv.org/wp-content/uploads/2021/09/Devotions-3.jpeg
END:VEVENT
BEGIN:VEVENT
DTSTART;TZID=America/New_York:20240324T103000
DTEND;TZID=America/New_York:20240324T120000
DTSTAMP:20260425T111719
CREATED:20240307T234434Z
LAST-MODIFIED:20240307T234434Z
UID:10001641-1711276200-1711281600@www.bahailv.org
SUMMARY:Zoom only – Study of the letter from the Universal House of Justice dated November 28\, 2023.
DESCRIPTION:Reflections on the First Century of the Formative Age. \nZoom link for this meeting was emailed to the friends directly.
URL:https://www.bahailv.org/event/zoom-only-study-of-the-letter-from-the-universal-house-of-justice-dated-november-28-2023-3/
ATTACH;FMTTYPE=image/webp:https://www.bahailv.org/wp-content/uploads/2022/10/The-Nine-Year-Plan-2022-2031.webp
END:VEVENT
END:VCALENDAR