BEGIN:VCALENDAR
VERSION:2.0
PRODID:-//Lehigh Valley Bahai - ECPv6.15.20//NONSGML v1.0//EN
CALSCALE:GREGORIAN
METHOD:PUBLISH
X-ORIGINAL-URL:https://www.bahailv.org
X-WR-CALDESC:Events for Lehigh Valley Bahai
REFRESH-INTERVAL;VALUE=DURATION:PT1H
X-Robots-Tag:noindex
X-PUBLISHED-TTL:PT1H
BEGIN:VTIMEZONE
TZID:America/New_York
BEGIN:DAYLIGHT
TZOFFSETFROM:-0500
TZOFFSETTO:-0400
TZNAME:EDT
DTSTART:20230312T070000
END:DAYLIGHT
BEGIN:STANDARD
TZOFFSETFROM:-0400
TZOFFSETTO:-0500
TZNAME:EST
DTSTART:20231105T060000
END:STANDARD
BEGIN:DAYLIGHT
TZOFFSETFROM:-0500
TZOFFSETTO:-0400
TZNAME:EDT
DTSTART:20240310T070000
END:DAYLIGHT
BEGIN:STANDARD
TZOFFSETFROM:-0400
TZOFFSETTO:-0500
TZNAME:EST
DTSTART:20241103T060000
END:STANDARD
BEGIN:DAYLIGHT
TZOFFSETFROM:-0500
TZOFFSETTO:-0400
TZNAME:EDT
DTSTART:20250309T070000
END:DAYLIGHT
BEGIN:STANDARD
TZOFFSETFROM:-0400
TZOFFSETTO:-0500
TZNAME:EST
DTSTART:20251102T060000
END:STANDARD
END:VTIMEZONE
BEGIN:VEVENT
DTSTART;TZID=America/New_York:20240103T190000
DTEND;TZID=America/New_York:20240103T200000
DTSTAMP:20260425T123410
CREATED:20230202T165418Z
LAST-MODIFIED:20231212T045237Z
UID:10001237-1704308400-1704312000@www.bahailv.org
SUMMARY:Weekly Wednesday Zoom Spanish Devotions hosted by Ana & Ivan Almonte. Click here for details.
DESCRIPTION:Weekly Wednesday Spanish Devotions hosted by the Almonte family. Contact Ana: 484 620 7466.
URL:https://www.bahailv.org/event/weekly-wednesday-zoom-spanish-devotions-hosted-by-ana-ivan-almonte-3/2024-01-03/
ATTACH;FMTTYPE=image/jpeg:https://www.bahailv.org/wp-content/uploads/2021/09/devotions_sm.jpg
END:VEVENT
BEGIN:VEVENT
DTSTART;TZID=America/New_York:20240105T190000
DTEND;TZID=America/New_York:20240105T200000
DTSTAMP:20260425T123410
CREATED:20230817T022425Z
LAST-MODIFIED:20230817T022425Z
UID:10001431-1704481200-1704484800@www.bahailv.org
SUMMARY:Bi-weekly Friday night devotional/Study Circle in-person or via Zoom. Click here for details.
DESCRIPTION:Please join our Bi-weekly Friday night devotional/Study Circle in-person or via Zoom.\n\n\n\n\nTopic: varies each time7:00 PM Eastern Time (US and Canada).\n\nZoom link was directly emailed to friends\, however for direct zoom link to the devotions contact Shirin Khalighi: khalighi1@aol.com OR Gladys Nay: gladandlou@msn.com 
URL:https://www.bahailv.org/event/bi-weekly-friday-night-devotional-study-circle-in-person-or-via-zoom-click-here-for-details/
ATTACH;FMTTYPE=image/jpeg:https://www.bahailv.org/wp-content/uploads/2021/09/Devotions-3.jpeg
END:VEVENT
BEGIN:VEVENT
DTSTART;TZID=America/New_York:20240106T150000
DTEND;TZID=America/New_York:20240106T170000
DTSTAMP:20260425T123410
CREATED:20231205T222528Z
LAST-MODIFIED:20240101T172355Z
UID:10001481-1704553200-1704560400@www.bahailv.org
SUMMARY:Zoom meeting of the LSA of Bethlehem Township\, Saturday\, January 6\, at 3 p.m.
DESCRIPTION:Zoom meeting of the LSA of Bethlehem Township\, Saturday\, January 6\, at 3 p.m.
URL:https://www.bahailv.org/event/in-person-meeting-of-the-lsa-of-bethlehem-township-saturday-january-6-at-3-p-m/
ATTACH;FMTTYPE=image/jpeg:https://www.bahailv.org/wp-content/uploads/2021/12/LSA-BT.jpeg
END:VEVENT
BEGIN:VEVENT
DTSTART;TZID=America/New_York:20240107T100000
DTEND;TZID=America/New_York:20240107T120000
DTSTAMP:20260425T123410
CREATED:20230807T191201Z
LAST-MODIFIED:20240106T235713Z
UID:10001420-1704621600-1704628800@www.bahailv.org
SUMMARY:Bahai Learning Center - on ZOOM only - NO children's class today because of inclement weather.
DESCRIPTION:Bahai Learning Center Schedule : Fall 2023 to Spring 2024. \n  \nStart time is 10 a.m. however Zoom attendees can join at 10:30 a.m.  Link will be emailed to the friends directly. \n 
URL:https://www.bahailv.org/event/bahai-learning-center-2/
ATTACH;FMTTYPE=image/jpeg:https://www.bahailv.org/wp-content/uploads/2021/03/Childrens-classes.jpeg
END:VEVENT
BEGIN:VEVENT
DTSTART;TZID=America/New_York:20240107T190000
DTEND;TZID=America/New_York:20240107T203000
DTSTAMP:20260425T123410
CREATED:20231207T155722Z
LAST-MODIFIED:20231207T160440Z
UID:10001483-1704654000-1704659400@www.bahailv.org
SUMMARY:Zoom study of Book 5 - Releasing the Powers Of Junior Youth.
DESCRIPTION:Releasing the Powers\nOf Junior Youth\n…for Youth and Young Adults ages 15 to 25+\nThe Baha’is of the Lehigh Valley\, in collaboration with Camp Tabarsi’s Suzan Gould and Little Pond Arts Retreat\, will hold a Zoom study of Book 5 (with one or two in-person meetings) \n\n\nBeginning Sunday\, Jan 7 and meeting regularly every other Sunday at 7 pm to 8:30 and is looking for participants\nPlease follow the link to this interest form to sign up: Book 5 Interest Form\nFacilitated by Suzan Gould\nAdmission is free; contributions accepted; registration required\n \n“The transformation in the individual and in society are intimately linked.\nDeveloping one’s potential and working for the welfare of society cannot be separated\,\nfor a person’s moral standards and behavior shape his or her environment\nand in turn are molded by the structure of society.”
URL:https://www.bahailv.org/event/zoom-study-releasing-the-powers-of-junior-youth-ruhi-book-5/2024-01-07/
ATTACH;FMTTYPE=image/jpeg:https://www.bahailv.org/wp-content/uploads/2023/12/Releasing-the-Power.jpeg
END:VEVENT
BEGIN:VEVENT
DTSTART;TZID=America/New_York:20240107T193000
DTEND;TZID=America/New_York:20240107T193000
DTSTAMP:20260425T123410
CREATED:20230625T020626Z
LAST-MODIFIED:20230625T020828Z
UID:10001332-1704655800-1704655800@www.bahailv.org
SUMMARY:Sunday night Zoom Healing Devotions hosted by Moira & Randy Padfield. Click here for details.
DESCRIPTION:Dear friends\,  \nThe Padfield family are hosting a devotional via Zoom Sunday evening at 7:30pm and each Sunday thereafter.  Link will be emailed to the friends directly.  We will be saying prayers for Richard Beane (our son-in-law in Belize) and Shirin’s sister as well as others in the community in need of healing prayers. We will also offer healing prayers for our community\, country and the world.   \nWe would be happy to have you join us and would welcome anything you would like to contribute in the form of prayers\, Writings\, or poems.   \nWe hope to see you on Sunday night.  Zoom link was emailed to the friends directly. \nWith loving regards\,
URL:https://www.bahailv.org/event/4523/2024-01-07/
ATTACH;FMTTYPE=image/jpeg:https://www.bahailv.org/wp-content/uploads/2020/05/devotions.jpg
END:VEVENT
BEGIN:VEVENT
DTSTART;TZID=America/New_York:20240110T190000
DTEND;TZID=America/New_York:20240110T200000
DTSTAMP:20260425T123410
CREATED:20230202T165418Z
LAST-MODIFIED:20231212T045237Z
UID:10001238-1704913200-1704916800@www.bahailv.org
SUMMARY:Weekly Wednesday Zoom Spanish Devotions hosted by Ana & Ivan Almonte. Click here for details.
DESCRIPTION:Weekly Wednesday Spanish Devotions hosted by the Almonte family. Contact Ana: 484 620 7466.
URL:https://www.bahailv.org/event/weekly-wednesday-zoom-spanish-devotions-hosted-by-ana-ivan-almonte-3/2024-01-10/
ATTACH;FMTTYPE=image/jpeg:https://www.bahailv.org/wp-content/uploads/2021/09/devotions_sm.jpg
END:VEVENT
BEGIN:VEVENT
DTSTART;TZID=America/New_York:20240112T190000
DTEND;TZID=America/New_York:20240112T200000
DTSTAMP:20260425T123410
CREATED:20230817T023831Z
LAST-MODIFIED:20230817T023833Z
UID:10001433-1705086000-1705089600@www.bahailv.org
SUMMARY:Monthly Baha'i Basics.  An online introduction to the Baha'i Faith - discussions and Q & A.  Click here for details.
DESCRIPTION:Dear Friends\,\n\n \n\nIntroduction to the Baha’i Faith and discussions and Q&A following the introduction.  This is being held the second Monday of each month from 7-8 p.m. An email reminder with the Zoom link information will be emailed each month.   \n \nThis Fireside chat will feature a brief introduction to the Baha’i Teachings on the importance of religion and spirituality in creating harmony among the diverse nations\, races and religions of the world.  After the presentation there will be opportunity for questions and discussion by the participants.  This meeting is open to all.  Please invite friends and anyone who you think would be interested in learning about this topic.
URL:https://www.bahailv.org/event/monthly-bahai-basics-an-online-introduction-to-the-bahai-faith-discussions-and-q-a-click-here-for-details/
ATTACH;FMTTYPE=image/jpeg:https://www.bahailv.org/wp-content/uploads/2020/12/BB.jpeg
END:VEVENT
BEGIN:VEVENT
DTSTART;TZID=America/New_York:20240114T193000
DTEND;TZID=America/New_York:20240114T193000
DTSTAMP:20260425T123410
CREATED:20230625T020626Z
LAST-MODIFIED:20230625T020828Z
UID:10001333-1705260600-1705260600@www.bahailv.org
SUMMARY:Sunday night Zoom Healing Devotions hosted by Moira & Randy Padfield. Click here for details.
DESCRIPTION:Dear friends\,  \nThe Padfield family are hosting a devotional via Zoom Sunday evening at 7:30pm and each Sunday thereafter.  Link will be emailed to the friends directly.  We will be saying prayers for Richard Beane (our son-in-law in Belize) and Shirin’s sister as well as others in the community in need of healing prayers. We will also offer healing prayers for our community\, country and the world.   \nWe would be happy to have you join us and would welcome anything you would like to contribute in the form of prayers\, Writings\, or poems.   \nWe hope to see you on Sunday night.  Zoom link was emailed to the friends directly. \nWith loving regards\,
URL:https://www.bahailv.org/event/4523/2024-01-14/
ATTACH;FMTTYPE=image/jpeg:https://www.bahailv.org/wp-content/uploads/2020/05/devotions.jpg
END:VEVENT
BEGIN:VEVENT
DTSTART;TZID=America/New_York:20240117T190000
DTEND;TZID=America/New_York:20240117T200000
DTSTAMP:20260425T123410
CREATED:20230202T165418Z
LAST-MODIFIED:20231212T045237Z
UID:10001239-1705518000-1705521600@www.bahailv.org
SUMMARY:Weekly Wednesday Zoom Spanish Devotions hosted by Ana & Ivan Almonte. Click here for details.
DESCRIPTION:Weekly Wednesday Spanish Devotions hosted by the Almonte family. Contact Ana: 484 620 7466.
URL:https://www.bahailv.org/event/weekly-wednesday-zoom-spanish-devotions-hosted-by-ana-ivan-almonte-3/2024-01-17/
ATTACH;FMTTYPE=image/jpeg:https://www.bahailv.org/wp-content/uploads/2021/09/devotions_sm.jpg
END:VEVENT
BEGIN:VEVENT
DTSTART;TZID=America/New_York:20240119T190000
DTEND;TZID=America/New_York:20240119T200000
DTSTAMP:20260425T123410
CREATED:20230703T153254Z
LAST-MODIFIED:20230703T153255Z
UID:10001505-1705690800-1705694400@www.bahailv.org
SUMMARY:Monthly Bahai Basics. An online Introduction to the Baha'i Faith and discussions and Q&A. Click here for details.
DESCRIPTION:Dear Friends\,\n\n\n \n\nIntroduction to the Baha’i Faith and discussions and Q&A following the introduction.  This is being held the second Monday of each month from 7-8 p.m. An email reminder with the Zoom link information will be emailed each month.   \n \nThis Fireside chat will feature a brief introduction to the Baha’i Teachings on the importance of religion and spirituality in creating harmony among the diverse nations\, races and religions of the world.  After the presentation there will be opportunity for questions and discussion by the participants.  This meeting is open to all.  Please invite friends and anyone who you think would be interested in learning about this topic.
URL:https://www.bahailv.org/event/bahai-basics-2-2-2-3/2024-01-19/
ATTACH;FMTTYPE=image/jpeg:https://www.bahailv.org/wp-content/uploads/2022/10/BB.jpeg
END:VEVENT
BEGIN:VEVENT
DTSTART;TZID=America/New_York:20240119T190000
DTEND;TZID=America/New_York:20240119T210000
DTSTAMP:20260425T123410
CREATED:20230711T222226Z
LAST-MODIFIED:20240119T014829Z
UID:10001398-1705690800-1705698000@www.bahailv.org
SUMMARY:Zoom only Feast of Sultan (Sovereignty).  Hosted by Phil & Adriana Dunmire.  Click here for details.
DESCRIPTION:Dear Friends\, \nPhil and Adriana Dunmire warmly invite you to the Zoom only  Feast of Sultan (Sovereignty) on: \nFriday Jan. 19 at 7 pm. \nPhil can be reached at 856-625-1652. \nZoom  link emailed to the friends directly. \nHope you can make it! \nRoseann Bowerman for the LSA of Bethlehem Township
URL:https://www.bahailv.org/event/feast-of-sultan-sovereignty-host-tbd-click-here-for-details/
ATTACH;FMTTYPE=image/jpeg:https://www.bahailv.org/wp-content/uploads/2021/08/Feast.jpg
END:VEVENT
BEGIN:VEVENT
DTSTART;TZID=America/New_York:20240120T110000
DTEND;TZID=America/New_York:20240120T130000
DTSTAMP:20260425T123410
CREATED:20231130T213828Z
LAST-MODIFIED:20240119T152922Z
UID:10001475-1705748400-1705755600@www.bahailv.org
SUMMARY:CANCELED - Huquq'u'llah meeting with Rep. Moujan Toloubadei\, 11 a.m. on January 20\, 2024 at the party room of Ana Almonte.
DESCRIPTION:Another meeting with Moujan Toloubadei\, the Huququllah rep. on Jan 20th at 11am in the party room of Ana Almonte.  Details mailed to the friends directly.  Contact:  Ana Almonte 484 620 7466.
URL:https://www.bahailv.org/event/huququllah-meeting-with-rep-moujan-toloubadei-11-a-m-on-january-20-2024-at-the-party-room-of-ana-almonte/
ATTACH;FMTTYPE=image/jpeg:https://www.bahailv.org/wp-content/uploads/2021/10/Huquq1.jpeg
END:VEVENT
BEGIN:VEVENT
DTSTART;TZID=America/New_York:20240121T100000
DTEND;TZID=America/New_York:20240121T120000
DTSTAMP:20260425T123410
CREATED:20230807T191314Z
LAST-MODIFIED:20230807T191315Z
UID:10001421-1705831200-1705838400@www.bahailv.org
SUMMARY:Bahai Learning Center
DESCRIPTION:Bahai Learning Center Schedule : Fall 2023 to Spring 2024. \n  \nStart time is 10 a.m. however Zoom attendees can join at 10:30 a.m.  Link will be emailed to the friends directly. \n 
URL:https://www.bahailv.org/event/bahai-learning-center-3/
ATTACH;FMTTYPE=image/jpeg:https://www.bahailv.org/wp-content/uploads/2021/03/Childrens-classes.jpeg
END:VEVENT
BEGIN:VEVENT
DTSTART;TZID=America/New_York:20240121T190000
DTEND;TZID=America/New_York:20240121T203000
DTSTAMP:20260425T123410
CREATED:20231207T155722Z
LAST-MODIFIED:20231207T160440Z
UID:10001484-1705863600-1705869000@www.bahailv.org
SUMMARY:Zoom study of Book 5 - Releasing the Powers Of Junior Youth.
DESCRIPTION:Releasing the Powers\nOf Junior Youth\n…for Youth and Young Adults ages 15 to 25+\nThe Baha’is of the Lehigh Valley\, in collaboration with Camp Tabarsi’s Suzan Gould and Little Pond Arts Retreat\, will hold a Zoom study of Book 5 (with one or two in-person meetings) \n\n\nBeginning Sunday\, Jan 7 and meeting regularly every other Sunday at 7 pm to 8:30 and is looking for participants\nPlease follow the link to this interest form to sign up: Book 5 Interest Form\nFacilitated by Suzan Gould\nAdmission is free; contributions accepted; registration required\n \n“The transformation in the individual and in society are intimately linked.\nDeveloping one’s potential and working for the welfare of society cannot be separated\,\nfor a person’s moral standards and behavior shape his or her environment\nand in turn are molded by the structure of society.”
URL:https://www.bahailv.org/event/zoom-study-releasing-the-powers-of-junior-youth-ruhi-book-5/2024-01-21/
ATTACH;FMTTYPE=image/jpeg:https://www.bahailv.org/wp-content/uploads/2023/12/Releasing-the-Power.jpeg
END:VEVENT
BEGIN:VEVENT
DTSTART;TZID=America/New_York:20240121T193000
DTEND;TZID=America/New_York:20240121T193000
DTSTAMP:20260425T123410
CREATED:20230625T020626Z
LAST-MODIFIED:20230625T020828Z
UID:10001334-1705865400-1705865400@www.bahailv.org
SUMMARY:Sunday night Zoom Healing Devotions hosted by Moira & Randy Padfield. Click here for details.
DESCRIPTION:Dear friends\,  \nThe Padfield family are hosting a devotional via Zoom Sunday evening at 7:30pm and each Sunday thereafter.  Link will be emailed to the friends directly.  We will be saying prayers for Richard Beane (our son-in-law in Belize) and Shirin’s sister as well as others in the community in need of healing prayers. We will also offer healing prayers for our community\, country and the world.   \nWe would be happy to have you join us and would welcome anything you would like to contribute in the form of prayers\, Writings\, or poems.   \nWe hope to see you on Sunday night.  Zoom link was emailed to the friends directly. \nWith loving regards\,
URL:https://www.bahailv.org/event/4523/2024-01-21/
ATTACH;FMTTYPE=image/jpeg:https://www.bahailv.org/wp-content/uploads/2020/05/devotions.jpg
END:VEVENT
BEGIN:VEVENT
DTSTART;TZID=America/New_York:20240124T190000
DTEND;TZID=America/New_York:20240124T200000
DTSTAMP:20260425T123410
CREATED:20230202T165418Z
LAST-MODIFIED:20231212T045237Z
UID:10001240-1706122800-1706126400@www.bahailv.org
SUMMARY:Weekly Wednesday Zoom Spanish Devotions hosted by Ana & Ivan Almonte. Click here for details.
DESCRIPTION:Weekly Wednesday Spanish Devotions hosted by the Almonte family. Contact Ana: 484 620 7466.
URL:https://www.bahailv.org/event/weekly-wednesday-zoom-spanish-devotions-hosted-by-ana-ivan-almonte-3/2024-01-24/
ATTACH;FMTTYPE=image/jpeg:https://www.bahailv.org/wp-content/uploads/2021/09/devotions_sm.jpg
END:VEVENT
BEGIN:VEVENT
DTSTART;TZID=America/New_York:20240128T103000
DTEND;TZID=America/New_York:20240128T120000
DTSTAMP:20260425T123410
CREATED:20240106T232834Z
LAST-MODIFIED:20240107T002501Z
UID:10001490-1706437800-1706443200@www.bahailv.org
SUMMARY:Zoom only - Study of the letter from the Universal House of Justice dated November 28\, 2023
DESCRIPTION:Reflections on the First Century of the Formative Age  \nZoom link emailed to friends directly.
URL:https://www.bahailv.org/event/zoom-only-study-of-the-letter-from-the-universal-house-of-justice-dated-november-28-2023/2024-01-28/
ATTACH;FMTTYPE=application/pdf:https://www.bahailv.org/wp-content/uploads/2024/01/House-letter.pdf
END:VEVENT
BEGIN:VEVENT
DTSTART;TZID=America/New_York:20240128T193000
DTEND;TZID=America/New_York:20240128T193000
DTSTAMP:20260425T123410
CREATED:20230625T020626Z
LAST-MODIFIED:20230625T020828Z
UID:10001335-1706470200-1706470200@www.bahailv.org
SUMMARY:Sunday night Zoom Healing Devotions hosted by Moira & Randy Padfield. Click here for details.
DESCRIPTION:Dear friends\,  \nThe Padfield family are hosting a devotional via Zoom Sunday evening at 7:30pm and each Sunday thereafter.  Link will be emailed to the friends directly.  We will be saying prayers for Richard Beane (our son-in-law in Belize) and Shirin’s sister as well as others in the community in need of healing prayers. We will also offer healing prayers for our community\, country and the world.   \nWe would be happy to have you join us and would welcome anything you would like to contribute in the form of prayers\, Writings\, or poems.   \nWe hope to see you on Sunday night.  Zoom link was emailed to the friends directly. \nWith loving regards\,
URL:https://www.bahailv.org/event/4523/2024-01-28/
ATTACH;FMTTYPE=image/jpeg:https://www.bahailv.org/wp-content/uploads/2020/05/devotions.jpg
END:VEVENT
BEGIN:VEVENT
DTSTART;TZID=America/New_York:20240131T190000
DTEND;TZID=America/New_York:20240131T200000
DTSTAMP:20260425T123410
CREATED:20230202T165418Z
LAST-MODIFIED:20231212T045237Z
UID:10001241-1706727600-1706731200@www.bahailv.org
SUMMARY:Weekly Wednesday Zoom Spanish Devotions hosted by Ana & Ivan Almonte. Click here for details.
DESCRIPTION:Weekly Wednesday Spanish Devotions hosted by the Almonte family. Contact Ana: 484 620 7466.
URL:https://www.bahailv.org/event/weekly-wednesday-zoom-spanish-devotions-hosted-by-ana-ivan-almonte-3/2024-01-31/
ATTACH;FMTTYPE=image/jpeg:https://www.bahailv.org/wp-content/uploads/2021/09/devotions_sm.jpg
END:VEVENT
BEGIN:VEVENT
DTSTART;TZID=America/New_York:20240203T120000
DTEND;TZID=America/New_York:20240203T140000
DTSTAMP:20260425T123410
CREATED:20240108T202436Z
LAST-MODIFIED:20240108T202437Z
UID:10001494-1706961600-1706968800@www.bahailv.org
SUMMARY:Zoom meeting of the LSA of Bethlehem Township\, Saturday\, February 3 at 12 noon.
DESCRIPTION:Zoom meeting of the LSA of Bethlehem Township\, Saturday\, February 3 beginning at 12 noon.
URL:https://www.bahailv.org/event/zoom-meeting-of-the-lsa-of-bethlehem-township-saturday-february-3-at-12-noon/
ATTACH;FMTTYPE=image/jpeg:https://www.bahailv.org/wp-content/uploads/2021/12/LSA-BT.jpeg
END:VEVENT
BEGIN:VEVENT
DTSTART;TZID=America/New_York:20240204T100000
DTEND;TZID=America/New_York:20240204T120000
DTSTAMP:20260425T123410
CREATED:20230807T191432Z
LAST-MODIFIED:20230807T191433Z
UID:10001422-1707040800-1707048000@www.bahailv.org
SUMMARY:Bahai Learning Center
DESCRIPTION:Bahai Learning Center Schedule : Fall 2023 to Spring 2024. \n  \nStart time is 10 a.m. however Zoom attendees can join at 10:30 a.m.  Link will be emailed to the friends directly. \n 
URL:https://www.bahailv.org/event/bahai-learning-center-4/
ATTACH;FMTTYPE=image/jpeg:https://www.bahailv.org/wp-content/uploads/2021/03/Childrens-classes.jpeg
END:VEVENT
BEGIN:VEVENT
DTSTART;TZID=America/New_York:20240204T190000
DTEND;TZID=America/New_York:20240204T203000
DTSTAMP:20260425T123410
CREATED:20231207T155722Z
LAST-MODIFIED:20231207T160440Z
UID:10001485-1707073200-1707078600@www.bahailv.org
SUMMARY:Zoom study of Book 5 - Releasing the Powers Of Junior Youth.
DESCRIPTION:Releasing the Powers\nOf Junior Youth\n…for Youth and Young Adults ages 15 to 25+\nThe Baha’is of the Lehigh Valley\, in collaboration with Camp Tabarsi’s Suzan Gould and Little Pond Arts Retreat\, will hold a Zoom study of Book 5 (with one or two in-person meetings) \n\n\nBeginning Sunday\, Jan 7 and meeting regularly every other Sunday at 7 pm to 8:30 and is looking for participants\nPlease follow the link to this interest form to sign up: Book 5 Interest Form\nFacilitated by Suzan Gould\nAdmission is free; contributions accepted; registration required\n \n“The transformation in the individual and in society are intimately linked.\nDeveloping one’s potential and working for the welfare of society cannot be separated\,\nfor a person’s moral standards and behavior shape his or her environment\nand in turn are molded by the structure of society.”
URL:https://www.bahailv.org/event/zoom-study-releasing-the-powers-of-junior-youth-ruhi-book-5/2024-02-04/
ATTACH;FMTTYPE=image/jpeg:https://www.bahailv.org/wp-content/uploads/2023/12/Releasing-the-Power.jpeg
END:VEVENT
BEGIN:VEVENT
DTSTART;TZID=America/New_York:20240204T193000
DTEND;TZID=America/New_York:20240204T193000
DTSTAMP:20260425T123410
CREATED:20230625T020626Z
LAST-MODIFIED:20230625T020828Z
UID:10001336-1707075000-1707075000@www.bahailv.org
SUMMARY:Sunday night Zoom Healing Devotions hosted by Moira & Randy Padfield. Click here for details.
DESCRIPTION:Dear friends\,  \nThe Padfield family are hosting a devotional via Zoom Sunday evening at 7:30pm and each Sunday thereafter.  Link will be emailed to the friends directly.  We will be saying prayers for Richard Beane (our son-in-law in Belize) and Shirin’s sister as well as others in the community in need of healing prayers. We will also offer healing prayers for our community\, country and the world.   \nWe would be happy to have you join us and would welcome anything you would like to contribute in the form of prayers\, Writings\, or poems.   \nWe hope to see you on Sunday night.  Zoom link was emailed to the friends directly. \nWith loving regards\,
URL:https://www.bahailv.org/event/4523/2024-02-04/
ATTACH;FMTTYPE=image/jpeg:https://www.bahailv.org/wp-content/uploads/2020/05/devotions.jpg
END:VEVENT
BEGIN:VEVENT
DTSTART;TZID=America/New_York:20240207T190000
DTEND;TZID=America/New_York:20240207T200000
DTSTAMP:20260425T123410
CREATED:20230202T165418Z
LAST-MODIFIED:20231212T045237Z
UID:10001643-1707332400-1707336000@www.bahailv.org
SUMMARY:Weekly Wednesday Zoom Spanish Devotions hosted by Ana & Ivan Almonte. Click here for details.
DESCRIPTION:Weekly Wednesday Spanish Devotions hosted by the Almonte family. Contact Ana: 484 620 7466.
URL:https://www.bahailv.org/event/weekly-wednesday-zoom-spanish-devotions-hosted-by-ana-ivan-almonte-3/2024-02-07/
ATTACH;FMTTYPE=image/jpeg:https://www.bahailv.org/wp-content/uploads/2021/09/devotions_sm.jpg
END:VEVENT
BEGIN:VEVENT
DTSTART;TZID=America/New_York:20240208T190000
DTEND;TZID=America/New_York:20240208T213000
DTSTAMP:20260425T123410
CREATED:20230711T222557Z
LAST-MODIFIED:20240204T232912Z
UID:10001399-1707418800-1707427800@www.bahailv.org
SUMMARY:In person only - Feast of Mulk (Dominion) at Lawrences\, Thursday\, Feb 8\, 7 pm.  Click here for details.
DESCRIPTION:Hosts The Lawrence family. \n  \nDear Friends\, \nLaura and Henry Lawrence invite you to the Feast of Mulk. \nThursday\, February 8 beginning at 7 pm  \nThe Feast will be held at their home in Bethlehem. ( An email with the home address for the Lawrences’ was emailed to the friends )\n \nThis will be an in-person Feast.\n \nFor more information please contact them at: 610-573-0559. \nWarm regards\, \nRoseann Bowerman \nFor the LSA of Bethlehem Township
URL:https://www.bahailv.org/event/feast-of-mulk-dominion-host-tbd-click-here-for-details-3/
ATTACH;FMTTYPE=image/jpeg:https://www.bahailv.org/wp-content/uploads/2021/08/Feast.jpg
END:VEVENT
BEGIN:VEVENT
DTSTART;TZID=America/New_York:20240209T190000
DTEND;TZID=America/New_York:20240209T200000
DTSTAMP:20260425T123410
CREATED:20231130T223228Z
LAST-MODIFIED:20231130T223229Z
UID:10001476-1707505200-1707508800@www.bahailv.org
SUMMARY:Bi-weekly Friday night Devotional meeting.
DESCRIPTION:Please join our Bi-weekly Friday night devotional/Study Circle in-person or via Zoom.\n\n\n\n\nTopic: varies each time7:00 PM Eastern Time (US and Canada).\n\nZoom link was directly emailed to friends\, however for direct zoom link to the devotions contact Shirin Khalighi: khalighi1@aol.com OR Gladys Nay: gladandlou@msn.com 
URL:https://www.bahailv.org/event/bi-weekly-friday-night-devotional-meeting/
ATTACH;FMTTYPE=image/jpeg:https://www.bahailv.org/wp-content/uploads/2021/09/Devotions-3.jpeg
END:VEVENT
BEGIN:VEVENT
DTSTART;TZID=America/New_York:20240211T103000
DTEND;TZID=America/New_York:20240211T120000
DTSTAMP:20260425T123410
CREATED:20240106T232834Z
LAST-MODIFIED:20240107T002501Z
UID:10001491-1707647400-1707652800@www.bahailv.org
SUMMARY:Zoom only - Study of the letter from the Universal House of Justice dated November 28\, 2023
DESCRIPTION:Reflections on the First Century of the Formative Age  \nZoom link emailed to friends directly.
URL:https://www.bahailv.org/event/zoom-only-study-of-the-letter-from-the-universal-house-of-justice-dated-november-28-2023/2024-02-11/
ATTACH;FMTTYPE=application/pdf:https://www.bahailv.org/wp-content/uploads/2024/01/House-letter.pdf
END:VEVENT
BEGIN:VEVENT
DTSTART;TZID=America/New_York:20240211T130000
DTEND;TZID=America/New_York:20240211T153000
DTSTAMP:20260425T123410
CREATED:20240118T010048Z
LAST-MODIFIED:20240118T010048Z
UID:10001495-1707656400-1707665400@www.bahailv.org
SUMMARY:Monthly Sunday devotions hosted by Bill & Bridget George starting at 1 p.m.
DESCRIPTION:Dear Friends\,\n \nBuilding on the wonderful Peace Concert Devotional at Little Pond on January 1\, which was attended by 40 People\, our next Little Pond Devotional will be Sunday February 11 at 1 pm. \nThe theme is “Blessed are those who work in groups” – Abdu’l Baha\n \nOur sacred texts\, poetry\, stories and music will be focusing on leadership\, tolerance\, and conflict resolution.\nWe are delighted that this Devotional is a collaboration with Bob Fahringer\, who will be providing the live music.\n \nAs always\, the Devotional program will be followed by refreshments and discussion. It helps us to know if you are coming\, so please respond to bridgetgeorge9@gmail.com.\n \nWe do hope you will join us\, and of course you are welcome to forward this invitation to your friends.\nDirections to Little Pond can be found on our website\, https://littlepond.org/ \n\n \nThis being the New Year\, we also thought it would be helpful to let you know the dates of the Little Pond Devotionals through August 2024. All dates are Sundays at 1 pm on weekends that do not conflict with the Baha’i Learning Center activities.\n \nFebruary 11\nMarch 10\nApril 28 – This Devotional will also be our Baha’i community Ninth Day of Ridvan Celebration\nMay 26\nJune 30\nJuly 28\nAugust 25\n \nPlease mark your calendars and we look forward to welcoming you!\n \nBridget and Bill George
URL:https://www.bahailv.org/event/monthly-sunday-devotions-hosted-by-bill-bridget-george-starting-at-1-p-m/2024-02-11/
ATTACH;FMTTYPE=image/jpeg:https://www.bahailv.org/wp-content/uploads/2021/09/Devotions-3.jpeg
END:VEVENT
BEGIN:VEVENT
DTSTART;TZID=America/New_York:20240211T193000
DTEND;TZID=America/New_York:20240211T193000
DTSTAMP:20260425T123410
CREATED:20230625T020626Z
LAST-MODIFIED:20230625T020828Z
UID:10001638-1707679800-1707679800@www.bahailv.org
SUMMARY:Sunday night Zoom Healing Devotions hosted by Moira & Randy Padfield. Click here for details.
DESCRIPTION:Dear friends\,  \nThe Padfield family are hosting a devotional via Zoom Sunday evening at 7:30pm and each Sunday thereafter.  Link will be emailed to the friends directly.  We will be saying prayers for Richard Beane (our son-in-law in Belize) and Shirin’s sister as well as others in the community in need of healing prayers. We will also offer healing prayers for our community\, country and the world.   \nWe would be happy to have you join us and would welcome anything you would like to contribute in the form of prayers\, Writings\, or poems.   \nWe hope to see you on Sunday night.  Zoom link was emailed to the friends directly. \nWith loving regards\,
URL:https://www.bahailv.org/event/4523/2024-02-11/
ATTACH;FMTTYPE=image/jpeg:https://www.bahailv.org/wp-content/uploads/2020/05/devotions.jpg
END:VEVENT
END:VCALENDAR