BEGIN:VCALENDAR
VERSION:2.0
PRODID:-//Lehigh Valley Bahai - ECPv6.15.20//NONSGML v1.0//EN
CALSCALE:GREGORIAN
METHOD:PUBLISH
X-WR-CALNAME:Lehigh Valley Bahai
X-ORIGINAL-URL:https://www.bahailv.org
X-WR-CALDESC:Events for Lehigh Valley Bahai
REFRESH-INTERVAL;VALUE=DURATION:PT1H
X-Robots-Tag:noindex
X-PUBLISHED-TTL:PT1H
BEGIN:VTIMEZONE
TZID:America/New_York
BEGIN:DAYLIGHT
TZOFFSETFROM:-0500
TZOFFSETTO:-0400
TZNAME:EDT
DTSTART:20250309T070000
END:DAYLIGHT
BEGIN:STANDARD
TZOFFSETFROM:-0400
TZOFFSETTO:-0500
TZNAME:EST
DTSTART:20251102T060000
END:STANDARD
BEGIN:DAYLIGHT
TZOFFSETFROM:-0500
TZOFFSETTO:-0400
TZNAME:EDT
DTSTART:20260308T070000
END:DAYLIGHT
BEGIN:STANDARD
TZOFFSETFROM:-0400
TZOFFSETTO:-0500
TZNAME:EST
DTSTART:20261101T060000
END:STANDARD
BEGIN:DAYLIGHT
TZOFFSETFROM:-0500
TZOFFSETTO:-0400
TZNAME:EDT
DTSTART:20270314T070000
END:DAYLIGHT
BEGIN:STANDARD
TZOFFSETFROM:-0400
TZOFFSETTO:-0500
TZNAME:EST
DTSTART:20271107T060000
END:STANDARD
END:VTIMEZONE
BEGIN:VEVENT
DTSTART;TZID=America/New_York:20260313T071400
DTEND;TZID=America/New_York:20260313T190700
DTSTAMP:20260423T184510
CREATED:20250716T002557Z
LAST-MODIFIED:20260313T165022Z
UID:10003543-1773386040-1773428820@www.bahailv.org
SUMMARY:Bahai Fasting.  Click here for details.
DESCRIPTION:
URL:https://www.bahailv.org/event/bahai-fasting-click-here-for-details/2026-03-13/
ATTACH;FMTTYPE=image/jpeg:https://www.bahailv.org/wp-content/uploads/2020/05/fasting.jpg
END:VEVENT
BEGIN:VEVENT
DTSTART;TZID=America/New_York:20260312T190000
DTEND;TZID=America/New_York:20260312T200000
DTSTAMP:20260423T184510
CREATED:20260106T123327Z
LAST-MODIFIED:20260106T123529Z
UID:10003286-1773342000-1773345600@www.bahailv.org
SUMMARY:Weekly Thursday Zoom devotions hosted by the Almonte family.  Click here for details.
DESCRIPTION:Weekly Thursday Zoom devotions hosted by the Almonte family.  Contact Ana – 484 620 7466.
URL:https://www.bahailv.org/event/weekly-thursday-zoom-devotions-hosted-by-the-almonte-family-click-here-for-details/2026-03-12/
ATTACH;FMTTYPE=image/jpeg:https://www.bahailv.org/wp-content/uploads/2021/09/devotions_sm.jpg
END:VEVENT
BEGIN:VEVENT
DTSTART;TZID=America/New_York:20260312T071400
DTEND;TZID=America/New_York:20260312T190700
DTSTAMP:20260423T184510
CREATED:20250716T002557Z
LAST-MODIFIED:20260313T165022Z
UID:10003542-1773299640-1773342420@www.bahailv.org
SUMMARY:Bahai Fasting.  Click here for details.
DESCRIPTION:
URL:https://www.bahailv.org/event/bahai-fasting-click-here-for-details/2026-03-12/
ATTACH;FMTTYPE=image/jpeg:https://www.bahailv.org/wp-content/uploads/2020/05/fasting.jpg
END:VEVENT
BEGIN:VEVENT
DTSTART;TZID=America/New_York:20260311T071400
DTEND;TZID=America/New_York:20260311T190700
DTSTAMP:20260423T184510
CREATED:20250716T002557Z
LAST-MODIFIED:20260313T165022Z
UID:10003541-1773213240-1773256020@www.bahailv.org
SUMMARY:Bahai Fasting.  Click here for details.
DESCRIPTION:
URL:https://www.bahailv.org/event/bahai-fasting-click-here-for-details/2026-03-11/
ATTACH;FMTTYPE=image/jpeg:https://www.bahailv.org/wp-content/uploads/2020/05/fasting.jpg
END:VEVENT
BEGIN:VEVENT
DTSTART;TZID=America/New_York:20260310T071400
DTEND;TZID=America/New_York:20260310T190700
DTSTAMP:20260423T184510
CREATED:20250716T002557Z
LAST-MODIFIED:20260313T165022Z
UID:10003540-1773126840-1773169620@www.bahailv.org
SUMMARY:Bahai Fasting.  Click here for details.
DESCRIPTION:
URL:https://www.bahailv.org/event/bahai-fasting-click-here-for-details/2026-03-10/
ATTACH;FMTTYPE=image/jpeg:https://www.bahailv.org/wp-content/uploads/2020/05/fasting.jpg
END:VEVENT
BEGIN:VEVENT
DTSTART;TZID=America/New_York:20260309T071400
DTEND;TZID=America/New_York:20260309T190700
DTSTAMP:20260423T184510
CREATED:20250716T002557Z
LAST-MODIFIED:20260313T165022Z
UID:10003539-1773040440-1773083220@www.bahailv.org
SUMMARY:Bahai Fasting.  Click here for details.
DESCRIPTION:
URL:https://www.bahailv.org/event/bahai-fasting-click-here-for-details/2026-03-09/
ATTACH;FMTTYPE=image/jpeg:https://www.bahailv.org/wp-content/uploads/2020/05/fasting.jpg
END:VEVENT
BEGIN:VEVENT
DTSTART;TZID=America/New_York:20260308T193000
DTEND;TZID=America/New_York:20260308T203000
DTSTAMP:20260423T184510
CREATED:20260313T150145Z
LAST-MODIFIED:20260313T150503Z
UID:10003476-1772998200-1773001800@www.bahailv.org
SUMMARY:Sunday night Zoom Healing Devotions hosted by Moira & Randy Padfield.  Click here for details.
DESCRIPTION:Dear friends\,  \nThe Padfield family are hosting a devotional via Zoom Sunday evening at 7:30pm and each Sunday thereafter.  Link will be emailed to the friends directly.  We will be saying prayers for Richard Beane (our son-in-law in Belize) and Shirin’s sister as well as others in the community in need of healing prayers. We will also offer healing prayers for our community\, country and the world.   \nWe would be happy to have you join us and would welcome anything you would like to contribute in the form of prayers\, Writings\, or poems.   \nWe hope to see you on Sunday night.  Zoom link was emailed to the friends directly. \nWith loving regards\,
URL:https://www.bahailv.org/event/sunday-night-zoom-healing-devotions-hosted-by-moira-randy-padfield-click-here-for-details-12/2026-03-08/
ATTACH;FMTTYPE=image/jpeg:https://www.bahailv.org/wp-content/uploads/2020/05/devotions.jpg
END:VEVENT
BEGIN:VEVENT
DTSTART;TZID=America/New_York:20260308T130000
DTEND;TZID=America/New_York:20260308T150000
DTSTAMP:20260423T184510
CREATED:20260128T021611Z
LAST-MODIFIED:20260128T021611Z
UID:10003339-1772974800-1772982000@www.bahailv.org
SUMMARY:Little Pond monthly Sunday devotions hosted by Bill & Bridget. 1-3 p.m. at Little Pond\, Nazareth.  Click here for details.
DESCRIPTION:  \nDear Friends\,\n\nHere is an invitation to our next Little Pond Devotional on Sunday March 8 at 1 pm. Also\, here is a list of our Little Pond Devotional dates through November – All Sundays at 1pm.\nFebruary 15\, March 8\, April 12\, May 3 (this May date is reserved for possible Devotional by the youth involved in the Arts and Spirituality workshop with Erika Batdorf)\nJune 14\, July 19\, August 16\, September 20\, October 18\, and November 15. Thanks for putting these dates in your calendars! – Bridget.\n\n\n\n\n\n\n\n\n\nIt helps us to know who is coming\, so please respond to bridgetgeorge9@gmail.com if you are planning to join us. Please note that we have reverted to the start time of 1pm since quite a few people have expressed a desire to get home from Little Pond in the daylight. \nWe look forward to welcoming you! \nBridget & Bill George\n\n\n\n\n\n\n\n\n\n\n\n\n\n\n\nDirections to Little Pond \nTo find Little Pond\, 92 South Penn Dixie Rd.\, Nazareth PA\, take Rt. 248 (east from Rt. 512 in Bath PA or west from Rt. 191 in Nazareth PA) and then turn onto Penn Dixie Rd. After about a mile\, look for the No. 92 mailbox on the left and opposite it on the right is our private lane with the Little Pond and Preserved Land sign. Please make sure to follow these directions since the GPS sometimes takes you to a different private lane further along Penn Dixie Rd.\, which leads to a different house!  After turning onto our private lane\, you will find us in the last building on the left – the Great Room of the Long Barn. You can also find directions on our website littlepond.org. 
URL:https://www.bahailv.org/event/little-pond-monthly-sunday-devotions-hosted-by-bill-bridget-1-3-p-m-at-little-pond-nazareth-click-here-for-details-3/
ATTACH;FMTTYPE=image/jpeg:https://www.bahailv.org/wp-content/uploads/2021/09/Devotions-3.jpeg
END:VEVENT
BEGIN:VEVENT
DTSTART;TZID=America/New_York:20260308T071400
DTEND;TZID=America/New_York:20260308T190700
DTSTAMP:20260423T184510
CREATED:20250716T002557Z
LAST-MODIFIED:20260313T165022Z
UID:10003538-1772954040-1772996820@www.bahailv.org
SUMMARY:Bahai Fasting.  Click here for details.
DESCRIPTION:
URL:https://www.bahailv.org/event/bahai-fasting-click-here-for-details/2026-03-08/
ATTACH;FMTTYPE=image/jpeg:https://www.bahailv.org/wp-content/uploads/2020/05/fasting.jpg
END:VEVENT
BEGIN:VEVENT
DTSTART;TZID=America/New_York:20260307T071400
DTEND;TZID=America/New_York:20260307T190700
DTSTAMP:20260423T184510
CREATED:20250716T002557Z
LAST-MODIFIED:20260313T165022Z
UID:10003537-1772867640-1772910420@www.bahailv.org
SUMMARY:Bahai Fasting.  Click here for details.
DESCRIPTION:
URL:https://www.bahailv.org/event/bahai-fasting-click-here-for-details/2026-03-07/
ATTACH;FMTTYPE=image/jpeg:https://www.bahailv.org/wp-content/uploads/2020/05/fasting.jpg
END:VEVENT
BEGIN:VEVENT
DTSTART;TZID=America/New_York:20260306T171500
DTEND;TZID=America/New_York:20260306T171500
DTSTAMP:20260423T184510
CREATED:20260211T174301Z
LAST-MODIFIED:20260211T174520Z
UID:10003348-1772817300-1772817300@www.bahailv.org
SUMMARY:Special Ramadan and Baha'i Fast Dinner Friday March 6 for Lehigh Valley Baha'i and Muslim Communities
DESCRIPTION:Forwarding this invitation on behalf of Bridget George and Laura Lawrence:\n \nDear Baha’i friends\,\n\n\n\n\n\n \nThis is a very special invitation from the Lehigh Dialogue Center and our lovely friend Hafsa Turkyolu\, who is partnering with Laura Lawrence and myself in organizing this Ramadan/Iftar dinner event just for the Lehigh Valley Baha’i and Muslim Communities. The event is on Friday March 6\, 5:15pm at the Lehigh Dialogue Center 1500 Linden St. Bethlehem. Lehigh Dialogue Center is providing the food and Laura and I will bring drinks. A flyer designed by the Lehigh Dialogue Center is attached\n \nSince the Muslim and Baha’i communities are both fasting during this season—albeit in our own traditions—we thought this would be a wonderful opportunity to come together! Lehigh Dialogue Center has invited us to a casual\, friendly evening to get to know one another better. We’ll share who we are\, get to know what Ramadan and the Baha’i Fast are about\, including reading a Baha’i Fast prayer\, and break bread together. Plus\, we’ll have icebreakers and a fun raffle! We’d love for you to join us—come\, share the evening\, and let’s build bridges over a meal. Please RSVP to bridgetgeorge9@gmail.com by February 28 and let us know for how many people you are reserving seats at the dinner. Looking forward to seeing you there!\n\n \nWith loving greetings\n \nBridget George and Laura Lawrence
URL:https://www.bahailv.org/event/special-ramadan-and-bahai-fast-dinner-friday-march-6-for-lehigh-valley-bahai-and-muslim-communities/
ATTACH;FMTTYPE=application/pdf:https://www.bahailv.org/wp-content/uploads/2026/02/Bahai-Community-Iftar-Invitation-2.pdf
END:VEVENT
BEGIN:VEVENT
DTSTART;TZID=America/New_York:20260306T071400
DTEND;TZID=America/New_York:20260306T190700
DTSTAMP:20260423T184510
CREATED:20250716T002557Z
LAST-MODIFIED:20260313T165022Z
UID:10003536-1772781240-1772824020@www.bahailv.org
SUMMARY:Bahai Fasting.  Click here for details.
DESCRIPTION:
URL:https://www.bahailv.org/event/bahai-fasting-click-here-for-details/2026-03-06/
ATTACH;FMTTYPE=image/jpeg:https://www.bahailv.org/wp-content/uploads/2020/05/fasting.jpg
END:VEVENT
BEGIN:VEVENT
DTSTART;TZID=America/New_York:20260305T190000
DTEND;TZID=America/New_York:20260305T200000
DTSTAMP:20260423T184510
CREATED:20260106T123327Z
LAST-MODIFIED:20260106T123529Z
UID:10003285-1772737200-1772740800@www.bahailv.org
SUMMARY:Weekly Thursday Zoom devotions hosted by the Almonte family.  Click here for details.
DESCRIPTION:Weekly Thursday Zoom devotions hosted by the Almonte family.  Contact Ana – 484 620 7466.
URL:https://www.bahailv.org/event/weekly-thursday-zoom-devotions-hosted-by-the-almonte-family-click-here-for-details/2026-03-05/
ATTACH;FMTTYPE=image/jpeg:https://www.bahailv.org/wp-content/uploads/2021/09/devotions_sm.jpg
END:VEVENT
BEGIN:VEVENT
DTSTART;TZID=America/New_York:20260305T071400
DTEND;TZID=America/New_York:20260305T190700
DTSTAMP:20260423T184510
CREATED:20250716T002557Z
LAST-MODIFIED:20260313T165022Z
UID:10003535-1772694840-1772737620@www.bahailv.org
SUMMARY:Bahai Fasting.  Click here for details.
DESCRIPTION:
URL:https://www.bahailv.org/event/bahai-fasting-click-here-for-details/2026-03-05/
ATTACH;FMTTYPE=image/jpeg:https://www.bahailv.org/wp-content/uploads/2020/05/fasting.jpg
END:VEVENT
BEGIN:VEVENT
DTSTART;TZID=America/New_York:20260304T071400
DTEND;TZID=America/New_York:20260304T190700
DTSTAMP:20260423T184510
CREATED:20250716T002557Z
LAST-MODIFIED:20260313T165022Z
UID:10003534-1772608440-1772651220@www.bahailv.org
SUMMARY:Bahai Fasting.  Click here for details.
DESCRIPTION:
URL:https://www.bahailv.org/event/bahai-fasting-click-here-for-details/2026-03-04/
ATTACH;FMTTYPE=image/jpeg:https://www.bahailv.org/wp-content/uploads/2020/05/fasting.jpg
END:VEVENT
BEGIN:VEVENT
DTSTART;TZID=America/New_York:20260303T071400
DTEND;TZID=America/New_York:20260303T190700
DTSTAMP:20260423T184510
CREATED:20250716T002557Z
LAST-MODIFIED:20260313T165022Z
UID:10003533-1772522040-1772564820@www.bahailv.org
SUMMARY:Bahai Fasting.  Click here for details.
DESCRIPTION:
URL:https://www.bahailv.org/event/bahai-fasting-click-here-for-details/2026-03-03/
ATTACH;FMTTYPE=image/jpeg:https://www.bahailv.org/wp-content/uploads/2020/05/fasting.jpg
END:VEVENT
BEGIN:VEVENT
DTSTART;TZID=America/New_York:20260302T071400
DTEND;TZID=America/New_York:20260302T190700
DTSTAMP:20260423T184510
CREATED:20250716T002557Z
LAST-MODIFIED:20260313T165022Z
UID:10003532-1772435640-1772478420@www.bahailv.org
SUMMARY:Bahai Fasting.  Click here for details.
DESCRIPTION:
URL:https://www.bahailv.org/event/bahai-fasting-click-here-for-details/2026-03-02/
ATTACH;FMTTYPE=image/jpeg:https://www.bahailv.org/wp-content/uploads/2020/05/fasting.jpg
END:VEVENT
BEGIN:VEVENT
DTSTART;TZID=America/New_York:20260301T193000
DTEND;TZID=America/New_York:20260301T203000
DTSTAMP:20260423T184510
CREATED:20260313T150145Z
LAST-MODIFIED:20260313T150503Z
UID:10003475-1772393400-1772397000@www.bahailv.org
SUMMARY:Sunday night Zoom Healing Devotions hosted by Moira & Randy Padfield.  Click here for details.
DESCRIPTION:Dear friends\,  \nThe Padfield family are hosting a devotional via Zoom Sunday evening at 7:30pm and each Sunday thereafter.  Link will be emailed to the friends directly.  We will be saying prayers for Richard Beane (our son-in-law in Belize) and Shirin’s sister as well as others in the community in need of healing prayers. We will also offer healing prayers for our community\, country and the world.   \nWe would be happy to have you join us and would welcome anything you would like to contribute in the form of prayers\, Writings\, or poems.   \nWe hope to see you on Sunday night.  Zoom link was emailed to the friends directly. \nWith loving regards\,
URL:https://www.bahailv.org/event/sunday-night-zoom-healing-devotions-hosted-by-moira-randy-padfield-click-here-for-details-12/2026-03-01/
ATTACH;FMTTYPE=image/jpeg:https://www.bahailv.org/wp-content/uploads/2020/05/devotions.jpg
END:VEVENT
BEGIN:VEVENT
DTSTART;TZID=America/New_York:20260301T190000
DTEND;TZID=America/New_York:20260301T220000
DTSTAMP:20260423T184510
CREATED:20250716T001105Z
LAST-MODIFIED:20250716T001105Z
UID:10002434-1772391600-1772402400@www.bahailv.org
SUMMARY:Ayyam-i-Ha! Host TBD.  Click here for details.
DESCRIPTION:
URL:https://www.bahailv.org/event/ayyam-i-ha-host-tbd-click-here-for-details-5/2026-03-01/
ATTACH;FMTTYPE=image/jpeg:https://www.bahailv.org/wp-content/uploads/2020/05/ed9556e32f8df11922e61efdc5a02f95.jpg
END:VEVENT
BEGIN:VEVENT
DTSTART;TZID=America/New_York:20260301T150000
DTEND;TZID=America/New_York:20260301T180000
DTSTAMP:20260423T184510
CREATED:20250715T162835Z
LAST-MODIFIED:20260224T181616Z
UID:10002410-1772377200-1772388000@www.bahailv.org
SUMMARY:Feast of Ala (Loftiness).  Hosted by Neisan & Alaleh Sabet.  Details TBD. Click here for details.
DESCRIPTION:Hosts – Neisan & Alaleh Sabet – 215 740 5099 \nWe would like the feast to start at 3 o’clock. It will be held at the apartment clubhouse like before at the address below:  \n1641 33rd St SW Allentown\, PA 18103 United States And yes\, dinner will be served following the program
URL:https://www.bahailv.org/event/feast-of-ala-loftiness-host-tbd-click-here-for-details-3/
ATTACH;FMTTYPE=image/jpeg:https://www.bahailv.org/wp-content/uploads/2024/06/Feast-of-Ala-Loftiness.jpeg
END:VEVENT
BEGIN:VEVENT
DTSTART;TZID=America/New_York:20260228T180000
DTEND;TZID=America/New_York:20260228T210000
DTSTAMP:20260423T184510
CREATED:20260203T034712Z
LAST-MODIFIED:20260226T052104Z
UID:10002431-1772301600-1772312400@www.bahailv.org
SUMMARY:Ayyam-i-Ha! Hosted by the Kita family.  Click here for details.
DESCRIPTION:Forwarding this email on behalf of Tammy Kita & her family:\n \n\nWelcome Friends! \nJoin the Lehigh Valley Baha’i Community  \nin the joy and celebration of Ayyam-i-Ha! \n \n“It behoveth the people of Bahá\, throughout these days\, to provide good cheer for themselves\, their kindred and\, beyond them\, the poor and needy\, and with joy and exultation to hail and glorify their Lord\, to sing His praise and magnify His Name…” – Baha’u’llah\, The Kitab-i-Aqdas \n\n\nSaturday\, February 28\, 2026 beginning at 6:00 pm \n\n\nPotluck dinner and community fun at the home of the Kita family \n\n\ntammykita@gmail.com \n484-788-9128 \nBring food\, smiles\, and joy to share  \nBring your friends!  \nBring a small (<$10) wrapped gift for any child under 12 that you are bringing with you \nBring some non-perishable items and/or a grocery gift card for the local food bank  \n\n\nSign up on this Ayyami-i-Ha pot-luck sign up sheet to help us create a well-rounded meal and program. \n\n\nLast-minute RSVPs are no problem \n\n\nArriving without an RSVP is no problem either.
URL:https://www.bahailv.org/event/ayyam-i-ha-host-tbd-click-here-for-details-5-2/
ATTACH;FMTTYPE=image/jpeg:https://www.bahailv.org/wp-content/uploads/2020/05/ed9556e32f8df11922e61efdc5a02f95.jpg
END:VEVENT
BEGIN:VEVENT
DTSTART;TZID=America/New_York:20260227T190000
DTEND;TZID=America/New_York:20260227T220000
DTSTAMP:20260423T184510
CREATED:20250716T001105Z
LAST-MODIFIED:20250716T001105Z
UID:10002432-1772218800-1772229600@www.bahailv.org
SUMMARY:Ayyam-i-Ha! Host TBD.  Click here for details.
DESCRIPTION:
URL:https://www.bahailv.org/event/ayyam-i-ha-host-tbd-click-here-for-details-5/2026-02-27/
ATTACH;FMTTYPE=image/jpeg:https://www.bahailv.org/wp-content/uploads/2020/05/ed9556e32f8df11922e61efdc5a02f95.jpg
END:VEVENT
BEGIN:VEVENT
DTSTART;TZID=America/New_York:20260227T190000
DTEND;TZID=America/New_York:20260227T200000
DTSTAMP:20260423T184510
CREATED:20260106T125051Z
LAST-MODIFIED:20260106T125336Z
UID:10003334-1772218800-1772222400@www.bahailv.org
SUMMARY:Bi-weekly Friday night devotions/Study Circle in person or via Zoom.  Click here for details.
DESCRIPTION:Bi-weekly Friday night devotions/Study Circle in person or via Zoom. at the home of the Khalighis. \nPlease join our Bi-weekly Friday night devotional/Study Circle in-person or via Zoom.\n\n\n\n\nTopic: varies each time7:00 PM Eastern Time (US and Canada).\n\nZoom link was directly emailed to friends\, however for direct zoom link to the devotions contact Shirin Khalighi: khalighi1@aol.com OR Gladys Nay: gladandlou@msn.com
URL:https://www.bahailv.org/event/bi-weekly-friday-night-devotions-study-circle-in-person-or-via-zoom-click-here-for-details-7/2026-02-27/
ATTACH;FMTTYPE=image/jpeg:https://www.bahailv.org/wp-content/uploads/2021/09/Devotions-3.jpeg
END:VEVENT
BEGIN:VEVENT
DTSTART;TZID=America/New_York:20260226T190000
DTEND;TZID=America/New_York:20260226T220000
DTSTAMP:20260423T184510
CREATED:20260226T052351Z
LAST-MODIFIED:20260226T052351Z
UID:10002433-1772132400-1772143200@www.bahailv.org
SUMMARY:Ayyam-i-Ha! Host TBD.  Click here for details.
DESCRIPTION:
URL:https://www.bahailv.org/event/ayyam-i-ha-host-tbd-click-here-for-details-5-3/
ATTACH;FMTTYPE=image/jpeg:https://www.bahailv.org/wp-content/uploads/2020/05/ed9556e32f8df11922e61efdc5a02f95.jpg
END:VEVENT
BEGIN:VEVENT
DTSTART;TZID=America/New_York:20260226T190000
DTEND;TZID=America/New_York:20260226T200000
DTSTAMP:20260423T184510
CREATED:20260106T123327Z
LAST-MODIFIED:20260106T123529Z
UID:10003284-1772132400-1772136000@www.bahailv.org
SUMMARY:Weekly Thursday Zoom devotions hosted by the Almonte family.  Click here for details.
DESCRIPTION:Weekly Thursday Zoom devotions hosted by the Almonte family.  Contact Ana – 484 620 7466.
URL:https://www.bahailv.org/event/weekly-thursday-zoom-devotions-hosted-by-the-almonte-family-click-here-for-details/2026-02-26/
ATTACH;FMTTYPE=image/jpeg:https://www.bahailv.org/wp-content/uploads/2021/09/devotions_sm.jpg
END:VEVENT
BEGIN:VEVENT
DTSTART;TZID=America/New_York:20260225T190000
DTEND;TZID=America/New_York:20260225T220000
DTSTAMP:20260423T184510
CREATED:20250716T001105Z
LAST-MODIFIED:20250716T001105Z
UID:10002430-1772046000-1772056800@www.bahailv.org
SUMMARY:Ayyam-i-Ha! Host TBD.  Click here for details.
DESCRIPTION:
URL:https://www.bahailv.org/event/ayyam-i-ha-host-tbd-click-here-for-details-5/2026-02-25/
ATTACH;FMTTYPE=image/jpeg:https://www.bahailv.org/wp-content/uploads/2020/05/ed9556e32f8df11922e61efdc5a02f95.jpg
END:VEVENT
BEGIN:VEVENT
DTSTART;TZID=America/New_York:20260222T193000
DTEND;TZID=America/New_York:20260222T203000
DTSTAMP:20260423T184510
CREATED:20260313T150145Z
LAST-MODIFIED:20260313T150503Z
UID:10003474-1771788600-1771792200@www.bahailv.org
SUMMARY:Sunday night Zoom Healing Devotions hosted by Moira & Randy Padfield.  Click here for details.
DESCRIPTION:Dear friends\,  \nThe Padfield family are hosting a devotional via Zoom Sunday evening at 7:30pm and each Sunday thereafter.  Link will be emailed to the friends directly.  We will be saying prayers for Richard Beane (our son-in-law in Belize) and Shirin’s sister as well as others in the community in need of healing prayers. We will also offer healing prayers for our community\, country and the world.   \nWe would be happy to have you join us and would welcome anything you would like to contribute in the form of prayers\, Writings\, or poems.   \nWe hope to see you on Sunday night.  Zoom link was emailed to the friends directly. \nWith loving regards\,
URL:https://www.bahailv.org/event/sunday-night-zoom-healing-devotions-hosted-by-moira-randy-padfield-click-here-for-details-12/2026-02-22/
ATTACH;FMTTYPE=image/jpeg:https://www.bahailv.org/wp-content/uploads/2020/05/devotions.jpg
END:VEVENT
BEGIN:VEVENT
DTSTART;TZID=America/New_York:20260219T190000
DTEND;TZID=America/New_York:20260219T200000
DTSTAMP:20260423T184510
CREATED:20260106T123327Z
LAST-MODIFIED:20260106T123529Z
UID:10003283-1771527600-1771531200@www.bahailv.org
SUMMARY:Weekly Thursday Zoom devotions hosted by the Almonte family.  Click here for details.
DESCRIPTION:Weekly Thursday Zoom devotions hosted by the Almonte family.  Contact Ana – 484 620 7466.
URL:https://www.bahailv.org/event/weekly-thursday-zoom-devotions-hosted-by-the-almonte-family-click-here-for-details/2026-02-19/
ATTACH;FMTTYPE=image/jpeg:https://www.bahailv.org/wp-content/uploads/2021/09/devotions_sm.jpg
END:VEVENT
BEGIN:VEVENT
DTSTART;TZID=America/New_York:20260215T193000
DTEND;TZID=America/New_York:20260215T203000
DTSTAMP:20260423T184510
CREATED:20260313T150145Z
LAST-MODIFIED:20260313T150503Z
UID:10003473-1771183800-1771187400@www.bahailv.org
SUMMARY:Sunday night Zoom Healing Devotions hosted by Moira & Randy Padfield.  Click here for details.
DESCRIPTION:Dear friends\,  \nThe Padfield family are hosting a devotional via Zoom Sunday evening at 7:30pm and each Sunday thereafter.  Link will be emailed to the friends directly.  We will be saying prayers for Richard Beane (our son-in-law in Belize) and Shirin’s sister as well as others in the community in need of healing prayers. We will also offer healing prayers for our community\, country and the world.   \nWe would be happy to have you join us and would welcome anything you would like to contribute in the form of prayers\, Writings\, or poems.   \nWe hope to see you on Sunday night.  Zoom link was emailed to the friends directly. \nWith loving regards\,
URL:https://www.bahailv.org/event/sunday-night-zoom-healing-devotions-hosted-by-moira-randy-padfield-click-here-for-details-12/2026-02-15/
ATTACH;FMTTYPE=image/jpeg:https://www.bahailv.org/wp-content/uploads/2020/05/devotions.jpg
END:VEVENT
BEGIN:VEVENT
DTSTART;TZID=America/New_York:20260215T130000
DTEND;TZID=America/New_York:20260215T150000
DTSTAMP:20260423T184510
CREATED:20260128T020809Z
LAST-MODIFIED:20260128T020809Z
UID:10003338-1771160400-1771167600@www.bahailv.org
SUMMARY:Little Pond monthly Sunday devotions hosted by Bill & Bridget. 1-3 p.m. at Little Pond\, Nazareth. Click here for details.
DESCRIPTION:Dear Friends\,\n\nHere is an invitation to our next Little Pond Devotional on Sunday February 15 at 1pm. Also\, here is a list of our Little Pond Devotional dates through November – All Sundays at 1pm.\nFebruary 15\, March 8\, April 12\, May 3 (this May date is reserved for possible Devotional by the youth involved in the Arts and Spirituality workshop with Erika Batdorf)\nJune 14\, July 19\, August 16\, September 20\, October 18\, and November 15. Thanks for putting these dates in your calendars! – Bridget.\n\n\n\n\n\n\n\n\n\nIt helps us to know who is coming\, so please respond to bridgetgeorge9@gmail.com if you are planning to join us. Please note that we have reverted to the start time of 1pm since quite a few people have expressed a desire to get home from Little Pond in the daylight. \nWe look forward to welcoming you! \nBridget & Bill George\n\n\n\n\n\n\n\n\n\n\n\n\n\n\n\nDirections to Little Pond \nTo find Little Pond\, 92 South Penn Dixie Rd.\, Nazareth PA\, take Rt. 248 (east from Rt. 512 in Bath PA or west from Rt. 191 in Nazareth PA) and then turn onto Penn Dixie Rd. After about a mile\, look for the No. 92 mailbox on the left and opposite it on the right is our private lane with the Little Pond and Preserved Land sign. Please make sure to follow these directions since the GPS sometimes takes you to a different private lane further along Penn Dixie Rd.\, which leads to a different house!  After turning onto our private lane\, you will find us in the last building on the left – the Great Room of the Long Barn. You can also find directions on our website littlepond.org. 
URL:https://www.bahailv.org/event/little-pond-monthly-sunday-devotions-hosted-by-bill-bridget-1-3-p-m-at-little-pond-nazareth-click-here-for-details-2/
ATTACH;FMTTYPE=image/jpeg:https://www.bahailv.org/wp-content/uploads/2021/09/Devotions-3.jpeg
END:VEVENT
END:VCALENDAR