BEGIN:VCALENDAR
VERSION:2.0
PRODID:-//Lehigh Valley Bahai - ECPv6.15.20//NONSGML v1.0//EN
CALSCALE:GREGORIAN
METHOD:PUBLISH
X-ORIGINAL-URL:https://www.bahailv.org
X-WR-CALDESC:Events for Lehigh Valley Bahai
REFRESH-INTERVAL;VALUE=DURATION:PT1H
X-Robots-Tag:noindex
X-PUBLISHED-TTL:PT1H
BEGIN:VTIMEZONE
TZID:America/New_York
BEGIN:DAYLIGHT
TZOFFSETFROM:-0500
TZOFFSETTO:-0400
TZNAME:EDT
DTSTART:20220313T070000
END:DAYLIGHT
BEGIN:STANDARD
TZOFFSETFROM:-0400
TZOFFSETTO:-0500
TZNAME:EST
DTSTART:20221106T060000
END:STANDARD
BEGIN:DAYLIGHT
TZOFFSETFROM:-0500
TZOFFSETTO:-0400
TZNAME:EDT
DTSTART:20230312T070000
END:DAYLIGHT
BEGIN:STANDARD
TZOFFSETFROM:-0400
TZOFFSETTO:-0500
TZNAME:EST
DTSTART:20231105T060000
END:STANDARD
BEGIN:DAYLIGHT
TZOFFSETFROM:-0500
TZOFFSETTO:-0400
TZNAME:EDT
DTSTART:20240310T070000
END:DAYLIGHT
BEGIN:STANDARD
TZOFFSETFROM:-0400
TZOFFSETTO:-0500
TZNAME:EST
DTSTART:20241103T060000
END:STANDARD
END:VTIMEZONE
BEGIN:VEVENT
DTSTART;TZID=America/New_York:20230405T190000
DTEND;TZID=America/New_York:20230405T200000
DTSTAMP:20260425T222110
CREATED:20230202T165418Z
LAST-MODIFIED:20231212T045237Z
UID:10001198-1680721200-1680724800@www.bahailv.org
SUMMARY:Weekly Wednesday Zoom Spanish Devotions hosted by Ana & Ivan Almonte. Click here for details.
DESCRIPTION:Weekly Wednesday Spanish Devotions hosted by the Almonte family. Contact Ana: 484 620 7466.
URL:https://www.bahailv.org/event/weekly-wednesday-zoom-spanish-devotions-hosted-by-ana-ivan-almonte-3/2023-04-05/
ATTACH;FMTTYPE=image/jpeg:https://www.bahailv.org/wp-content/uploads/2021/09/devotions_sm.jpg
END:VEVENT
BEGIN:VEVENT
DTSTART;TZID=America/New_York:20230407T190000
DTEND;TZID=America/New_York:20230407T200000
DTSTAMP:20260425T222110
CREATED:20230227T014444Z
LAST-MODIFIED:20230227T014445Z
UID:10001197-1680894000-1680897600@www.bahailv.org
SUMMARY:Monthly Bahai Basics.  An online introduction to the Baha'i Faith and discussions and Q&A.  Click here for details.
DESCRIPTION:Dear Friends\,\n\n \n\nIntroduction to the Baha’i Faith and discussions and Q&A following the introduction.  This is being held the second Monday of each month from 7-8 p.m. An email reminder with the Zoom link information will be emailed each month.   \n \nThis Fireside chat will feature a brief introduction to the Baha’i Teachings on the importance of religion and spirituality in creating harmony among the diverse nations\, races and religions of the world.  After the presentation there will be opportunity for questions and discussion by the participants.  This meeting is open to all.  Please invite friends and anyone who you think would be interested in learning about this topic.
URL:https://www.bahailv.org/event/monthly-bahai-basics-an-online-introduction-to-the-bahai-faith-and-discussions-and-qa-click-here-for-details/
ATTACH;FMTTYPE=image/jpeg:https://www.bahailv.org/wp-content/uploads/2022/10/BB.jpeg
END:VEVENT
BEGIN:VEVENT
DTSTART;TZID=America/New_York:20230409T190000
DTEND;TZID=America/New_York:20230409T210000
DTSTAMP:20260425T222110
CREATED:20220809T170552Z
LAST-MODIFIED:20230404T221209Z
UID:10000485-1681066800-1681074000@www.bahailv.org
SUMMARY:Feast of Jalal (Glory) - Host Margaret Rawdon. Click here for details.
DESCRIPTION:Dear Friends\,  \nMargaret Rawdon warmly invites you to the Feast of Jalal (Glory)  \nSunday\, April 9  beginning at 7 pm in person and on Zoom. \nFor those who cannot attend in person please use the zoom link which was directly emailed to you. \nMargaret’s contact number is 484.896.0385. \nEmail address for Margaret is:  cmrawdon@gmail.com \nWarmest regards\,  Moira Padfield for the LSA of Bethlehem Township
URL:https://www.bahailv.org/event/feast-of-jalal-glory-host-tbd-click-here-for-details-2/
ATTACH;FMTTYPE=image/jpeg:https://www.bahailv.org/wp-content/uploads/2021/08/Feast.jpg
END:VEVENT
BEGIN:VEVENT
DTSTART;TZID=America/New_York:20230412T190000
DTEND;TZID=America/New_York:20230412T200000
DTSTAMP:20260425T222110
CREATED:20230202T165418Z
LAST-MODIFIED:20231212T045237Z
UID:10001199-1681326000-1681329600@www.bahailv.org
SUMMARY:Weekly Wednesday Zoom Spanish Devotions hosted by Ana & Ivan Almonte. Click here for details.
DESCRIPTION:Weekly Wednesday Spanish Devotions hosted by the Almonte family. Contact Ana: 484 620 7466.
URL:https://www.bahailv.org/event/weekly-wednesday-zoom-spanish-devotions-hosted-by-ana-ivan-almonte-3/2023-04-12/
ATTACH;FMTTYPE=image/jpeg:https://www.bahailv.org/wp-content/uploads/2021/09/devotions_sm.jpg
END:VEVENT
BEGIN:VEVENT
DTSTART;TZID=America/New_York:20230414T190000
DTEND;TZID=America/New_York:20230414T200000
DTSTAMP:20260425T222110
CREATED:20230210T161217Z
LAST-MODIFIED:20230227T013234Z
UID:10001178-1681498800-1681502400@www.bahailv.org
SUMMARY:Please join our Bi-weekly Friday night devotional in-person or via Zoom.
DESCRIPTION:Dear Friends\,\n \nPlease join our Bi-weekly Friday night devotional/Study Circle in-person or via Zoom.\n\n\n\n\nTopic: varies each time7:00 PM Eastern Time (US and Canada).\n\nZoom link was directly emailed to friends\, however for direct zoom link to the devotions contact Shirin Khalighi: khalighi1@aol.com OR Gladys Nay: gladandlou@msn.com 
URL:https://www.bahailv.org/event/bi-weekly-friday-night-devotions-ruhi-1-facilitated-by-khalighis-gladys-nay-click-here-for-details-2/2023-04-14/
ATTACH;FMTTYPE=image/jpeg:https://www.bahailv.org/wp-content/uploads/2021/09/Devotions-3.jpeg
END:VEVENT
BEGIN:VEVENT
DTSTART;TZID=America/New_York:20230415T180000
DTEND;TZID=America/New_York:20230415T200000
DTSTAMP:20260425T222110
CREATED:20230328T192134Z
LAST-MODIFIED:20230328T192743Z
UID:10001261-1681581600-1681588800@www.bahailv.org
SUMMARY:Zoom Meeting of the Local Spiritual Assembly of the Baha’is of Bethlehem Township.6 – 8 p.m. Click here for details.
DESCRIPTION:Zoom Meeting of the Local Spiritual Assembly of the Baha’is of Bethlehem Township. 6 – 8 p.m.
URL:https://www.bahailv.org/event/meeting-of-the-local-spiritual-assembly-of-the-bahais-of-bethlehem-township-6-8-p-m-click-here-for-details/
ATTACH;FMTTYPE=image/jpeg:https://www.bahailv.org/wp-content/uploads/2021/12/LSA-BT.jpeg
END:VEVENT
BEGIN:VEVENT
DTSTART;TZID=America/New_York:20230416T100000
DTEND;TZID=America/New_York:20230416T120000
DTSTAMP:20260425T222110
CREATED:20221010T153726Z
LAST-MODIFIED:20221109T005533Z
UID:10000558-1681639200-1681646400@www.bahailv.org
SUMMARY:In person Baha’i Learning Center 10am-12noon at  Lehigh Valley Center for Sight\,  Allentown\, PA  18104.
DESCRIPTION:Dear friends please join us for the start of the Baha’i Learning Center in person. \nBaha’i Learning Center 10am-12noon.  Location: In person at Houman Ahdieh’s office\, Lehigh Valley Center for Sight\, 1739 West Fairmont Street\, Allentown\, PA  18104. \n\n\nWe look forward to seeing you\,  Moira Padfield for the LSA of Bethlehem Township.
URL:https://www.bahailv.org/event/in-person-bahai-learning-center-10am-12noon-at-lehigh-valley-center-for-sight-allentown-pa-18104-7/
ATTACH;FMTTYPE=image/jpeg:https://www.bahailv.org/wp-content/uploads/2021/03/Childrens-classes.jpeg
END:VEVENT
BEGIN:VEVENT
DTSTART;TZID=America/New_York:20230416T193000
DTEND;TZID=America/New_York:20230416T203000
DTSTAMP:20260425T222110
CREATED:20230319T235943Z
LAST-MODIFIED:20230319T235943Z
UID:10001256-1681673400-1681677000@www.bahailv.org
SUMMARY:Sunday night Zoom Healing Devotions hosted by Moira & Randy Padfield.  Click here for details.
DESCRIPTION:Dear friends\,  \nThe Padfield family are hosting a devotional via Zoom Sunday evening at 7:30pm and each Sunday thereafter.  Link will be emailed to the friends directly.  We will be saying prayers for Richard Beane (our son-in-law in Belize) and Shirin’s sister as well as others in the community in need of healing prayers. We will also offer healing prayers for our community\, country and the world.   \nWe would be happy to have you join us and would welcome anything you would like to contribute in the form of prayers\, Writings\, or poems.   \nWe hope to see you on Sunday night.  Zoom link was emailed to the friends directly. \nWith loving regards\,
URL:https://www.bahailv.org/event/sunday-night-zoom-healing-devotions-hosted-by-moira-randy-padfield-click-here-for-details-6/
ATTACH;FMTTYPE=image/jpeg:https://www.bahailv.org/wp-content/uploads/2020/05/devotions.jpg
END:VEVENT
BEGIN:VEVENT
DTSTART;TZID=America/New_York:20230419T190000
DTEND;TZID=America/New_York:20230419T200000
DTSTAMP:20260425T222110
CREATED:20230202T165418Z
LAST-MODIFIED:20231212T045237Z
UID:10001200-1681930800-1681934400@www.bahailv.org
SUMMARY:Weekly Wednesday Zoom Spanish Devotions hosted by Ana & Ivan Almonte. Click here for details.
DESCRIPTION:Weekly Wednesday Spanish Devotions hosted by the Almonte family. Contact Ana: 484 620 7466.
URL:https://www.bahailv.org/event/weekly-wednesday-zoom-spanish-devotions-hosted-by-ana-ivan-almonte-3/2023-04-19/
ATTACH;FMTTYPE=image/jpeg:https://www.bahailv.org/wp-content/uploads/2021/09/devotions_sm.jpg
END:VEVENT
BEGIN:VEVENT
DTSTART;TZID=America/New_York:20230420T190000
DTEND;TZID=America/New_York:20230420T210000
DTSTAMP:20260425T222110
CREATED:20221011T010704Z
LAST-MODIFIED:20230406T195101Z
UID:10000968-1682017200-1682024400@www.bahailv.org
SUMMARY:First day of Ridvan - Hosted by Koroush & Shirin Khalighi.  Click here for details.
DESCRIPTION:Hosted by Koroush & Shirin Khalighi.
URL:https://www.bahailv.org/event/first-day-of-ridvan-host-tbd-click-here-for-the-details/
ATTACH;FMTTYPE=image/jpeg:https://www.bahailv.org/wp-content/uploads/2020/05/7097563073_0f946b93e0_b.jpg
END:VEVENT
BEGIN:VEVENT
DTSTART;TZID=America/New_York:20230423T130000
DTEND;TZID=America/New_York:20230423T150000
DTSTAMP:20260425T222110
CREATED:20230113T004430Z
LAST-MODIFIED:20230113T004431Z
UID:10001080-1682254800-1682262000@www.bahailv.org
SUMMARY:Monthly Sunday devotions hosted by Bill & Bridget George starting at 1 p.m.
DESCRIPTION:Details & program TBD.  Contact: 610 570 1336.
URL:https://www.bahailv.org/event/monthly-sunday-devotions-hosted-by-bill-bridget-george-starting-at-1-p-m-2/
ATTACH;FMTTYPE=image/jpeg:https://www.bahailv.org/wp-content/uploads/2021/09/Devotions-3.jpeg
END:VEVENT
BEGIN:VEVENT
DTSTART;TZID=America/New_York:20230423T193000
DTEND;TZID=America/New_York:20230423T203000
DTSTAMP:20260425T222110
CREATED:20230320T000504Z
LAST-MODIFIED:20230320T000504Z
UID:10001257-1682278200-1682281800@www.bahailv.org
SUMMARY:Sunday night Zoom Healing Devotions hosted by Moira & Randy Padfield.  Click here for details.
DESCRIPTION:Dear friends\,  \nThe Padfield family are hosting a devotional via Zoom Sunday evening at 7:30pm and each Sunday thereafter.  Link will be emailed to the friends directly.  We will be saying prayers for Richard Beane (our son-in-law in Belize) and Shirin’s sister as well as others in the community in need of healing prayers. We will also offer healing prayers for our community\, country and the world.   \nWe would be happy to have you join us and would welcome anything you would like to contribute in the form of prayers\, Writings\, or poems.   \nWe hope to see you on Sunday night.  Zoom link was emailed to the friends directly. \nWith loving regards\,
URL:https://www.bahailv.org/event/sunday-night-zoom-healing-devotions-hosted-by-moira-randy-padfield-click-here-for-details-7/
ATTACH;FMTTYPE=image/jpeg:https://www.bahailv.org/wp-content/uploads/2020/05/devotions.jpg
END:VEVENT
BEGIN:VEVENT
DTSTART;TZID=America/New_York:20230426T190000
DTEND;TZID=America/New_York:20230426T200000
DTSTAMP:20260425T222110
CREATED:20230202T165418Z
LAST-MODIFIED:20231212T045237Z
UID:10001201-1682535600-1682539200@www.bahailv.org
SUMMARY:Weekly Wednesday Zoom Spanish Devotions hosted by Ana & Ivan Almonte. Click here for details.
DESCRIPTION:Weekly Wednesday Spanish Devotions hosted by the Almonte family. Contact Ana: 484 620 7466.
URL:https://www.bahailv.org/event/weekly-wednesday-zoom-spanish-devotions-hosted-by-ana-ivan-almonte-3/2023-04-26/
ATTACH;FMTTYPE=image/jpeg:https://www.bahailv.org/wp-content/uploads/2021/09/devotions_sm.jpg
END:VEVENT
BEGIN:VEVENT
DTSTART;TZID=America/New_York:20230428T193000
DTEND;TZID=America/New_York:20230428T213000
DTSTAMP:20260425T222110
CREATED:20220809T170828Z
LAST-MODIFIED:20230423T173423Z
UID:10000486-1682710200-1682717400@www.bahailv.org
SUMMARY:Feast of Jamal (Beauty) - Hosted by Bill & Bridget George.  Click here for details.
DESCRIPTION:Host – The George family.   \n  \nDear Friends\,  \nBill and Bridget George warmly invite you to the Feast of Jamal (Beauty)  \nFriday\, April 28  beginning at 7:30 pm in person and on Zoom. \nFor those who cannot attend in person the link to join on Zoom was emailed to the friends. \nTheir contact number is: 610.570.1336 \nThe email address is:  Bridgetgeorge9@gmail.com \nWarmest regards\,  Moira Padfield for the LSA of Bethlehem Township
URL:https://www.bahailv.org/event/feast-of-jamal-beauty-host-tbd-click-here-for-details-2/
ATTACH;FMTTYPE=image/jpeg:https://www.bahailv.org/wp-content/uploads/2021/08/Feast.jpg
END:VEVENT
BEGIN:VEVENT
DTSTART;TZID=America/New_York:20230430T100000
DTEND;TZID=America/New_York:20230430T120000
DTSTAMP:20260425T222110
CREATED:20221010T153953Z
LAST-MODIFIED:20221109T005713Z
UID:10000559-1682848800-1682856000@www.bahailv.org
SUMMARY:In person Baha’i Learning Center 10am-12noon at Lehigh Valley Center for Sight\,  Allentown\, PA  18104.
DESCRIPTION:Dear friends please join us for the start of the Baha’i Learning Center in person. \nBaha’i Learning Center 10am-12noon.  Location: In person at Houman Ahdieh’s office\, Lehigh Valley Center for Sight\, 1739 West Fairmont Street\, Allentown\, PA  18104. \n\n\nWe look forward to seeing you\,  Moira Padfield for the LSA of Bethlehem Township.
URL:https://www.bahailv.org/event/in-person-bahai-learning-center-10am-12noon-at-lehigh-valley-center-for-sight-allentown-pa-18104-8/
ATTACH;FMTTYPE=image/jpeg:https://www.bahailv.org/wp-content/uploads/2021/03/Childrens-classes.jpeg
END:VEVENT
BEGIN:VEVENT
DTSTART;TZID=America/New_York:20230430T100000
DTEND;TZID=America/New_York:20230430T120000
DTSTAMP:20260425T222110
CREATED:20221011T011241Z
LAST-MODIFIED:20230407T183924Z
UID:10000969-1682848800-1682856000@www.bahailv.org
SUMMARY:Ninth day of Ridvan - Hosted by Houmah Ahdieh at Bahai Learning Center.   Click here for details.
DESCRIPTION:The 9th day of Ridvan Celebration will be held at Bahá’í Learning Center (Houman Ahdieh’s office) in Allentown on Sunday April 30th at 10 AM.
URL:https://www.bahailv.org/event/ninth-day-of-ridvan-host-tbd-click-here-for-details/
ATTACH;FMTTYPE=image/jpeg:https://www.bahailv.org/wp-content/uploads/2022/05/ridvan.jpg
END:VEVENT
BEGIN:VEVENT
DTSTART;TZID=America/New_York:20230430T193000
DTEND;TZID=America/New_York:20230430T203000
DTSTAMP:20260425T222110
CREATED:20230320T000902Z
LAST-MODIFIED:20230320T000902Z
UID:10001258-1682883000-1682886600@www.bahailv.org
SUMMARY:Sunday night Zoom Healing Devotions hosted by Moira & Randy Padfield.  Click here for details.
DESCRIPTION:Dear friends\,  \nThe Padfield family are hosting a devotional via Zoom Sunday evening at 7:30pm and each Sunday thereafter.  Link will be emailed to the friends directly.  We will be saying prayers for Richard Beane (our son-in-law in Belize) and Shirin’s sister as well as others in the community in need of healing prayers. We will also offer healing prayers for our community\, country and the world.   \nWe would be happy to have you join us and would welcome anything you would like to contribute in the form of prayers\, Writings\, or poems.   \nWe hope to see you on Sunday night.  Zoom link was emailed to the friends directly. \nWith loving regards\,
URL:https://www.bahailv.org/event/sunday-night-zoom-healing-devotions-hosted-by-moira-randy-padfield-click-here-for-details-8/
ATTACH;FMTTYPE=image/jpeg:https://www.bahailv.org/wp-content/uploads/2020/05/devotions.jpg
END:VEVENT
BEGIN:VEVENT
DTSTART;TZID=America/New_York:20230501T190000
DTEND;TZID=America/New_York:20230501T213000
DTSTAMP:20260425T222110
CREATED:20221011T011512Z
LAST-MODIFIED:20230421T030247Z
UID:10000970-1682967600-1682976600@www.bahailv.org
SUMMARY:In person only - 12th Day of Ridvan - to be hosted by Doug & Roseann Bowerman.   Click here for details.
DESCRIPTION:Doug and Roseann Bowerman are happy to invite you to the Celebration of the Twelfth Day of Ridvan on Monday\, May 1\, 2023 at 7:00 pm at their home  in Nazareth PA.\nThe commemoration program will be followed by refreshments.\nFor more information please contact Roseann at 610-704-0026\nWe hope you can join us!
URL:https://www.bahailv.org/event/12th-day-of-ridvan-host-tbd-click-here-for-details/
ATTACH;FMTTYPE=image/jpeg:https://www.bahailv.org/wp-content/uploads/2022/05/ridvan.jpg
END:VEVENT
BEGIN:VEVENT
DTSTART;TZID=America/New_York:20230503T190000
DTEND;TZID=America/New_York:20230503T200000
DTSTAMP:20260425T222110
CREATED:20230202T165418Z
LAST-MODIFIED:20231212T045237Z
UID:10001202-1683140400-1683144000@www.bahailv.org
SUMMARY:Weekly Wednesday Zoom Spanish Devotions hosted by Ana & Ivan Almonte. Click here for details.
DESCRIPTION:Weekly Wednesday Spanish Devotions hosted by the Almonte family. Contact Ana: 484 620 7466.
URL:https://www.bahailv.org/event/weekly-wednesday-zoom-spanish-devotions-hosted-by-ana-ivan-almonte-3/2023-05-03/
ATTACH;FMTTYPE=image/jpeg:https://www.bahailv.org/wp-content/uploads/2021/09/devotions_sm.jpg
END:VEVENT
BEGIN:VEVENT
DTSTART;TZID=America/New_York:20230505T190000
DTEND;TZID=America/New_York:20230505T200000
DTSTAMP:20260425T222110
CREATED:20230415T164526Z
LAST-MODIFIED:20230415T164527Z
UID:10001027-1683313200-1683316800@www.bahailv.org
SUMMARY:Monthly Bahai Basics. An online Introduction to the Baha'i Faith and discussions and Q&A. Click here for details.
DESCRIPTION:Dear Friends\,\n\n\n \n\nIntroduction to the Baha’i Faith and discussions and Q&A following the introduction.  This is being held the second Monday of each month from 7-8 p.m. An email reminder with the Zoom link information will be emailed each month.   \n \nThis Fireside chat will feature a brief introduction to the Baha’i Teachings on the importance of religion and spirituality in creating harmony among the diverse nations\, races and religions of the world.  After the presentation there will be opportunity for questions and discussion by the participants.  This meeting is open to all.  Please invite friends and anyone who you think would be interested in learning about this topic.
URL:https://www.bahailv.org/event/bahai-basics-2-2/
ATTACH;FMTTYPE=image/jpeg:https://www.bahailv.org/wp-content/uploads/2022/10/BB.jpeg
END:VEVENT
BEGIN:VEVENT
DTSTART;TZID=America/New_York:20230507T110000
DTEND;TZID=America/New_York:20230507T130000
DTSTAMP:20260425T222110
CREATED:20230423T174335Z
LAST-MODIFIED:20230424T012521Z
UID:10001281-1683457200-1683464400@www.bahailv.org
SUMMARY:Allentown/Reading Cluster Reflection Gathering at the B'nai B'rith House 11th floor party room\, 1616 Liberty Street Allentown. - Sunday\, 7 May\, 11 a.m.  Click here for details.
DESCRIPTION:Dearest Friends\,\n\nYou are warmly invited to our next Cluster Reflection Gathering to take place on Sunday May 7th at 11AM. This will be an in-person gathering as well as on zoom\, at the B’nai B’rith House 11th floor party room\, 1616 Liberty Street Allentown. As always\, it will be a time for fellowship\, devotion and consultation where we can reflect and learn from each other on the activities that are currently ongoing around our communities.  \nWe are also very excited to announce the showing of recently released 90 minute feature film “Abdu’l-Bahá in Paris” immediately following the reflection gathering along with a light lunch for the friends attending in-person! \nWe very much hope to see each one of you soon! \nWith Much Love and Appreciation\, \nHouman Ahdieh \nOn Behalf of \nThe Area Teaching Committee
URL:https://www.bahailv.org/event/allentown-reading-cluster-reflection-gathering-details-coming-soon-click-here-for-details/
ATTACH;FMTTYPE=image/jpeg:https://www.bahailv.org/wp-content/uploads/2021/06/Cluster-Reflection-meeting..jpg
END:VEVENT
BEGIN:VEVENT
DTSTART;TZID=America/New_York:20230507T193000
DTEND;TZID=America/New_York:20230507T203000
DTSTAMP:20260425T222110
CREATED:20230424T015317Z
LAST-MODIFIED:20230424T015449Z
UID:10001286-1683487800-1683491400@www.bahailv.org
SUMMARY:Sunday night Zoom Healing Devotions hosted by Moira & Randy Padfield.  Click here for details.
DESCRIPTION:Dear friends\,  \nThe Padfield family are hosting a devotional via Zoom Sunday evening at 7:30pm and each Sunday thereafter.  Link will be emailed to the friends directly.  We will be saying prayers for Richard Beane (our son-in-law in Belize) and Shirin’s sister as well as others in the community in need of healing prayers. We will also offer healing prayers for our community\, country and the world.   \nWe would be happy to have you join us and would welcome anything you would like to contribute in the form of prayers\, Writings\, or poems.   \nWe hope to see you on Sunday night.  Zoom link was emailed to the friends directly. \nWith loving regards\,
URL:https://www.bahailv.org/event/sunday-night-zoom-healing-devotions-hosted-by-moira-randy-padfield-click-here-for-details-9/2023-05-07/
ATTACH;FMTTYPE=image/jpeg:https://www.bahailv.org/wp-content/uploads/2020/05/devotions.jpg
END:VEVENT
BEGIN:VEVENT
DTSTART;TZID=America/New_York:20230509T190000
DTEND;TZID=America/New_York:20230509T210000
DTSTAMP:20260425T222110
CREATED:20230424T151103Z
LAST-MODIFIED:20230424T151103Z
UID:10001289-1683658800-1683666000@www.bahailv.org
SUMMARY:Zoom Meeting of the Local Spiritual Assembly of the Baha’is of Bethlehem Township.7 p.m. Click here for details.
DESCRIPTION:Zoom Meeting of the Local Spiritual Assembly of the Baha’is of Bethlehem Township. 7 – 9 p.m. Click here for details.
URL:https://www.bahailv.org/event/zoom-meeting-of-the-local-spiritual-assembly-of-the-bahais-of-bethlehem-township-7-p-m-click-here-for-details/
ATTACH;FMTTYPE=image/jpeg:https://www.bahailv.org/wp-content/uploads/2021/12/LSA-BT.jpeg
END:VEVENT
BEGIN:VEVENT
DTSTART;TZID=America/New_York:20230510T190000
DTEND;TZID=America/New_York:20230510T200000
DTSTAMP:20260425T222110
CREATED:20230202T165418Z
LAST-MODIFIED:20231212T045237Z
UID:10001203-1683745200-1683748800@www.bahailv.org
SUMMARY:Weekly Wednesday Zoom Spanish Devotions hosted by Ana & Ivan Almonte. Click here for details.
DESCRIPTION:Weekly Wednesday Spanish Devotions hosted by the Almonte family. Contact Ana: 484 620 7466.
URL:https://www.bahailv.org/event/weekly-wednesday-zoom-spanish-devotions-hosted-by-ana-ivan-almonte-3/2023-05-10/
ATTACH;FMTTYPE=image/jpeg:https://www.bahailv.org/wp-content/uploads/2021/09/devotions_sm.jpg
END:VEVENT
BEGIN:VEVENT
DTSTART;TZID=America/New_York:20230512T190000
DTEND;TZID=America/New_York:20230512T200000
DTSTAMP:20260425T222110
CREATED:20230415T165219Z
LAST-MODIFIED:20230415T165220Z
UID:10001279-1683918000-1683921600@www.bahailv.org
SUMMARY:Bi-weekly Friday night devotional/Study Circle in-person or via Zoom.
DESCRIPTION:Dear Friends\,\n \nPlease join our Bi-weekly Friday night devotional/Study Circle in-person or via Zoom.\n\n\n\n\nTopic: varies each time7:00 PM Eastern Time (US and Canada).\n\nZoom link was directly emailed to friends\, however for direct zoom link to the devotions contact Shirin Khalighi: khalighi1@aol.com OR Gladys Nay: gladandlou@msn.com 
URL:https://www.bahailv.org/event/bi-weekly-friday-night-devotional-study-circle-in-person-or-via-zoom/
ATTACH;FMTTYPE=image/jpeg:https://www.bahailv.org/wp-content/uploads/2021/09/Devotions-3.jpeg
END:VEVENT
BEGIN:VEVENT
DTSTART;TZID=America/New_York:20230518T190000
DTEND;TZID=America/New_York:20230518T213000
DTSTAMP:20260425T222110
CREATED:20220809T171128Z
LAST-MODIFIED:20230513T185239Z
UID:10000487-1684436400-1684445400@www.bahailv.org
SUMMARY:Feast of Azamat (Grandeur) to be hosted by Moira & Randy Padfield.  Click here for details.
DESCRIPTION:Hosts – Randy & Moira Padfield. \nDear Friends\,  \nRandy and Moira Padfield warmly invite you to the Feast of Azamat (Grandeur)  \nThursday\, May 18  beginning at 7:00 pm in person and on Zoom. \nFor those who cannot attend in person a zoom link was emailed directly to the friends. \nWeather permitting we may have part of the feast in our gazebo.  \nOur contact number is: 610.703.2874 \nOur email address is:  moirapadfield@gmail.com \nWarmest regards\,  Moira Padfield for the LSA of Bethlehem Township \n 
URL:https://www.bahailv.org/event/feast-of-azamat-grandeur-to-be-hosted-by-moira-randy-padfield-click-here-for-details/
ATTACH;FMTTYPE=image/jpeg:https://www.bahailv.org/wp-content/uploads/2021/08/Feast.jpg
END:VEVENT
BEGIN:VEVENT
DTSTART;TZID=America/New_York:20230521T100000
DTEND;TZID=America/New_York:20230521T120000
DTSTAMP:20260425T222110
CREATED:20230424T014248Z
LAST-MODIFIED:20230424T014248Z
UID:10001282-1684663200-1684670400@www.bahailv.org
SUMMARY:In person Baha'i Learning Center 10 am-12 noon at Lehigh Valley Center for Sight\, Allentown\, PA. 18104.
DESCRIPTION:Dear friends please join us for the start of the Baha’i Learning Center in person. \nBaha’i Learning Center 10am-12noon.  Location: In person at Houman Ahdieh’s office\, Lehigh Valley Center for Sight\, 1739 West Fairmont Street\, Allentown\, PA  18104. \n\n\nWe look forward to seeing you\,  Moira Padfield for the LSA of Bethlehem Township.
URL:https://www.bahailv.org/event/in-person-bahai-learning-center-10-am-12-noon-at-lehigh-valley-center-for-sight-allentown-pa-18104-2/
ATTACH;FMTTYPE=image/jpeg:https://www.bahailv.org/wp-content/uploads/2021/03/Childrens-classes.jpeg
END:VEVENT
BEGIN:VEVENT
DTSTART;TZID=America/New_York:20230521T130000
DTEND;TZID=America/New_York:20230521T150000
DTSTAMP:20260425T222110
CREATED:20230113T004700Z
LAST-MODIFIED:20230113T004701Z
UID:10001088-1684674000-1684681200@www.bahailv.org
SUMMARY:Monthly Sunday devotions hosted by Bill & Bridget George starting at 1 p.m.
DESCRIPTION:Details & program TBD.  Contact: 610 570 1336.
URL:https://www.bahailv.org/event/monthly-sunday-devotions-hosted-by-bill-bridget-george-starting-at-1-p-m-2-2/
ATTACH;FMTTYPE=image/jpeg:https://www.bahailv.org/wp-content/uploads/2021/09/Devotions-3.jpeg
END:VEVENT
BEGIN:VEVENT
DTSTART;TZID=America/New_York:20230521T193000
DTEND;TZID=America/New_York:20230521T203000
DTSTAMP:20260425T222110
CREATED:20230424T015317Z
LAST-MODIFIED:20230424T015449Z
UID:10001287-1684697400-1684701000@www.bahailv.org
SUMMARY:Sunday night Zoom Healing Devotions hosted by Moira & Randy Padfield.  Click here for details.
DESCRIPTION:Dear friends\,  \nThe Padfield family are hosting a devotional via Zoom Sunday evening at 7:30pm and each Sunday thereafter.  Link will be emailed to the friends directly.  We will be saying prayers for Richard Beane (our son-in-law in Belize) and Shirin’s sister as well as others in the community in need of healing prayers. We will also offer healing prayers for our community\, country and the world.   \nWe would be happy to have you join us and would welcome anything you would like to contribute in the form of prayers\, Writings\, or poems.   \nWe hope to see you on Sunday night.  Zoom link was emailed to the friends directly. \nWith loving regards\,
URL:https://www.bahailv.org/event/sunday-night-zoom-healing-devotions-hosted-by-moira-randy-padfield-click-here-for-details-9/2023-05-21/
ATTACH;FMTTYPE=image/jpeg:https://www.bahailv.org/wp-content/uploads/2020/05/devotions.jpg
END:VEVENT
BEGIN:VEVENT
DTSTART;TZID=America/New_York:20230523T190000
DTEND;TZID=America/New_York:20230523T213000
DTSTAMP:20260425T222110
CREATED:20221011T012055Z
LAST-MODIFIED:20230515T185759Z
UID:10000971-1684868400-1684877400@www.bahailv.org
SUMMARY:Observance of the Declaration of the Bab.  Hosted by Laura & Henry Lawrence.  Click here for details.
DESCRIPTION:You are most warmly invited to a Holy Celebration \nThe Declaration of the Bab \nTuesday\, May 23rd 7:00 \nHome of the Lawrences –  610-573-0559 \nLight supper and other vittles – breaking bread together! \n  \n I am\, I am\, I am the Promised One!  I am the One Whose name you have for a thousand years invoked\, at Whose mention you have risen\, Whose advent you have longed to witness\, and the hour of Whose Revelation you have prayed God to hasten.”          – The Bab
URL:https://www.bahailv.org/event/declaration-of-the-bab-host-tbd-click-here-for-details/
ATTACH;FMTTYPE=image/jpeg:https://www.bahailv.org/wp-content/uploads/2020/05/shrine.jpg
END:VEVENT
END:VCALENDAR