BEGIN:VCALENDAR
VERSION:2.0
PRODID:-//Lehigh Valley Bahai - ECPv6.15.20//NONSGML v1.0//EN
CALSCALE:GREGORIAN
METHOD:PUBLISH
X-ORIGINAL-URL:https://www.bahailv.org
X-WR-CALDESC:Events for Lehigh Valley Bahai
REFRESH-INTERVAL;VALUE=DURATION:PT1H
X-Robots-Tag:noindex
X-PUBLISHED-TTL:PT1H
BEGIN:VTIMEZONE
TZID:America/New_York
BEGIN:DAYLIGHT
TZOFFSETFROM:-0500
TZOFFSETTO:-0400
TZNAME:EDT
DTSTART:20240310T070000
END:DAYLIGHT
BEGIN:STANDARD
TZOFFSETFROM:-0400
TZOFFSETTO:-0500
TZNAME:EST
DTSTART:20241103T060000
END:STANDARD
BEGIN:DAYLIGHT
TZOFFSETFROM:-0500
TZOFFSETTO:-0400
TZNAME:EDT
DTSTART:20250309T070000
END:DAYLIGHT
BEGIN:STANDARD
TZOFFSETFROM:-0400
TZOFFSETTO:-0500
TZNAME:EST
DTSTART:20251102T060000
END:STANDARD
BEGIN:DAYLIGHT
TZOFFSETFROM:-0500
TZOFFSETTO:-0400
TZNAME:EDT
DTSTART:20260308T070000
END:DAYLIGHT
BEGIN:STANDARD
TZOFFSETFROM:-0400
TZOFFSETTO:-0500
TZNAME:EST
DTSTART:20261101T060000
END:STANDARD
END:VTIMEZONE
BEGIN:VEVENT
DTSTART;TZID=America/New_York:20250227T190000
DTEND;TZID=America/New_York:20250227T210000
DTSTAMP:20260425T100513
CREATED:20240611T154650Z
LAST-MODIFIED:20240611T154650Z
UID:10001781-1740682800-1740690000@www.bahailv.org
SUMMARY:Ayyam-i-Ha!
DESCRIPTION:Ayyám-i-Há\, a period of intercalary days in the Bahá’í calendar\, will occur from February 25–28\, 2025. This period is a time to celebrate the Festival of Ayyám-i-Há and adjust the Bahá’í year to the solar calendar. The four or five days of Ayyám-i-Há are inserted between the last two months of the calendar\, Mulk and ʻAláʼ. Each day of Ayyám-i-Há is marked by a different virtue\, such as hospitality\, gift giving\, or charity.  
URL:https://www.bahailv.org/event/ayyam-i-ha-2/2025-02-27/
ATTACH;FMTTYPE=image/jpeg:https://www.bahailv.org/wp-content/uploads/2020/05/ed9556e32f8df11922e61efdc5a02f95.jpg
END:VEVENT
BEGIN:VEVENT
DTSTART;TZID=America/New_York:20250228T180000
DTEND;TZID=America/New_York:20250228T210000
DTSTAMP:20260425T100513
CREATED:20250206T040701Z
LAST-MODIFIED:20250206T040702Z
UID:10001782-1740765600-1740776400@www.bahailv.org
SUMMARY:Ayyam-i-Ha! Potluck dinner at the home of Jamal & Shireen Yazdani\, Friday\, February 28 at 6 p.m.
DESCRIPTION:Ayyám-i-Há\, a period of intercalary days in the Bahá’í calendar\, will occur from February 25–28\, 2025. This period is a time to celebrate the Festival of Ayyám-i-Há and adjust the Bahá’í year to the solar calendar. The four or five days of Ayyám-i-Há are inserted between the last two months of the calendar\, Mulk and ʻAláʼ. Each day of Ayyám-i-Há is marked by a different virtue\, such as hospitality\, gift giving\, or charity.  
URL:https://www.bahailv.org/event/ayyam-i-ha-2-2/
ATTACH;FMTTYPE=image/jpeg:https://www.bahailv.org/wp-content/uploads/2020/05/ed9556e32f8df11922e61efdc5a02f95.jpg
END:VEVENT
BEGIN:VEVENT
DTSTART;TZID=America/New_York:20250301T060000
DTEND;TZID=America/New_York:20250301T183000
DTSTAMP:20260425T100513
CREATED:20240611T155143Z
LAST-MODIFIED:20240611T155144Z
UID:10001783-1740808800-1740853800@www.bahailv.org
SUMMARY:Bahai Fasting.
DESCRIPTION:The Bahá’í Fast for 2025 will take place from March 1–19. Adult Bahá’ís in good health observe the fast from sunrise to sundown during this 19-day period. The Bahá’í calendar is a solar calendar with 19 months of 19 days each\, plus 4–5 intercalary days to make up for the year’s 361 days. Bahá’í holidays begin at sunset on the day before the given date.
URL:https://www.bahailv.org/event/bahai-fasting/2025-03-01/
ATTACH;FMTTYPE=image/jpeg:https://www.bahailv.org/wp-content/uploads/2020/05/fasting.jpg
END:VEVENT
BEGIN:VEVENT
DTSTART;TZID=America/New_York:20250301T190000
DTEND;TZID=America/New_York:20250301T213000
DTSTAMP:20260425T100513
CREATED:20240614T184211Z
LAST-MODIFIED:20240825T210209Z
UID:10001807-1740855600-1740864600@www.bahailv.org
SUMMARY:Zoom ONLY - Feast of Ala - (Loftiness).  Hosted by Gladys Nay.  Click here for details.
DESCRIPTION:Being hosted on Zoom by Gladys Nay.
URL:https://www.bahailv.org/event/feast-of-ala-loftiness-host-tbd-click-here-for-details-4/
ATTACH;FMTTYPE=image/jpeg:https://www.bahailv.org/wp-content/uploads/2024/06/Feast-of-Ala-Loftiness.jpeg
END:VEVENT
BEGIN:VEVENT
DTSTART;TZID=America/New_York:20250302T060000
DTEND;TZID=America/New_York:20250302T183000
DTSTAMP:20260425T100513
CREATED:20240611T155143Z
LAST-MODIFIED:20240611T155144Z
UID:10001784-1740895200-1740940200@www.bahailv.org
SUMMARY:Bahai Fasting.
DESCRIPTION:The Bahá’í Fast for 2025 will take place from March 1–19. Adult Bahá’ís in good health observe the fast from sunrise to sundown during this 19-day period. The Bahá’í calendar is a solar calendar with 19 months of 19 days each\, plus 4–5 intercalary days to make up for the year’s 361 days. Bahá’í holidays begin at sunset on the day before the given date.
URL:https://www.bahailv.org/event/bahai-fasting/2025-03-02/
ATTACH;FMTTYPE=image/jpeg:https://www.bahailv.org/wp-content/uploads/2020/05/fasting.jpg
END:VEVENT
BEGIN:VEVENT
DTSTART;TZID=America/New_York:20250302T100000
DTEND;TZID=America/New_York:20250302T120000
DTSTAMP:20260425T100513
CREATED:20240903T234607Z
LAST-MODIFIED:20241203T033839Z
UID:10001935-1740909600-1740916800@www.bahailv.org
SUMMARY:Bahai Learning Center in Allentown (Lehigh Valley Center for Sight\, 1739 Fairmont Street\, Allentown 18104). Click here for details.
DESCRIPTION:Dear loved Friends\,\n \nWe are very excited to announce the start of another season of learning\, devotions\, and fellowship at the Bahá’í Learning Center in Allentown ( Lehigh Valley Center for Sight\, 1739 Fairmont Street\, Allentown 18104 ) every other Sunday 10 AM to 12 PM starting on September 29. There will be children and adult classes – All are welcome and feel free to bring family and friends. You are welcome to attend all or come to as many sessions that you are able.  A Zoom link will be provided for friends who wish to join online.\nYou can find the schedule on the Lehigh Valley Bahá’í Community Calendar: www.bahailv.org. Please contact Houman Ahdieh for further information and directions; houmanahdieh@yahoo.com 610-737-3938. \n \nWe very much look forward to seeing you soon!\n\n \nWith kind regards\,\n \nHouman Ahdieh\nBahá’í Learning Center Planning Committee
URL:https://www.bahailv.org/event/bahai-learning-center-8/2025-03-02/
ATTACH;FMTTYPE=image/jpeg:https://www.bahailv.org/wp-content/uploads/2024/09/Bahai-Sunday-School.jpeg
END:VEVENT
BEGIN:VEVENT
DTSTART;TZID=America/New_York:20250303T060000
DTEND;TZID=America/New_York:20250303T183000
DTSTAMP:20260425T100513
CREATED:20240611T155143Z
LAST-MODIFIED:20240611T155144Z
UID:10001785-1740981600-1741026600@www.bahailv.org
SUMMARY:Bahai Fasting.
DESCRIPTION:The Bahá’í Fast for 2025 will take place from March 1–19. Adult Bahá’ís in good health observe the fast from sunrise to sundown during this 19-day period. The Bahá’í calendar is a solar calendar with 19 months of 19 days each\, plus 4–5 intercalary days to make up for the year’s 361 days. Bahá’í holidays begin at sunset on the day before the given date.
URL:https://www.bahailv.org/event/bahai-fasting/2025-03-03/
ATTACH;FMTTYPE=image/jpeg:https://www.bahailv.org/wp-content/uploads/2020/05/fasting.jpg
END:VEVENT
BEGIN:VEVENT
DTSTART;TZID=America/New_York:20250304T060000
DTEND;TZID=America/New_York:20250304T183000
DTSTAMP:20260425T100513
CREATED:20240611T155143Z
LAST-MODIFIED:20240611T155144Z
UID:10001786-1741068000-1741113000@www.bahailv.org
SUMMARY:Bahai Fasting.
DESCRIPTION:The Bahá’í Fast for 2025 will take place from March 1–19. Adult Bahá’ís in good health observe the fast from sunrise to sundown during this 19-day period. The Bahá’í calendar is a solar calendar with 19 months of 19 days each\, plus 4–5 intercalary days to make up for the year’s 361 days. Bahá’í holidays begin at sunset on the day before the given date.
URL:https://www.bahailv.org/event/bahai-fasting/2025-03-04/
ATTACH;FMTTYPE=image/jpeg:https://www.bahailv.org/wp-content/uploads/2020/05/fasting.jpg
END:VEVENT
BEGIN:VEVENT
DTSTART;TZID=America/New_York:20250304T190000
DTEND;TZID=America/New_York:20250304T210000
DTSTAMP:20260425T100513
CREATED:20240701T180044Z
LAST-MODIFIED:20240701T180044Z
UID:10001904-1741114800-1741122000@www.bahailv.org
SUMMARY:Baha'i Monthly Firesides - organized by Roseann Bowerman & Bill & Bridget George.  Click here for details.
DESCRIPTION:  \nFor everyone interested in learning more about the Baha’i Faith\, \nMonthly Tuesdays at 7 p.m. \nAt the home of Roseann Bowerman: \nPhone: 610 704 0026 \nemail: rb04@Lehigh.edu
URL:https://www.bahailv.org/event/bahai-monthly-firesides-organized-by-roseann-bowerman-bill-bridget-george-click-here-for-details-2-2-2/2025-03-04/
ATTACH;FMTTYPE=image/jpeg:https://www.bahailv.org/wp-content/uploads/2024/07/Fireside.jpeg
END:VEVENT
BEGIN:VEVENT
DTSTART;TZID=America/New_York:20250305T060000
DTEND;TZID=America/New_York:20250305T183000
DTSTAMP:20260425T100513
CREATED:20240611T155143Z
LAST-MODIFIED:20240611T155144Z
UID:10001787-1741154400-1741199400@www.bahailv.org
SUMMARY:Bahai Fasting.
DESCRIPTION:The Bahá’í Fast for 2025 will take place from March 1–19. Adult Bahá’ís in good health observe the fast from sunrise to sundown during this 19-day period. The Bahá’í calendar is a solar calendar with 19 months of 19 days each\, plus 4–5 intercalary days to make up for the year’s 361 days. Bahá’í holidays begin at sunset on the day before the given date.
URL:https://www.bahailv.org/event/bahai-fasting/2025-03-05/
ATTACH;FMTTYPE=image/jpeg:https://www.bahailv.org/wp-content/uploads/2020/05/fasting.jpg
END:VEVENT
BEGIN:VEVENT
DTSTART;TZID=America/New_York:20250306T060000
DTEND;TZID=America/New_York:20250306T183000
DTSTAMP:20260425T100513
CREATED:20240611T155143Z
LAST-MODIFIED:20240611T155144Z
UID:10001788-1741240800-1741285800@www.bahailv.org
SUMMARY:Bahai Fasting.
DESCRIPTION:The Bahá’í Fast for 2025 will take place from March 1–19. Adult Bahá’ís in good health observe the fast from sunrise to sundown during this 19-day period. The Bahá’í calendar is a solar calendar with 19 months of 19 days each\, plus 4–5 intercalary days to make up for the year’s 361 days. Bahá’í holidays begin at sunset on the day before the given date.
URL:https://www.bahailv.org/event/bahai-fasting/2025-03-06/
ATTACH;FMTTYPE=image/jpeg:https://www.bahailv.org/wp-content/uploads/2020/05/fasting.jpg
END:VEVENT
BEGIN:VEVENT
DTSTART;TZID=America/New_York:20250307T060000
DTEND;TZID=America/New_York:20250307T183000
DTSTAMP:20260425T100513
CREATED:20240611T155143Z
LAST-MODIFIED:20240611T155144Z
UID:10001789-1741327200-1741372200@www.bahailv.org
SUMMARY:Bahai Fasting.
DESCRIPTION:The Bahá’í Fast for 2025 will take place from March 1–19. Adult Bahá’ís in good health observe the fast from sunrise to sundown during this 19-day period. The Bahá’í calendar is a solar calendar with 19 months of 19 days each\, plus 4–5 intercalary days to make up for the year’s 361 days. Bahá’í holidays begin at sunset on the day before the given date.
URL:https://www.bahailv.org/event/bahai-fasting/2025-03-07/
ATTACH;FMTTYPE=image/jpeg:https://www.bahailv.org/wp-content/uploads/2020/05/fasting.jpg
END:VEVENT
BEGIN:VEVENT
DTSTART;TZID=America/New_York:20250308T060000
DTEND;TZID=America/New_York:20250308T183000
DTSTAMP:20260425T100513
CREATED:20240611T155143Z
LAST-MODIFIED:20240611T155144Z
UID:10001790-1741413600-1741458600@www.bahailv.org
SUMMARY:Bahai Fasting.
DESCRIPTION:The Bahá’í Fast for 2025 will take place from March 1–19. Adult Bahá’ís in good health observe the fast from sunrise to sundown during this 19-day period. The Bahá’í calendar is a solar calendar with 19 months of 19 days each\, plus 4–5 intercalary days to make up for the year’s 361 days. Bahá’í holidays begin at sunset on the day before the given date.
URL:https://www.bahailv.org/event/bahai-fasting/2025-03-08/
ATTACH;FMTTYPE=image/jpeg:https://www.bahailv.org/wp-content/uploads/2020/05/fasting.jpg
END:VEVENT
BEGIN:VEVENT
DTSTART;TZID=America/New_York:20250309T060000
DTEND;TZID=America/New_York:20250309T183000
DTSTAMP:20260425T100513
CREATED:20240611T155143Z
LAST-MODIFIED:20240611T155144Z
UID:10001791-1741500000-1741545000@www.bahailv.org
SUMMARY:Bahai Fasting.
DESCRIPTION:The Bahá’í Fast for 2025 will take place from March 1–19. Adult Bahá’ís in good health observe the fast from sunrise to sundown during this 19-day period. The Bahá’í calendar is a solar calendar with 19 months of 19 days each\, plus 4–5 intercalary days to make up for the year’s 361 days. Bahá’í holidays begin at sunset on the day before the given date.
URL:https://www.bahailv.org/event/bahai-fasting/2025-03-09/
ATTACH;FMTTYPE=image/jpeg:https://www.bahailv.org/wp-content/uploads/2020/05/fasting.jpg
END:VEVENT
BEGIN:VEVENT
DTSTART;TZID=America/New_York:20250310T060000
DTEND;TZID=America/New_York:20250310T183000
DTSTAMP:20260425T100513
CREATED:20240611T155143Z
LAST-MODIFIED:20240611T155144Z
UID:10001792-1741586400-1741631400@www.bahailv.org
SUMMARY:Bahai Fasting.
DESCRIPTION:The Bahá’í Fast for 2025 will take place from March 1–19. Adult Bahá’ís in good health observe the fast from sunrise to sundown during this 19-day period. The Bahá’í calendar is a solar calendar with 19 months of 19 days each\, plus 4–5 intercalary days to make up for the year’s 361 days. Bahá’í holidays begin at sunset on the day before the given date.
URL:https://www.bahailv.org/event/bahai-fasting/2025-03-10/
ATTACH;FMTTYPE=image/jpeg:https://www.bahailv.org/wp-content/uploads/2020/05/fasting.jpg
END:VEVENT
BEGIN:VEVENT
DTSTART;TZID=America/New_York:20250311T060000
DTEND;TZID=America/New_York:20250311T183000
DTSTAMP:20260425T100513
CREATED:20240611T155143Z
LAST-MODIFIED:20240611T155144Z
UID:10001793-1741672800-1741717800@www.bahailv.org
SUMMARY:Bahai Fasting.
DESCRIPTION:The Bahá’í Fast for 2025 will take place from March 1–19. Adult Bahá’ís in good health observe the fast from sunrise to sundown during this 19-day period. The Bahá’í calendar is a solar calendar with 19 months of 19 days each\, plus 4–5 intercalary days to make up for the year’s 361 days. Bahá’í holidays begin at sunset on the day before the given date.
URL:https://www.bahailv.org/event/bahai-fasting/2025-03-11/
ATTACH;FMTTYPE=image/jpeg:https://www.bahailv.org/wp-content/uploads/2020/05/fasting.jpg
END:VEVENT
BEGIN:VEVENT
DTSTART;TZID=America/New_York:20250312T060000
DTEND;TZID=America/New_York:20250312T183000
DTSTAMP:20260425T100513
CREATED:20240611T155143Z
LAST-MODIFIED:20240611T155144Z
UID:10001794-1741759200-1741804200@www.bahailv.org
SUMMARY:Bahai Fasting.
DESCRIPTION:The Bahá’í Fast for 2025 will take place from March 1–19. Adult Bahá’ís in good health observe the fast from sunrise to sundown during this 19-day period. The Bahá’í calendar is a solar calendar with 19 months of 19 days each\, plus 4–5 intercalary days to make up for the year’s 361 days. Bahá’í holidays begin at sunset on the day before the given date.
URL:https://www.bahailv.org/event/bahai-fasting/2025-03-12/
ATTACH;FMTTYPE=image/jpeg:https://www.bahailv.org/wp-content/uploads/2020/05/fasting.jpg
END:VEVENT
BEGIN:VEVENT
DTSTART;TZID=America/New_York:20250313T060000
DTEND;TZID=America/New_York:20250313T183000
DTSTAMP:20260425T100513
CREATED:20240611T155143Z
LAST-MODIFIED:20240611T155144Z
UID:10001795-1741845600-1741890600@www.bahailv.org
SUMMARY:Bahai Fasting.
DESCRIPTION:The Bahá’í Fast for 2025 will take place from March 1–19. Adult Bahá’ís in good health observe the fast from sunrise to sundown during this 19-day period. The Bahá’í calendar is a solar calendar with 19 months of 19 days each\, plus 4–5 intercalary days to make up for the year’s 361 days. Bahá’í holidays begin at sunset on the day before the given date.
URL:https://www.bahailv.org/event/bahai-fasting/2025-03-13/
ATTACH;FMTTYPE=image/jpeg:https://www.bahailv.org/wp-content/uploads/2020/05/fasting.jpg
END:VEVENT
BEGIN:VEVENT
DTSTART;TZID=America/New_York:20250314T060000
DTEND;TZID=America/New_York:20250314T183000
DTSTAMP:20260425T100513
CREATED:20240611T155143Z
LAST-MODIFIED:20240611T155144Z
UID:10001796-1741932000-1741977000@www.bahailv.org
SUMMARY:Bahai Fasting.
DESCRIPTION:The Bahá’í Fast for 2025 will take place from March 1–19. Adult Bahá’ís in good health observe the fast from sunrise to sundown during this 19-day period. The Bahá’í calendar is a solar calendar with 19 months of 19 days each\, plus 4–5 intercalary days to make up for the year’s 361 days. Bahá’í holidays begin at sunset on the day before the given date.
URL:https://www.bahailv.org/event/bahai-fasting/2025-03-14/
ATTACH;FMTTYPE=image/jpeg:https://www.bahailv.org/wp-content/uploads/2020/05/fasting.jpg
END:VEVENT
BEGIN:VEVENT
DTSTART;TZID=America/New_York:20250315T060000
DTEND;TZID=America/New_York:20250315T183000
DTSTAMP:20260425T100513
CREATED:20240611T155143Z
LAST-MODIFIED:20240611T155144Z
UID:10001797-1742018400-1742063400@www.bahailv.org
SUMMARY:Bahai Fasting.
DESCRIPTION:The Bahá’í Fast for 2025 will take place from March 1–19. Adult Bahá’ís in good health observe the fast from sunrise to sundown during this 19-day period. The Bahá’í calendar is a solar calendar with 19 months of 19 days each\, plus 4–5 intercalary days to make up for the year’s 361 days. Bahá’í holidays begin at sunset on the day before the given date.
URL:https://www.bahailv.org/event/bahai-fasting/2025-03-15/
ATTACH;FMTTYPE=image/jpeg:https://www.bahailv.org/wp-content/uploads/2020/05/fasting.jpg
END:VEVENT
BEGIN:VEVENT
DTSTART;TZID=America/New_York:20250316T060000
DTEND;TZID=America/New_York:20250316T183000
DTSTAMP:20260425T100513
CREATED:20240611T155143Z
LAST-MODIFIED:20240611T155144Z
UID:10001798-1742104800-1742149800@www.bahailv.org
SUMMARY:Bahai Fasting.
DESCRIPTION:The Bahá’í Fast for 2025 will take place from March 1–19. Adult Bahá’ís in good health observe the fast from sunrise to sundown during this 19-day period. The Bahá’í calendar is a solar calendar with 19 months of 19 days each\, plus 4–5 intercalary days to make up for the year’s 361 days. Bahá’í holidays begin at sunset on the day before the given date.
URL:https://www.bahailv.org/event/bahai-fasting/2025-03-16/
ATTACH;FMTTYPE=image/jpeg:https://www.bahailv.org/wp-content/uploads/2020/05/fasting.jpg
END:VEVENT
BEGIN:VEVENT
DTSTART;TZID=America/New_York:20250316T100000
DTEND;TZID=America/New_York:20250316T120000
DTSTAMP:20260425T100513
CREATED:20250311T214412Z
LAST-MODIFIED:20250311T214413Z
UID:10001936-1742119200-1742126400@www.bahailv.org
SUMMARY:Bahai Learning Center at the home of Moira & Randy Padfield\, Sunday March 16 from 10 a.m. to 12 noon. Click here for details.
DESCRIPTION:Dear loved Friends\,\n \n\n\n \n\nAnother season of learning\, devotions\, and fellowship of the Bahá’í Learning Center.  This particular session will be held at the home of Moira & Randy Padfield  this Sunday\, March 16\, 10 AM to 12 PM.however the friends are requested to go to Roseann’s address and walk next door to the Padfields. For some reason the GPS doesn’t direct people when their address is put in!\nRoseann’s address was emailed to the friends directly. \nThere will be children and adult classes – All are welcome and feel free to bring family and friends.   A Zoom link is being provided for friends who wish to join online:\n \n\nHere is the Zoom link for Baha’i Learning Center. \nhttps://us02web.zoom.us/j/83827733944?pwd=RamzjA5ua9SDRgaLf6fDRDITdzdr6N.1\n\n\nYou can find the schedule on the Lehigh Valley Bahá’í Community Calendar: www.bahailv.org. Please contact Houman Ahdieh for further information and directions; houmanahdieh@yahoo.com 610-737-3938. \n \nWe very much look forward to seeing you!\n\n \nWith kind regards\,\n\nHouman Ahdieh\n\nBahá’í Learning Center Planning Committee
URL:https://www.bahailv.org/event/bahai-learning-center-8-5/
ATTACH;FMTTYPE=image/jpeg:https://www.bahailv.org/wp-content/uploads/2024/09/Bahai-Sunday-School.jpeg
END:VEVENT
BEGIN:VEVENT
DTSTART;TZID=America/New_York:20250317T060000
DTEND;TZID=America/New_York:20250317T183000
DTSTAMP:20260425T100513
CREATED:20240611T155143Z
LAST-MODIFIED:20240611T155144Z
UID:10001799-1742191200-1742236200@www.bahailv.org
SUMMARY:Bahai Fasting.
DESCRIPTION:The Bahá’í Fast for 2025 will take place from March 1–19. Adult Bahá’ís in good health observe the fast from sunrise to sundown during this 19-day period. The Bahá’í calendar is a solar calendar with 19 months of 19 days each\, plus 4–5 intercalary days to make up for the year’s 361 days. Bahá’í holidays begin at sunset on the day before the given date.
URL:https://www.bahailv.org/event/bahai-fasting/2025-03-17/
ATTACH;FMTTYPE=image/jpeg:https://www.bahailv.org/wp-content/uploads/2020/05/fasting.jpg
END:VEVENT
BEGIN:VEVENT
DTSTART;TZID=America/New_York:20250318T060000
DTEND;TZID=America/New_York:20250318T183000
DTSTAMP:20260425T100513
CREATED:20240611T155143Z
LAST-MODIFIED:20240611T155144Z
UID:10001800-1742277600-1742322600@www.bahailv.org
SUMMARY:Bahai Fasting.
DESCRIPTION:The Bahá’í Fast for 2025 will take place from March 1–19. Adult Bahá’ís in good health observe the fast from sunrise to sundown during this 19-day period. The Bahá’í calendar is a solar calendar with 19 months of 19 days each\, plus 4–5 intercalary days to make up for the year’s 361 days. Bahá’í holidays begin at sunset on the day before the given date.
URL:https://www.bahailv.org/event/bahai-fasting/2025-03-18/
ATTACH;FMTTYPE=image/jpeg:https://www.bahailv.org/wp-content/uploads/2020/05/fasting.jpg
END:VEVENT
BEGIN:VEVENT
DTSTART;TZID=America/New_York:20250319T060000
DTEND;TZID=America/New_York:20250319T183000
DTSTAMP:20260425T100513
CREATED:20240611T155143Z
LAST-MODIFIED:20240611T155144Z
UID:10001801-1742364000-1742409000@www.bahailv.org
SUMMARY:Bahai Fasting.
DESCRIPTION:The Bahá’í Fast for 2025 will take place from March 1–19. Adult Bahá’ís in good health observe the fast from sunrise to sundown during this 19-day period. The Bahá’í calendar is a solar calendar with 19 months of 19 days each\, plus 4–5 intercalary days to make up for the year’s 361 days. Bahá’í holidays begin at sunset on the day before the given date.
URL:https://www.bahailv.org/event/bahai-fasting/2025-03-19/
ATTACH;FMTTYPE=image/jpeg:https://www.bahailv.org/wp-content/uploads/2020/05/fasting.jpg
END:VEVENT
BEGIN:VEVENT
DTSTART;TZID=America/New_York:20250320T190000
DTEND;TZID=America/New_York:20250320T213000
DTSTAMP:20260425T100513
CREATED:20240611T010508Z
LAST-MODIFIED:20250316T004621Z
UID:10001778-1742497200-1742506200@www.bahailv.org
SUMMARY:Feast of Baha (Splendor) - Hosted by Margie Ensminger. Click here for details.
DESCRIPTION:Host – Margie Ensminger.  Contact: 610 625 4671. \nDear Friends\,\n \nMargie Ensminger warmly invites you to the Feast of Baha (Splendor)\, at her home.   It will be this Thursday March 20 at 7 pm.\n \nHer address and the Zoom link were directly emailed to the friends.  \n \nFor friends who are unable to attend in person\, you are welcome to join via Zoom. \n\n \nPhone: 610-625-4671\n\nLooking forward to seeing you all!  Happy Naw-Ruz!
URL:https://www.bahailv.org/event/feast-of-baha-splendor-host-tbd-click-here-for-details-3/
ATTACH;FMTTYPE=image/jpeg:https://www.bahailv.org/wp-content/uploads/2024/06/Feast-of-Baha-Splendor.jpeg
END:VEVENT
BEGIN:VEVENT
DTSTART;TZID=America/New_York:20250321T190000
DTEND;TZID=America/New_York:20250321T200000
DTSTAMP:20260425T100513
CREATED:20250226T171049Z
LAST-MODIFIED:20250226T171050Z
UID:10002324-1742583600-1742587200@www.bahailv.org
SUMMARY:Monthly Baha'i Basics.  An online introduction to the Baha'i Faith followed by discussions and Q&A.  Click here for details.
DESCRIPTION:Dear Friends\,\n\n \nIntroduction to the Baha’i Faith and discussions and Q&A following the introduction.  This is being held the second Friday of each month from 7-8 p.m. An email reminder with the Zoom link information will be emailed each month.   \n \nThis Fireside chat will feature a brief introduction to the Baha’i Teachings on the importance of religion and spirituality in creating harmony among the diverse nations\, races and religions of the world.  After the presentation there will be opportunity for questions and discussion by the participants.  This meeting is open to all.  Please invite friends and anyone who you think would be interested in learning about this topic.
URL:https://www.bahailv.org/event/monthly-bahai-basics-an-online-introduction-to-the-bahai-faith-followed-by-discussions-and-qa-click-here-for-details-5/
ATTACH;FMTTYPE=image/jpeg:https://www.bahailv.org/wp-content/uploads/2020/12/BB.jpeg
END:VEVENT
BEGIN:VEVENT
DTSTART;TZID=America/New_York:20250322T130000
DTEND;TZID=America/New_York:20250322T170000
DTSTAMP:20260425T100513
CREATED:20240611T155705Z
LAST-MODIFIED:20250206T035007Z
UID:10001802-1742648400-1742662800@www.bahailv.org
SUMMARY:Naw-Ruz!  March 22nd\, 2025 from 1:00 PM - 5:00 PM  at  Fellowship Hall at the College Hill Moravian Church\, Bethlehem.
DESCRIPTION:Welcome  \nNAW RUZ \nWelcome to the New Day \nWelcome\, Spring \nWelcome\, Everyone! \n  \nPlease join the  \nBaha’is of the Lehigh Valley  \nin celebrating NAW RUZ\, the Baha’i New Year \nBE 181/ March 22\, 2025 \n \n  \nYou are most warmly welcome to celebrate Naw Ruz  \nand all its energizing qualities with  \nthe Baha’is of the Lehigh Valley. \n  \nWe will join together on SATURDAY afternoon \nMarch 22nd\, 2025 from 1:00 PM – 5:00 PM \nat \nFellowship Hall  \nat the  \nCollege Hill Moravian Church  \n72 Laurel Street \nBethlehem\, PA  \n  \nBring yourselves \nBring your friends \nBring your warm hearts \nBring some delicious food to share. \nPlease sign up on this NAW RUZ food list with what you plan to bring so that we can all enjoy  \na well-rounded and tasty celebration! \nQuestions? Tammy Kita at tammykita@gmail.com or Shirin Khalighi at khalighi1@aol.com
URL:https://www.bahailv.org/event/naw-ruz-tbd-click-here-for-details/
ATTACH;FMTTYPE=image/png:https://www.bahailv.org/wp-content/uploads/2020/06/Naw-Ruz.png
END:VEVENT
BEGIN:VEVENT
DTSTART;TZID=America/New_York:20250330T100000
DTEND;TZID=America/New_York:20250330T120000
DTSTAMP:20260425T100513
CREATED:20240903T234607Z
LAST-MODIFIED:20241203T033839Z
UID:10001937-1743328800-1743336000@www.bahailv.org
SUMMARY:Bahai Learning Center in Allentown (Lehigh Valley Center for Sight\, 1739 Fairmont Street\, Allentown 18104). Click here for details.
DESCRIPTION:Dear loved Friends\,\n \nWe are very excited to announce the start of another season of learning\, devotions\, and fellowship at the Bahá’í Learning Center in Allentown ( Lehigh Valley Center for Sight\, 1739 Fairmont Street\, Allentown 18104 ) every other Sunday 10 AM to 12 PM starting on September 29. There will be children and adult classes – All are welcome and feel free to bring family and friends. You are welcome to attend all or come to as many sessions that you are able.  A Zoom link will be provided for friends who wish to join online.\nYou can find the schedule on the Lehigh Valley Bahá’í Community Calendar: www.bahailv.org. Please contact Houman Ahdieh for further information and directions; houmanahdieh@yahoo.com 610-737-3938. \n \nWe very much look forward to seeing you soon!\n\n \nWith kind regards\,\n \nHouman Ahdieh\nBahá’í Learning Center Planning Committee
URL:https://www.bahailv.org/event/bahai-learning-center-8/2025-03-30/
ATTACH;FMTTYPE=image/jpeg:https://www.bahailv.org/wp-content/uploads/2024/09/Bahai-Sunday-School.jpeg
END:VEVENT
BEGIN:VEVENT
DTSTART;TZID=America/New_York:20250401T190000
DTEND;TZID=America/New_York:20250401T210000
DTSTAMP:20260425T100513
CREATED:20240701T180044Z
LAST-MODIFIED:20240701T180044Z
UID:10001905-1743534000-1743541200@www.bahailv.org
SUMMARY:Baha'i Monthly Firesides - organized by Roseann Bowerman & Bill & Bridget George.  Click here for details.
DESCRIPTION:  \nFor everyone interested in learning more about the Baha’i Faith\, \nMonthly Tuesdays at 7 p.m. \nAt the home of Roseann Bowerman: \nPhone: 610 704 0026 \nemail: rb04@Lehigh.edu
URL:https://www.bahailv.org/event/bahai-monthly-firesides-organized-by-roseann-bowerman-bill-bridget-george-click-here-for-details-2-2-2/2025-04-01/
ATTACH;FMTTYPE=image/jpeg:https://www.bahailv.org/wp-content/uploads/2024/07/Fireside.jpeg
END:VEVENT
END:VCALENDAR