BEGIN:VCALENDAR
VERSION:2.0
PRODID:-//Lehigh Valley Bahai - ECPv6.15.20//NONSGML v1.0//EN
CALSCALE:GREGORIAN
METHOD:PUBLISH
X-ORIGINAL-URL:https://www.bahailv.org
X-WR-CALDESC:Events for Lehigh Valley Bahai
REFRESH-INTERVAL;VALUE=DURATION:PT1H
X-Robots-Tag:noindex
X-PUBLISHED-TTL:PT1H
BEGIN:VTIMEZONE
TZID:America/New_York
BEGIN:DAYLIGHT
TZOFFSETFROM:-0500
TZOFFSETTO:-0400
TZNAME:EDT
DTSTART:20250309T070000
END:DAYLIGHT
BEGIN:STANDARD
TZOFFSETFROM:-0400
TZOFFSETTO:-0500
TZNAME:EST
DTSTART:20251102T060000
END:STANDARD
BEGIN:DAYLIGHT
TZOFFSETFROM:-0500
TZOFFSETTO:-0400
TZNAME:EDT
DTSTART:20260308T070000
END:DAYLIGHT
BEGIN:STANDARD
TZOFFSETFROM:-0400
TZOFFSETTO:-0500
TZNAME:EST
DTSTART:20261101T060000
END:STANDARD
BEGIN:DAYLIGHT
TZOFFSETFROM:-0500
TZOFFSETTO:-0400
TZNAME:EDT
DTSTART:20270314T070000
END:DAYLIGHT
BEGIN:STANDARD
TZOFFSETFROM:-0400
TZOFFSETTO:-0500
TZNAME:EST
DTSTART:20271107T060000
END:STANDARD
END:VTIMEZONE
BEGIN:VEVENT
DTSTART;TZID=America/New_York:20260515T083000
DTEND;TZID=America/New_York:20260515T150000
DTSTAMP:20260423T134324
CREATED:20260421T051827Z
LAST-MODIFIED:20260421T051843Z
UID:10003547-1778833800-1778857200@www.bahailv.org
SUMMARY:Interfaith project for the Allentown School district with the Bahais of the Lehigh Valley at the Jackson Early Childhood Center\, Allentown\, PA.
DESCRIPTION:Forwarding this announcement from Laura Lawrence:\n\n\nHere are details about the FIRST project with the Baha’is and the Allentown School District. \n \nWHAT: Create frames for “Moving Up” celebration  (Materials provided)  or\nLittle Gardening: Planting plants and flowers around various areas around the school (Plants provided) \nWHERE: Jackson Early Childhood Center \n517 N 15th St \nAllentown PA \nWHEN: Friday May 15th \n          8:30 Gather at a place TBD \n          9:30 Go to school \n          10:00 Project begins \n          12:00 Lunch (bring your own) \n          1:00 go home or  continue to 3:00 if necessary
URL:https://www.bahailv.org/event/interfaith-project-for-the-allentown-school-district-with-the-bahais-of-the-lehigh-valley-at-the-jackson-early-childhood-center-allentown-pa/
ATTACH;FMTTYPE=image/jpeg:https://www.bahailv.org/wp-content/uploads/2026/04/Interfaith.jpeg
END:VEVENT
END:VCALENDAR