BEGIN:VCALENDAR
VERSION:2.0
PRODID:-//Lehigh Valley Bahai - ECPv6.15.20//NONSGML v1.0//EN
CALSCALE:GREGORIAN
METHOD:PUBLISH
X-WR-CALNAME:Lehigh Valley Bahai
X-ORIGINAL-URL:https://www.bahailv.org
X-WR-CALDESC:Events for Lehigh Valley Bahai
REFRESH-INTERVAL;VALUE=DURATION:PT1H
X-Robots-Tag:noindex
X-PUBLISHED-TTL:PT1H
BEGIN:VTIMEZONE
TZID:America/New_York
BEGIN:DAYLIGHT
TZOFFSETFROM:-0500
TZOFFSETTO:-0400
TZNAME:EDT
DTSTART:20250309T070000
END:DAYLIGHT
BEGIN:STANDARD
TZOFFSETFROM:-0400
TZOFFSETTO:-0500
TZNAME:EST
DTSTART:20251102T060000
END:STANDARD
BEGIN:DAYLIGHT
TZOFFSETFROM:-0500
TZOFFSETTO:-0400
TZNAME:EDT
DTSTART:20260308T070000
END:DAYLIGHT
BEGIN:STANDARD
TZOFFSETFROM:-0400
TZOFFSETTO:-0500
TZNAME:EST
DTSTART:20261101T060000
END:STANDARD
BEGIN:DAYLIGHT
TZOFFSETFROM:-0500
TZOFFSETTO:-0400
TZNAME:EDT
DTSTART:20270314T070000
END:DAYLIGHT
BEGIN:STANDARD
TZOFFSETFROM:-0400
TZOFFSETTO:-0500
TZNAME:EST
DTSTART:20271107T060000
END:STANDARD
END:VTIMEZONE
BEGIN:VEVENT
DTSTART;TZID=America/New_York:20260502T120000
DTEND;TZID=America/New_York:20260502T150000
DTSTAMP:20260423T121215
CREATED:20250715T223341Z
LAST-MODIFIED:20260421T054005Z
UID:10002423-1777723200-1777734000@www.bahailv.org
SUMMARY:Twelfth Day of Ridvan. Host- the Lawrence family.  Click here for details.
DESCRIPTION:12th day of Ridvan – Saturday\, May 2 – Gathering at the pavilion at Jacobsburg State park at NOON.  Bring your art project from the 9th day (if  you did one)\, invite friends\, bring a picnic lunch for yourself and enough to share.  If weather permits\, we will take a little hike afterwards. \n\nWhere: A pavilion across from 400 Belfast Rd\, Nazareth ( parking available here): \n\nJacobsburg Environmental Education Center is a 1\,168-acre (473 ha) Pennsylvania state park near Wind Gap\, in Bushkill Township\, Northampton County in Pennsylvania. The Jacobsburg National Historic District is almost entirely surrounded by the park. Jacobsburg Environmental Education Center is just off the Belfast exit of Pennsylvania Route 33.
URL:https://www.bahailv.org/event/twelfth-day-of-ridvan-host-tbd-click-here-for-details-2/
ATTACH;FMTTYPE=image/jpeg:https://www.bahailv.org/wp-content/uploads/2022/05/ridvan.jpg
END:VEVENT
END:VCALENDAR