BEGIN:VCALENDAR
VERSION:2.0
PRODID:-//Lehigh Valley Bahai - ECPv6.15.20//NONSGML v1.0//EN
CALSCALE:GREGORIAN
METHOD:PUBLISH
X-ORIGINAL-URL:https://www.bahailv.org
X-WR-CALDESC:Events for Lehigh Valley Bahai
REFRESH-INTERVAL;VALUE=DURATION:PT1H
X-Robots-Tag:noindex
X-PUBLISHED-TTL:PT1H
BEGIN:VTIMEZONE
TZID:America/New_York
BEGIN:DAYLIGHT
TZOFFSETFROM:-0500
TZOFFSETTO:-0400
TZNAME:EDT
DTSTART:20250309T070000
END:DAYLIGHT
BEGIN:STANDARD
TZOFFSETFROM:-0400
TZOFFSETTO:-0500
TZNAME:EST
DTSTART:20251102T060000
END:STANDARD
BEGIN:DAYLIGHT
TZOFFSETFROM:-0500
TZOFFSETTO:-0400
TZNAME:EDT
DTSTART:20260308T070000
END:DAYLIGHT
BEGIN:STANDARD
TZOFFSETFROM:-0400
TZOFFSETTO:-0500
TZNAME:EST
DTSTART:20261101T060000
END:STANDARD
BEGIN:DAYLIGHT
TZOFFSETFROM:-0500
TZOFFSETTO:-0400
TZNAME:EDT
DTSTART:20270314T070000
END:DAYLIGHT
BEGIN:STANDARD
TZOFFSETFROM:-0400
TZOFFSETTO:-0500
TZNAME:EST
DTSTART:20271107T060000
END:STANDARD
END:VTIMEZONE
BEGIN:VEVENT
DTSTART;TZID=America/New_York:20260408T190000
DTEND;TZID=America/New_York:20260408T213000
DTSTAMP:20260423T120509
CREATED:20250715T163343Z
LAST-MODIFIED:20260401T224055Z
UID:10002412-1775674800-1775683800@www.bahailv.org
SUMMARY:Feast of Jalal (Glory).  Hosted by Tammy Kita.  Click here for details.
DESCRIPTION:Dear Friends\,\n \nTammy Kita warmly invites you to the Feast of Jalal (Glory)\, on Wednesday\, April 8 at 7 pm at her home.\n \nAddress: mailed directly to the friends.\n \nMobile: 484 788 9128.\n\nPhil Dunmire’s email with the zoom link for Feast was emailed directly to the friends.\n\n\nLooking forward to seeing you all!\n\n \nKind regards\,
URL:https://www.bahailv.org/event/feast-of-jalal-glory-host-tbd-click-here-for-details-5/
ATTACH;FMTTYPE=image/jpeg:https://www.bahailv.org/wp-content/uploads/2024/06/Feast-of-JALAL-GLORY.jpeg
END:VEVENT
END:VCALENDAR