BEGIN:VCALENDAR
VERSION:2.0
PRODID:-//Lehigh Valley Bahai - ECPv6.15.20//NONSGML v1.0//EN
CALSCALE:GREGORIAN
METHOD:PUBLISH
X-WR-CALNAME:Lehigh Valley Bahai
X-ORIGINAL-URL:https://www.bahailv.org
X-WR-CALDESC:Events for Lehigh Valley Bahai
REFRESH-INTERVAL;VALUE=DURATION:PT1H
X-Robots-Tag:noindex
X-PUBLISHED-TTL:PT1H
BEGIN:VTIMEZONE
TZID:America/New_York
BEGIN:DAYLIGHT
TZOFFSETFROM:-0500
TZOFFSETTO:-0400
TZNAME:EDT
DTSTART:20250309T070000
END:DAYLIGHT
BEGIN:STANDARD
TZOFFSETFROM:-0400
TZOFFSETTO:-0500
TZNAME:EST
DTSTART:20251102T060000
END:STANDARD
BEGIN:DAYLIGHT
TZOFFSETFROM:-0500
TZOFFSETTO:-0400
TZNAME:EDT
DTSTART:20260308T070000
END:DAYLIGHT
BEGIN:STANDARD
TZOFFSETFROM:-0400
TZOFFSETTO:-0500
TZNAME:EST
DTSTART:20261101T060000
END:STANDARD
BEGIN:DAYLIGHT
TZOFFSETFROM:-0500
TZOFFSETTO:-0400
TZNAME:EDT
DTSTART:20270314T070000
END:DAYLIGHT
BEGIN:STANDARD
TZOFFSETFROM:-0400
TZOFFSETTO:-0500
TZNAME:EST
DTSTART:20271107T060000
END:STANDARD
END:VTIMEZONE
BEGIN:VEVENT
DTSTART;TZID=America/New_York:20260320T070300
DTEND;TZID=America/New_York:20260320T191300
DTSTAMP:20260423T133955
CREATED:20260313T163605Z
LAST-MODIFIED:20260313T163605Z
UID:10002837-1773990180-1774033980@www.bahailv.org
SUMMARY:Bahai Fasting.  Click here for details.
DESCRIPTION:
URL:https://www.bahailv.org/event/bahai-fasting-click-here-for-details-2/
ATTACH;FMTTYPE=image/jpeg:https://www.bahailv.org/wp-content/uploads/2020/05/fasting.jpg
END:VEVENT
BEGIN:VEVENT
DTSTART;TZID=America/New_York:20260320T191500
DTEND;TZID=America/New_York:20260320T220000
DTSTAMP:20260423T133955
CREATED:20250715T163102Z
LAST-MODIFIED:20260313T155825Z
UID:10002411-1774034100-1774044000@www.bahailv.org
SUMMARY:Feast of Baha (Splendor).  Potluck dinner Hosted by Marjan & Edward Joe-Kamara.  Click here for details.
DESCRIPTION:Hosted by Marjan & Edward Joe-Kamara – 609 358 2576. \nThis is the last day of the Bahai Fasting period.  We will break Fast at 7:15 p.m. This is a potluck dinner.  The 19 Day Feast program will follow the dinner.
URL:https://www.bahailv.org/event/feast-of-baha-splendor-host-tbd-click-here-for-details-4/
ATTACH;FMTTYPE=image/jpeg:https://www.bahailv.org/wp-content/uploads/2024/06/Feast-of-Baha-Splendor.jpeg
END:VEVENT
END:VCALENDAR