BEGIN:VCALENDAR
VERSION:2.0
PRODID:-//Lehigh Valley Bahai - ECPv6.15.20//NONSGML v1.0//EN
CALSCALE:GREGORIAN
METHOD:PUBLISH
X-WR-CALNAME:Lehigh Valley Bahai
X-ORIGINAL-URL:https://www.bahailv.org
X-WR-CALDESC:Events for Lehigh Valley Bahai
REFRESH-INTERVAL;VALUE=DURATION:PT1H
X-Robots-Tag:noindex
X-PUBLISHED-TTL:PT1H
BEGIN:VTIMEZONE
TZID:America/New_York
BEGIN:DAYLIGHT
TZOFFSETFROM:-0500
TZOFFSETTO:-0400
TZNAME:EDT
DTSTART:20250309T070000
END:DAYLIGHT
BEGIN:STANDARD
TZOFFSETFROM:-0400
TZOFFSETTO:-0500
TZNAME:EST
DTSTART:20251102T060000
END:STANDARD
BEGIN:DAYLIGHT
TZOFFSETFROM:-0500
TZOFFSETTO:-0400
TZNAME:EDT
DTSTART:20260308T070000
END:DAYLIGHT
BEGIN:STANDARD
TZOFFSETFROM:-0400
TZOFFSETTO:-0500
TZNAME:EST
DTSTART:20261101T060000
END:STANDARD
BEGIN:DAYLIGHT
TZOFFSETFROM:-0500
TZOFFSETTO:-0400
TZNAME:EDT
DTSTART:20270314T070000
END:DAYLIGHT
BEGIN:STANDARD
TZOFFSETFROM:-0400
TZOFFSETTO:-0500
TZNAME:EST
DTSTART:20271107T060000
END:STANDARD
END:VTIMEZONE
BEGIN:VEVENT
DTSTART;TZID=America/New_York:20260207T100000
DTEND;TZID=America/New_York:20260207T110000
DTSTAMP:20260423T150617
CREATED:20260126T050821Z
LAST-MODIFIED:20260126T050941Z
UID:10003337-1770458400-1770462000@www.bahailv.org
SUMMARY:Family Study with Charlie Kirby.
DESCRIPTION:Dear Friends\, \n \n\nDue to popular request\, the Family Study Group will meet at a brand new time!  We will meet on Saturday February 7th at 10 AM and you are welcome to join us. \nWe will study the 19 March 2025 letter from the Universal House of Justice\, To the Bahá’ís of the World.   \n‘Abdu’l-Bahá explains.\n“The conditions surrounding the family surround the nation.” Learning about a new pattern of family life is\, therefore\, an integral part of the effort to learn about the release of the society-building power of the Faith. \nThe Zoom link was emailed to the friends directly. \n  \n\n\n\n\n\n\n\n\n\n\n\n\nCharlie Kirby\nReels\, music and blog at CharlieKirby\n\nProducer of Mangia Perfecto The freshest cooking show in the universe. \n\n\n\n646-739-0455
URL:https://www.bahailv.org/event/family-study-with-charlie-kirby/
ATTACH;FMTTYPE=image/jpeg:https://www.bahailv.org/wp-content/uploads/2026/01/family-study.jpeg
END:VEVENT
END:VCALENDAR