BEGIN:VCALENDAR
VERSION:2.0
PRODID:-//Lehigh Valley Bahai - ECPv6.15.20//NONSGML v1.0//EN
CALSCALE:GREGORIAN
METHOD:PUBLISH
X-WR-CALNAME:Lehigh Valley Bahai
X-ORIGINAL-URL:https://www.bahailv.org
X-WR-CALDESC:Events for Lehigh Valley Bahai
REFRESH-INTERVAL;VALUE=DURATION:PT1H
X-Robots-Tag:noindex
X-PUBLISHED-TTL:PT1H
BEGIN:VTIMEZONE
TZID:America/New_York
BEGIN:DAYLIGHT
TZOFFSETFROM:-0500
TZOFFSETTO:-0400
TZNAME:EDT
DTSTART:20250309T070000
END:DAYLIGHT
BEGIN:STANDARD
TZOFFSETFROM:-0400
TZOFFSETTO:-0500
TZNAME:EST
DTSTART:20251102T060000
END:STANDARD
BEGIN:DAYLIGHT
TZOFFSETFROM:-0500
TZOFFSETTO:-0400
TZNAME:EDT
DTSTART:20260308T070000
END:DAYLIGHT
BEGIN:STANDARD
TZOFFSETFROM:-0400
TZOFFSETTO:-0500
TZNAME:EST
DTSTART:20261101T060000
END:STANDARD
BEGIN:DAYLIGHT
TZOFFSETFROM:-0500
TZOFFSETTO:-0400
TZNAME:EDT
DTSTART:20270314T070000
END:DAYLIGHT
BEGIN:STANDARD
TZOFFSETFROM:-0400
TZOFFSETTO:-0500
TZNAME:EST
DTSTART:20271107T060000
END:STANDARD
END:VTIMEZONE
BEGIN:VEVENT
DTSTART;TZID=America/New_York:20260103T120000
DTEND;TZID=America/New_York:20260103T150000
DTSTAMP:20260423T163031
CREATED:20251210T213620Z
LAST-MODIFIED:20251210T213642Z
UID:10003261-1767441600-1767452400@www.bahailv.org
SUMMARY:Local Bahai fundraiser for the Baha'is of the Allentown/Reading Cluster.
DESCRIPTION:Dear Friends\, \nAt a recent Bahai community gathering we consulted about holding a local Fundraising event. It was agreed that having a Fundraiser for the National Fund which honors our loved ones who have passed to the next world would be a fitting tribute. In the writings we are exhorted to pray and do pure deeds in memory of those who have passed from this physical realm into the Abha Kingdom. These deeds and contributions not only offer us comfort but also aid the advancement of their souls. \nWith this in mind\, on Saturday January 3\, a potluck luncheon will be held at the home of Roseann Bowerman at noon. We will gather joyfully to share prayers and stories of those we wish to honor. Bring photos if you wish. \n \n\n Contributions can be made by check written out to the National Bahai Fund or if you prefer to contribute through the online contribution system you can inform Shirin Khalighi\, our local LSA treasurer of the amount of your contribution so that we can keep a tally of the amount raised by this event. Please put your Bahai ID number on the check and a note regarding who you wish to memorialize. \nPlease be advised that anyone you wish to honor\, whether Bahai or not\, can be  memorialized by this gift. As you know only Bahai’s can contribute to the Bahai Funds but certainly spouses of Baha’is are welcome to attend. \nDetails:\nAddress was shared by email to the friends.\nPlease let us know if you plan to attend. Contact Roseann at (610) 704-0026 or rb04@lehigh.edu. \n\n\n\n\n\n\n\n\n\n\n\n\n\n\n\n\n\n\n\n\n\n\n\n\n\n\n\n\n\n\n\n\n\n\n\n\n\n\n\n\nReplyForward \n\n\nYou received this via BCC\, so you can’t react with an emoji
URL:https://www.bahailv.org/event/local-bahai-fundraiser-for-the-bahais-of-the-allentown-reading-cluster/
ATTACH;FMTTYPE=image/jpeg:https://www.bahailv.org/wp-content/uploads/2025/12/Fundraiser-1.jpeg
END:VEVENT
END:VCALENDAR