BEGIN:VCALENDAR
VERSION:2.0
PRODID:-//Lehigh Valley Bahai - ECPv6.15.20//NONSGML v1.0//EN
CALSCALE:GREGORIAN
METHOD:PUBLISH
X-WR-CALNAME:Lehigh Valley Bahai
X-ORIGINAL-URL:https://www.bahailv.org
X-WR-CALDESC:Events for Lehigh Valley Bahai
REFRESH-INTERVAL;VALUE=DURATION:PT1H
X-Robots-Tag:noindex
X-PUBLISHED-TTL:PT1H
BEGIN:VTIMEZONE
TZID:America/New_York
BEGIN:DAYLIGHT
TZOFFSETFROM:-0500
TZOFFSETTO:-0400
TZNAME:EDT
DTSTART:20240310T070000
END:DAYLIGHT
BEGIN:STANDARD
TZOFFSETFROM:-0400
TZOFFSETTO:-0500
TZNAME:EST
DTSTART:20241103T060000
END:STANDARD
BEGIN:DAYLIGHT
TZOFFSETFROM:-0500
TZOFFSETTO:-0400
TZNAME:EDT
DTSTART:20250309T070000
END:DAYLIGHT
BEGIN:STANDARD
TZOFFSETFROM:-0400
TZOFFSETTO:-0500
TZNAME:EST
DTSTART:20251102T060000
END:STANDARD
BEGIN:DAYLIGHT
TZOFFSETFROM:-0500
TZOFFSETTO:-0400
TZNAME:EDT
DTSTART:20260308T070000
END:DAYLIGHT
BEGIN:STANDARD
TZOFFSETFROM:-0400
TZOFFSETTO:-0500
TZNAME:EST
DTSTART:20261101T060000
END:STANDARD
END:VTIMEZONE
BEGIN:VEVENT
DTSTART;TZID=America/New_York:20251214T193000
DTEND;TZID=America/New_York:20251214T203000
DTSTAMP:20260423T180248
CREATED:20250927T023446Z
LAST-MODIFIED:20250927T023446Z
UID:10003251-1765740600-1765744200@www.bahailv.org
SUMMARY:Sunday night Zoom Healing Devotions hosted by Moira & Randy Padfield.  Click here for details.
DESCRIPTION:Dear friends\,  \nThe Padfield family are hosting a devotional via Zoom Sunday evening at 7:30pm and each Sunday thereafter.  Link will be emailed to the friends directly.  We will be saying prayers for Richard Beane (our son-in-law in Belize) and Shirin’s sister as well as others in the community in need of healing prayers. We will also offer healing prayers for our community\, country and the world.   \nWe would be happy to have you join us and would welcome anything you would like to contribute in the form of prayers\, Writings\, or poems.   \nWe hope to see you on Sunday night.  Zoom link was emailed to the friends directly. \nWith loving regards\,
URL:https://www.bahailv.org/event/sunday-night-zoom-healing-devotions-hosted-by-moira-randy-padfield-click-here-for-details-11/2025-12-14/
ATTACH;FMTTYPE=image/jpeg:https://www.bahailv.org/wp-content/uploads/2020/05/devotions.jpg
END:VEVENT
END:VCALENDAR