BEGIN:VCALENDAR
VERSION:2.0
PRODID:-//Lehigh Valley Bahai - ECPv6.15.20//NONSGML v1.0//EN
CALSCALE:GREGORIAN
METHOD:PUBLISH
X-ORIGINAL-URL:https://www.bahailv.org
X-WR-CALDESC:Events for Lehigh Valley Bahai
REFRESH-INTERVAL;VALUE=DURATION:PT1H
X-Robots-Tag:noindex
X-PUBLISHED-TTL:PT1H
BEGIN:VTIMEZONE
TZID:America/New_York
BEGIN:DAYLIGHT
TZOFFSETFROM:-0500
TZOFFSETTO:-0400
TZNAME:EDT
DTSTART:20240310T070000
END:DAYLIGHT
BEGIN:STANDARD
TZOFFSETFROM:-0400
TZOFFSETTO:-0500
TZNAME:EST
DTSTART:20241103T060000
END:STANDARD
BEGIN:DAYLIGHT
TZOFFSETFROM:-0500
TZOFFSETTO:-0400
TZNAME:EDT
DTSTART:20250309T070000
END:DAYLIGHT
BEGIN:STANDARD
TZOFFSETFROM:-0400
TZOFFSETTO:-0500
TZNAME:EST
DTSTART:20251102T060000
END:STANDARD
BEGIN:DAYLIGHT
TZOFFSETFROM:-0500
TZOFFSETTO:-0400
TZNAME:EDT
DTSTART:20260308T070000
END:DAYLIGHT
BEGIN:STANDARD
TZOFFSETFROM:-0400
TZOFFSETTO:-0500
TZNAME:EST
DTSTART:20261101T060000
END:STANDARD
END:VTIMEZONE
BEGIN:VEVENT
DTSTART;TZID=America/New_York:20251118T190000
DTEND;TZID=America/New_York:20251118T200000
DTSTAMP:20260423T193548
CREATED:20251111T004651Z
LAST-MODIFIED:20251111T005119Z
UID:10003258-1763492400-1763496000@www.bahailv.org
SUMMARY:Fireside invitation to the home of Roseann Bowerman\, on Tuesday November 18\, at 7:00 PM. in Nazareth.
DESCRIPTION:We are living in stressful and difficult times. How do we as thoughtful human beings move\nbeyond desolation? What can we contribute to our own positive growth and that of our\nsociety? In an article published in August 2025 in the online version of The Atlantic magazine\,\nauthor Arthur C. Brooks\, a professor at Harvard University and writer of the Atlantic’s How to\nBuild a Life column on Happiness\, wrote a piece entitled: \n“FIVE BAHA’I LESSONS FOR A HAPPIER LIFE” \nWe are living in stressful and difficult times. How do we as thoughtful human beings move\nbeyond desolation? What can we contribute to our own positive growth and that of our\nsociety? In an article published in August 2025 in the online version of The Atlantic magazine\,\nauthor Arthur C. Brooks\, a professor at Harvard University and writer of the Atlantic’s How to\nBuild a Life column on Happiness\, wrote a piece entitled: \n“FIVE BAHA’I LESSONS FOR A HAPPIER LIFE” \nOn Tuesday\, October 28 at 7 pm the Baha’is of the Nazareth Area will host a presentation\nand discussion of the lessons about happiness that Brooks\, who is Catholic\, identified from\nhis research on the Baha’i Faith as beneficial to anyone\, regardless of religious commitment.\nWe invite you to join us in this discussion and share your perspectives and experience. \nLocation emailed to friends directly. \n\nPlease join us on November 18 for another Meaningful Discussion\nTuesday hosted by the Baha’i Community of the Nazareth Area. Our topic\nwill be: \nHope for the Future: \nBuilding Interfaith Community Connections \nOur speakers will be Laura Lawrence and Bridget George. They will review\nthe decades of interfaith community efforts in the Lehigh Valley and explore\nthe benefits and challenges facing people of various faiths as we work\ntowards justice\, understanding and community service. \nWhat is an interfaith community? It is a group of people from different\nreligious and non-religious backgrounds who engage with one another\nthrough dialogue\, collaboration and shared activities.\nAs an added bonus we are inviting the newly installed Chaplain of\nMorningstar Living\, Grace Adele Hochella\, to join us that evening to meet\nsome of our Heritage Village Neighbors. If her schedule allows she will attend. \nDate: Tues\, November 18 Time: 7 pm\nLocation address emailed to friends directly\nRSVP appreciated but not required: rb04@lehigh.edu\, or 610 704-0026
URL:https://www.bahailv.org/event/fireside-invitation-to-the-home-of-roseann-bowerman-on-tuesday-november-18-at-700-pm-in-nazareth/
ATTACH;FMTTYPE=image/jpeg:https://www.bahailv.org/wp-content/uploads/2024/07/Firesides-2-e1746502911265.jpeg
END:VEVENT
END:VCALENDAR