BEGIN:VCALENDAR
VERSION:2.0
PRODID:-//Lehigh Valley Bahai - ECPv6.15.20//NONSGML v1.0//EN
CALSCALE:GREGORIAN
METHOD:PUBLISH
X-ORIGINAL-URL:https://www.bahailv.org
X-WR-CALDESC:Events for Lehigh Valley Bahai
REFRESH-INTERVAL;VALUE=DURATION:PT1H
X-Robots-Tag:noindex
X-PUBLISHED-TTL:PT1H
BEGIN:VTIMEZONE
TZID:America/New_York
BEGIN:DAYLIGHT
TZOFFSETFROM:-0500
TZOFFSETTO:-0400
TZNAME:EDT
DTSTART:20240310T070000
END:DAYLIGHT
BEGIN:STANDARD
TZOFFSETFROM:-0400
TZOFFSETTO:-0500
TZNAME:EST
DTSTART:20241103T060000
END:STANDARD
BEGIN:DAYLIGHT
TZOFFSETFROM:-0500
TZOFFSETTO:-0400
TZNAME:EDT
DTSTART:20250309T070000
END:DAYLIGHT
BEGIN:STANDARD
TZOFFSETFROM:-0400
TZOFFSETTO:-0500
TZNAME:EST
DTSTART:20251102T060000
END:STANDARD
BEGIN:DAYLIGHT
TZOFFSETFROM:-0500
TZOFFSETTO:-0400
TZNAME:EDT
DTSTART:20260308T070000
END:DAYLIGHT
BEGIN:STANDARD
TZOFFSETFROM:-0400
TZOFFSETTO:-0500
TZNAME:EST
DTSTART:20261101T060000
END:STANDARD
END:VTIMEZONE
BEGIN:VEVENT
DTSTART;TZID=America/New_York:20251028T190000
DTEND;TZID=America/New_York:20251028T200000
DTSTAMP:20260423T192508
CREATED:20251022T041643Z
LAST-MODIFIED:20251022T042159Z
UID:10003257-1761678000-1761681600@www.bahailv.org
SUMMARY:Fireside invitation to the home of Roseann Bowerman\, on Tuesday October 28\, at 7:00 PM.
DESCRIPTION:We are living in stressful and difficult times. How do we as thoughtful human beings move\nbeyond desolation? What can we contribute to our own positive growth and that of our\nsociety? In an article published in August 2025 in the online version of The Atlantic magazine\,\nauthor Arthur C. Brooks\, a professor at Harvard University and writer of the Atlantic’s How to\nBuild a Life column on Happiness\, wrote a piece entitled: \n“FIVE BAHA’I LESSONS FOR A HAPPIER LIFE”\n\nOn Tuesday\, October 28 at 7 pm the Baha’is of the Nazareth Area will host a presentation\nand discussion of the lessons about happiness that Brooks\, who is Catholic\, identified from\nhis research on the Baha’i Faith as beneficial to anyone\, regardless of religious commitment.\nWe invite you to join us in this discussion and share your perspectives and experience. \nLocation emailed to friends directly. \nTime: 7pm\nDate: Tuesday\, October 28 \nRSVP appreciated but not necessary: 610-704-0026 or rb04@lehigh.edu
URL:https://www.bahailv.org/event/fireside-on-tuesday-october-28-at-7-pm-hosted-by-the-bahais-of-the-nazareth-area/
ATTACH;FMTTYPE=image/jpeg:https://www.bahailv.org/wp-content/uploads/2024/07/Firesides-2-e1746502911265.jpeg
END:VEVENT
END:VCALENDAR