BEGIN:VCALENDAR
VERSION:2.0
PRODID:-//Lehigh Valley Bahai - ECPv6.15.20//NONSGML v1.0//EN
CALSCALE:GREGORIAN
METHOD:PUBLISH
X-WR-CALNAME:Lehigh Valley Bahai
X-ORIGINAL-URL:https://www.bahailv.org
X-WR-CALDESC:Events for Lehigh Valley Bahai
REFRESH-INTERVAL;VALUE=DURATION:PT1H
X-Robots-Tag:noindex
X-PUBLISHED-TTL:PT1H
BEGIN:VTIMEZONE
TZID:America/New_York
BEGIN:DAYLIGHT
TZOFFSETFROM:-0500
TZOFFSETTO:-0400
TZNAME:EDT
DTSTART:20240310T070000
END:DAYLIGHT
BEGIN:STANDARD
TZOFFSETFROM:-0400
TZOFFSETTO:-0500
TZNAME:EST
DTSTART:20241103T060000
END:STANDARD
BEGIN:DAYLIGHT
TZOFFSETFROM:-0500
TZOFFSETTO:-0400
TZNAME:EDT
DTSTART:20250309T070000
END:DAYLIGHT
BEGIN:STANDARD
TZOFFSETFROM:-0400
TZOFFSETTO:-0500
TZNAME:EST
DTSTART:20251102T060000
END:STANDARD
BEGIN:DAYLIGHT
TZOFFSETFROM:-0500
TZOFFSETTO:-0400
TZNAME:EDT
DTSTART:20260308T070000
END:DAYLIGHT
BEGIN:STANDARD
TZOFFSETFROM:-0400
TZOFFSETTO:-0500
TZNAME:EST
DTSTART:20261101T060000
END:STANDARD
END:VTIMEZONE
BEGIN:VEVENT
DTSTART;TZID=America/New_York:20251005T093000
DTEND;TZID=America/New_York:20251005T143000
DTSTAMP:20260423T204711
CREATED:20250929T232710Z
LAST-MODIFIED:20250929T232711Z
UID:10003254-1759656600-1759674600@www.bahailv.org
SUMMARY:Unit Convention for Unit 015 this coming Sunday\, October 5 at Camp Curtin Academy\, 2900 N. Sixth Street\, Harrisburg\, PA 17110. 9:30 am to 2:30 pm.
DESCRIPTION:Dear Friends\,\n\n\n\n \nAllah’u’abha! The Spiritual Assembly of Baha’is of Harrisburg is hosting the Unit Convention for Unit 015\nthis coming Sunday\, October 5 at Camp Curtin Academy\, 2900 N. Sixth Street\, Harrisburg\, PA 17110. \nRegistration begins at 9:30 AM\, and the Convention officially begins at 10:30 AM. Please plan to bring a \nbag lunch with you. The Convention will end at about 2:30 PM.\n \nYou should have gotten your ballot with envelopes and information from the National Spiritual Assembly\nat the beginning of September about the process to elect a delegate from Unit 015 who will vote for the \nnext National Spiritual Assembly at Ridvan\, 2026. Please bring your ballot with you. We hope that you will \nbe able to join us this coming Sunday to both vote for a delegate to go to the National Convention from our \nUnit as well as to offer any suggestions or recommendations to the National Spiritual Assembly for it to \nconsider as it begins its next Baha’i year beginning at Ridvan. \n \nA continental breakfast will be provided after you register at the Unit Convention\,\, and there will be classes\nfor children aged 5 through 9 and junior youth from age 10 through 14. Please register your children who \nplan to attend the classes. Call (717-557-7208) or email me (czandieh9@hotmail.com) to let me know the\nnames and ages of your children.\n \nYou can vote in person on Sunday\, October 5 in Harrisburg. If you are unable to attend on Sunday\, you can \nvote through OBS online using your online services account with the Baha’i National Center; simply click\n“TOOLS” and then “Online Balloting System (OBS). If you need to create an online services account\, go\nto www.bahai.us/community/createobs and follow the instructions to create an account. You may also\nmail the ballot that you received from the National Spiritual Assembly that was mailed to you. After writing\nthe name of the person you want to vote for to be a delegate to the National Convention from our Unit\,\nmail the ballot\, using both an inner and outer envelope to go to: Mark Dunmire\, Head Teller\, 2030 Bellevue \nRoad\, Harrisburg\, PA 17104 to be received by Saturday\, October 4. Your ballot can also be brought to the \nUnit Convention for you by a Baha’i who is planning to attend the Convention.\n \nPlease remember to bring your Baha’i membership card to show to the registrar at the Registrar’s table in the \nfoyer of the school. If you forget your card\, please present a driver’s license or other identification card that \nverifies your residence in Electoral Unit 015.\n \nWe look forward to seeing you on Sunday\, October 5 in Harrisburg! \n \nWith loving Baha’i greetings\,\nCarol M. Zandieh\,\nSecretary\nSpiritual Assembly of Baha’is of Harrisburg
URL:https://www.bahailv.org/event/unit-convention-for-unit-015-this-coming-sunday-october-5-at-camp-curtin-academy-2900-n-sixth-street-harrisburg-pa-17110-930-am-to-230-pm/
ATTACH;FMTTYPE=image/jpeg:https://www.bahailv.org/wp-content/uploads/2024/08/Unit-Convention.jpeg
END:VEVENT
BEGIN:VEVENT
DTSTART;TZID=America/New_York:20251005T193000
DTEND;TZID=America/New_York:20251005T203000
DTSTAMP:20260423T204711
CREATED:20250927T023446Z
LAST-MODIFIED:20250927T023446Z
UID:10003241-1759692600-1759696200@www.bahailv.org
SUMMARY:Sunday night Zoom Healing Devotions hosted by Moira & Randy Padfield.  Click here for details.
DESCRIPTION:Dear friends\,  \nThe Padfield family are hosting a devotional via Zoom Sunday evening at 7:30pm and each Sunday thereafter.  Link will be emailed to the friends directly.  We will be saying prayers for Richard Beane (our son-in-law in Belize) and Shirin’s sister as well as others in the community in need of healing prayers. We will also offer healing prayers for our community\, country and the world.   \nWe would be happy to have you join us and would welcome anything you would like to contribute in the form of prayers\, Writings\, or poems.   \nWe hope to see you on Sunday night.  Zoom link was emailed to the friends directly. \nWith loving regards\,
URL:https://www.bahailv.org/event/sunday-night-zoom-healing-devotions-hosted-by-moira-randy-padfield-click-here-for-details-11/2025-10-05/
ATTACH;FMTTYPE=image/jpeg:https://www.bahailv.org/wp-content/uploads/2020/05/devotions.jpg
END:VEVENT
END:VCALENDAR