BEGIN:VCALENDAR
VERSION:2.0
PRODID:-//Lehigh Valley Bahai - ECPv6.15.20//NONSGML v1.0//EN
CALSCALE:GREGORIAN
METHOD:PUBLISH
X-WR-CALNAME:Lehigh Valley Bahai
X-ORIGINAL-URL:https://www.bahailv.org
X-WR-CALDESC:Events for Lehigh Valley Bahai
REFRESH-INTERVAL;VALUE=DURATION:PT1H
X-Robots-Tag:noindex
X-PUBLISHED-TTL:PT1H
BEGIN:VTIMEZONE
TZID:America/New_York
BEGIN:DAYLIGHT
TZOFFSETFROM:-0500
TZOFFSETTO:-0400
TZNAME:EDT
DTSTART:20240310T070000
END:DAYLIGHT
BEGIN:STANDARD
TZOFFSETFROM:-0400
TZOFFSETTO:-0500
TZNAME:EST
DTSTART:20241103T060000
END:STANDARD
BEGIN:DAYLIGHT
TZOFFSETFROM:-0500
TZOFFSETTO:-0400
TZNAME:EDT
DTSTART:20250309T070000
END:DAYLIGHT
BEGIN:STANDARD
TZOFFSETFROM:-0400
TZOFFSETTO:-0500
TZNAME:EST
DTSTART:20251102T060000
END:STANDARD
BEGIN:DAYLIGHT
TZOFFSETFROM:-0500
TZOFFSETTO:-0400
TZNAME:EDT
DTSTART:20260308T070000
END:DAYLIGHT
BEGIN:STANDARD
TZOFFSETFROM:-0400
TZOFFSETTO:-0500
TZNAME:EST
DTSTART:20261101T060000
END:STANDARD
END:VTIMEZONE
BEGIN:VEVENT
DTSTART;TZID=America/New_York:20250930T190000
DTEND;TZID=America/New_York:20250930T200000
DTSTAMP:20260423T204753
CREATED:20250909T201525Z
LAST-MODIFIED:20250909T201703Z
UID:10003231-1759258800-1759262400@www.bahailv.org
SUMMARY:Fireside invitation to the home of Moira & Randy Padfield on Tuesday September 30 at 7:00 PM.
DESCRIPTION:A story of artists embracing place \nRooted\, a 75 minute documentary film about artists embracing place\, premiered \nfor an enthusiastic audience of more than 300 at Zoellner Arts Center \n as part of the Southside Film Festival and was nominated for a \n “best documentary” award at the Newark International Film Festival.  \n  \nDrawing from over two hours of interviews\, new and archival video\, music\, and photos\, Rooted distills fifty years of the story of Bethlehem Pennsylvania \n–a community transformed by art and artists transformed by community.   \n  \nThe Baha’is of the Nazareth Area are pleased to host \n two of the film’s creative team\, Bill and Bridget George\, \non Tuesday September 30 at 7:00 PM. \nBill and Bridget will introduce a screening of the film and facilitate a conversation \n about how place and working together are crucial to identity\, and stimulate us  \nsocially and spiritually in building a revitalized community.   \n  \nPlease come if you can. \nLocation: Home of Moira and Randy Padfield \n 317 Constitution Circle\, Nazareth PA \nMore Info: Roseann Bowerman 610-704-0026 or Moira Padfield 610-703-2974  
URL:https://www.bahailv.org/event/fireside-invitation-to-the-home-of-moira-randy-padfield-on-tuesday-september-30-at-700-pm/
ATTACH;FMTTYPE=image/jpeg:https://www.bahailv.org/wp-content/uploads/2024/07/Firesides-2-e1746502911265.jpeg
END:VEVENT
END:VCALENDAR