BEGIN:VCALENDAR
VERSION:2.0
PRODID:-//Lehigh Valley Bahai - ECPv6.15.20//NONSGML v1.0//EN
CALSCALE:GREGORIAN
METHOD:PUBLISH
X-ORIGINAL-URL:https://www.bahailv.org
X-WR-CALDESC:Events for Lehigh Valley Bahai
REFRESH-INTERVAL;VALUE=DURATION:PT1H
X-Robots-Tag:noindex
X-PUBLISHED-TTL:PT1H
BEGIN:VTIMEZONE
TZID:America/New_York
BEGIN:DAYLIGHT
TZOFFSETFROM:-0500
TZOFFSETTO:-0400
TZNAME:EDT
DTSTART:20240310T070000
END:DAYLIGHT
BEGIN:STANDARD
TZOFFSETFROM:-0400
TZOFFSETTO:-0500
TZNAME:EST
DTSTART:20241103T060000
END:STANDARD
BEGIN:DAYLIGHT
TZOFFSETFROM:-0500
TZOFFSETTO:-0400
TZNAME:EDT
DTSTART:20250309T070000
END:DAYLIGHT
BEGIN:STANDARD
TZOFFSETFROM:-0400
TZOFFSETTO:-0500
TZNAME:EST
DTSTART:20251102T060000
END:STANDARD
BEGIN:DAYLIGHT
TZOFFSETFROM:-0500
TZOFFSETTO:-0400
TZNAME:EDT
DTSTART:20260308T070000
END:DAYLIGHT
BEGIN:STANDARD
TZOFFSETFROM:-0400
TZOFFSETTO:-0500
TZNAME:EST
DTSTART:20261101T060000
END:STANDARD
END:VTIMEZONE
BEGIN:VEVENT
DTSTART;TZID=America/New_York:20250829T080000
DTEND;TZID=America/New_York:20250829T170000
DTSTAMP:20260423T235124
CREATED:20250719T212658Z
LAST-MODIFIED:20250719T212658Z
UID:10003213-1756454400-1756486800@www.bahailv.org
SUMMARY:Camp Tabarsi - August 29 - September 1\, 2025
DESCRIPTION:Register Now for an Unforgettable Experience !\nWe are thrilled to announce that registration for Camp Tabarsi 2025 is now open! Join us on August 29 – September 1st. \nIn a world where conflict shows up in many forms—at school\, at home\, in our communities\, and across social media—junior youth have a powerful opportunity to rise above division and become agents of unity\, insight\, and healing. \nGrounded in the teachings of the Bahá’í Faith and inspired by guidance from the Universal House of Justice\, Camp Tabarsi 2025 will explore how young people can respond to the challenges of today’s world with spiritual strength\, moral clarity\, and purposeful action. \n\n\n\n\n\n\n\n\n\nThrough meaningful conversations\, creative workshops\, and joyful camp experiences\,we’ll uncover how true peace begins from within—shaped by our values\, guided by consultation\, and built through our relationships with others. Together\, we’ll learn to identify the root causes of conflict and develop tangible skills to contribute to peaceful resolutions in our families\, friendships\, neighborhoods\, and beyond. \nThis isn’t just a theme. It’s a call to action. \nJoin us this summer as we grow into true practitioners of peace. \n\n\n\n\n\n\n\n\n\n\n\n\n\nRegister Now!
URL:https://www.bahailv.org/event/camp-tabarsi-august-29-september-1-2025/
ATTACH;FMTTYPE=image/jpeg:https://www.bahailv.org/wp-content/uploads/2025/07/Camp-Tabarsi.jpeg
END:VEVENT
BEGIN:VEVENT
DTSTART;TZID=America/New_York:20250829T190000
DTEND;TZID=America/New_York:20250829T200000
DTSTAMP:20260423T235124
CREATED:20250609T164350Z
LAST-MODIFIED:20250609T164350Z
UID:10002396-1756494000-1756497600@www.bahailv.org
SUMMARY:Bi-weekly Friday night devotion/Study Circle in person or via Zoo.  Click here for details.
DESCRIPTION:Please join our Bi-weekly Friday night devotional/Study Circle in-person or via Zoom.\n\n\n\n\nTopic: varies each time7:00 PM Eastern Time (US and Canada).\n\nZoom link was directly emailed to friends\, however for direct zoom link to the devotions contact Shirin Khalighi: khalighi1@aol.com OR Gladys Nay: gladandlou@msn.com
URL:https://www.bahailv.org/event/bi-weekly-friday-night-devotion-study-circle-in-person-or-via-zoo-click-here-for-details/2025-08-29/
ATTACH;FMTTYPE=image/jpeg:https://www.bahailv.org/wp-content/uploads/2021/09/Devotions-3.jpeg
END:VEVENT
END:VCALENDAR