BEGIN:VCALENDAR
VERSION:2.0
PRODID:-//Lehigh Valley Bahai - ECPv6.15.20//NONSGML v1.0//EN
CALSCALE:GREGORIAN
METHOD:PUBLISH
X-WR-CALNAME:Lehigh Valley Bahai
X-ORIGINAL-URL:https://www.bahailv.org
X-WR-CALDESC:Events for Lehigh Valley Bahai
REFRESH-INTERVAL;VALUE=DURATION:PT1H
X-Robots-Tag:noindex
X-PUBLISHED-TTL:PT1H
BEGIN:VTIMEZONE
TZID:America/New_York
BEGIN:DAYLIGHT
TZOFFSETFROM:-0500
TZOFFSETTO:-0400
TZNAME:EDT
DTSTART:20240310T070000
END:DAYLIGHT
BEGIN:STANDARD
TZOFFSETFROM:-0400
TZOFFSETTO:-0500
TZNAME:EST
DTSTART:20241103T060000
END:STANDARD
BEGIN:DAYLIGHT
TZOFFSETFROM:-0500
TZOFFSETTO:-0400
TZNAME:EDT
DTSTART:20250309T070000
END:DAYLIGHT
BEGIN:STANDARD
TZOFFSETFROM:-0400
TZOFFSETTO:-0500
TZNAME:EST
DTSTART:20251102T060000
END:STANDARD
BEGIN:DAYLIGHT
TZOFFSETFROM:-0500
TZOFFSETTO:-0400
TZNAME:EDT
DTSTART:20260308T070000
END:DAYLIGHT
BEGIN:STANDARD
TZOFFSETFROM:-0400
TZOFFSETTO:-0500
TZNAME:EST
DTSTART:20261101T060000
END:STANDARD
END:VTIMEZONE
BEGIN:VEVENT
DTSTART;TZID=America/New_York:20250719T103000
DTEND;TZID=America/New_York:20250719T123000
DTSTAMP:20260424T013641
CREATED:20250506T193250Z
LAST-MODIFIED:20250701T230357Z
UID:10002380-1752921000-1752928200@www.bahailv.org
SUMMARY:Allentown/Reading Cluster gathering at Little Pond\, Nazareth from 10:30 am to 12:30 pm.  Click here for details.
DESCRIPTION:The ATC members announced the dates of the next Reflection Gatherings: \nSaturday July 19\, 10:30am – 12:30pm at Little Pond. \nContact: Bridget George: 610 570 1336. \n  \nDear Friends\,\n\nThis a friendly reminder that our next Cluster Reflection Gathering is on Saturday July 19\, 10:30am – 12:30pm including light lunch refreshments at Little Pond. The friends throughout our Cluster have good things to report on and we are hoping that as many of us as possible will be present to reflect on ways to move forward at this important moment in our Nine-Year Plan and in the wider world.\n\n\n\n\n\n\n“…Be ye a breath of life to the body of mankind\, an ensign to the hosts of justice\, a luminary above the horizon of virtue\, a dew to the soil of the human heart\, an ark on the ocean of knowledge\, a sun in the heaven of bounty\, a gem on the diadem of wisdom\, a shining light in the firmament of thy generation\, a fruit upon the tree of humility.” – Baha’u’llah\n\nAlso\, the date for our October Reflection Gathering has been changed from Saturday October 18 to Saturday October 25. Please mark this in your calendars.\n \nGratefully and with all best wishes from the ATC\nAnne Bivans\, Bridget George\, Shirin Khalighi\, and Laura Lawrence
URL:https://www.bahailv.org/event/allentown-reading-cluster-gathering-at-little-pond-nazareth-from-1030-am-to-1230-pm-click-here-for-details/
ATTACH;FMTTYPE=image/jpeg:https://www.bahailv.org/wp-content/uploads/2021/06/Cluster-Reflection-meeting..jpg
END:VEVENT
END:VCALENDAR