BEGIN:VCALENDAR
VERSION:2.0
PRODID:-//Lehigh Valley Bahai - ECPv6.15.20//NONSGML v1.0//EN
CALSCALE:GREGORIAN
METHOD:PUBLISH
X-WR-CALNAME:Lehigh Valley Bahai
X-ORIGINAL-URL:https://www.bahailv.org
X-WR-CALDESC:Events for Lehigh Valley Bahai
REFRESH-INTERVAL;VALUE=DURATION:PT1H
X-Robots-Tag:noindex
X-PUBLISHED-TTL:PT1H
BEGIN:VTIMEZONE
TZID:America/New_York
BEGIN:DAYLIGHT
TZOFFSETFROM:-0500
TZOFFSETTO:-0400
TZNAME:EDT
DTSTART:20240310T070000
END:DAYLIGHT
BEGIN:STANDARD
TZOFFSETFROM:-0400
TZOFFSETTO:-0500
TZNAME:EST
DTSTART:20241103T060000
END:STANDARD
BEGIN:DAYLIGHT
TZOFFSETFROM:-0500
TZOFFSETTO:-0400
TZNAME:EDT
DTSTART:20250309T070000
END:DAYLIGHT
BEGIN:STANDARD
TZOFFSETFROM:-0400
TZOFFSETTO:-0500
TZNAME:EST
DTSTART:20251102T060000
END:STANDARD
BEGIN:DAYLIGHT
TZOFFSETFROM:-0500
TZOFFSETTO:-0400
TZNAME:EDT
DTSTART:20260308T070000
END:DAYLIGHT
BEGIN:STANDARD
TZOFFSETFROM:-0400
TZOFFSETTO:-0500
TZNAME:EST
DTSTART:20261101T060000
END:STANDARD
END:VTIMEZONE
BEGIN:VEVENT
DTSTART;TZID=America/New_York:20250628T120000
DTEND;TZID=America/New_York:20250628T170000
DTSTAMP:20260424T031842
CREATED:20250515T172437Z
LAST-MODIFIED:20250515T172607Z
UID:10002392-1751112000-1751130000@www.bahailv.org
SUMMARY:113th Annual Souvenir Unity Feast - Saturday\, June 28\, 2025 12:00 PM  1:00 PM Wilhelm Baha'i Properties126 Evergreen Place\, Teaneck\, NJ\, 07666
DESCRIPTION:113th Annual Souvenir Unity Feast\n\nSaturday\, June 28\, 2025\n12:00 PM  1:00 PM\n\n\nWilhelm Baha’i Properties126 Evergreen PlaceTeaneck\, NJ\, 07666United States (map)\n\n\n\n\n\n\n\n\n\nThe Wilhelm Bahá’í Properties are one of the oldest and most unique Bahá’í sites in the United States.  Built by eminent American Bahá’í Roy Wilhelm\, the grounds were blessed by the presence of `Abdu’l-Bahá in 1912.  After more than 50 years of imprisonment and exile with his father Bahá’u’lláh\, the Founder of the Bahá’í Faith\, `Abdu’l-Bahá journeyed to Europe and America where he shared and exemplified the Bahá’í teachings. \nFor the last 112 years\, Bahá’ís and local community members have annually commemorated `Abdu’l-Bahá’s 1912 visit to the Wilhelm Properties on the last Saturday of June. This year’s 113th Souvenir Unity Feast will be held on Saturday\, June 28th\, 2025. The day begins at noon and the program will be at 3pm.
URL:https://www.bahailv.org/event/113th-annual-souvenir-unity-feast-saturday-june-28-2025-1200-pm-100-pm-wilhelm-bahai-properties126-evergreen-place-teaneck-nj-07666/
ATTACH;FMTTYPE=image/jpeg:https://www.bahailv.org/wp-content/uploads/2022/01/teaneck.jpg
END:VEVENT
END:VCALENDAR