BEGIN:VCALENDAR
VERSION:2.0
PRODID:-//Lehigh Valley Bahai - ECPv6.15.20//NONSGML v1.0//EN
CALSCALE:GREGORIAN
METHOD:PUBLISH
X-WR-CALNAME:Lehigh Valley Bahai
X-ORIGINAL-URL:https://www.bahailv.org
X-WR-CALDESC:Events for Lehigh Valley Bahai
REFRESH-INTERVAL;VALUE=DURATION:PT1H
X-Robots-Tag:noindex
X-PUBLISHED-TTL:PT1H
BEGIN:VTIMEZONE
TZID:America/New_York
BEGIN:DAYLIGHT
TZOFFSETFROM:-0500
TZOFFSETTO:-0400
TZNAME:EDT
DTSTART:20240310T070000
END:DAYLIGHT
BEGIN:STANDARD
TZOFFSETFROM:-0400
TZOFFSETTO:-0500
TZNAME:EST
DTSTART:20241103T060000
END:STANDARD
BEGIN:DAYLIGHT
TZOFFSETFROM:-0500
TZOFFSETTO:-0400
TZNAME:EDT
DTSTART:20250309T070000
END:DAYLIGHT
BEGIN:STANDARD
TZOFFSETFROM:-0400
TZOFFSETTO:-0500
TZNAME:EST
DTSTART:20251102T060000
END:STANDARD
BEGIN:DAYLIGHT
TZOFFSETFROM:-0500
TZOFFSETTO:-0400
TZNAME:EDT
DTSTART:20260308T070000
END:DAYLIGHT
BEGIN:STANDARD
TZOFFSETFROM:-0400
TZOFFSETTO:-0500
TZNAME:EST
DTSTART:20261101T060000
END:STANDARD
END:VTIMEZONE
BEGIN:VEVENT
DTSTART;TZID=America/New_York:20250604T180000
DTEND;TZID=America/New_York:20250604T210000
DTSTAMP:20260424T031842
CREATED:20240614T190954Z
LAST-MODIFIED:20250529T224342Z
UID:10001811-1749060000-1749070800@www.bahailv.org
SUMMARY:Feast of Nur (Light). WEDNESDAY\, JUNE 4TH AT 6:00 pm   Hosted by the Lawrence family.   Click here for details.
DESCRIPTION: \nLaura and Henry Lawrence warmly invite you to the Feast of Nur (Light) at their home \n \nWEDNESDAY\, JUNE 4TH AT 6:00 pm  \n \nLIGHT dinner will be provided – For vegetarians too! 😉 (Dinner 6:00 PM Feast 6:30)\n \nAddress was emailed to the friends directly.\n \nFor friends who are not able to attend in person\, a zoom link was emailed to friends directly.\n\n\n\n\n\n\n\nWarmest regards\,\n\n\nLaura and Henry  ( 484 ) 934 1504.
URL:https://www.bahailv.org/event/feast-of-nur-light-host-tbd-click-here-for-details-3/
ATTACH;FMTTYPE=image/jpeg:https://www.bahailv.org/wp-content/uploads/2024/06/Feast-of-Nur-Light.jpeg
END:VEVENT
END:VCALENDAR