BEGIN:VCALENDAR
VERSION:2.0
PRODID:-//Lehigh Valley Bahai - ECPv6.15.20//NONSGML v1.0//EN
CALSCALE:GREGORIAN
METHOD:PUBLISH
X-ORIGINAL-URL:https://www.bahailv.org
X-WR-CALDESC:Events for Lehigh Valley Bahai
REFRESH-INTERVAL;VALUE=DURATION:PT1H
X-Robots-Tag:noindex
X-PUBLISHED-TTL:PT1H
BEGIN:VTIMEZONE
TZID:America/New_York
BEGIN:DAYLIGHT
TZOFFSETFROM:-0500
TZOFFSETTO:-0400
TZNAME:EDT
DTSTART:20240310T070000
END:DAYLIGHT
BEGIN:STANDARD
TZOFFSETFROM:-0400
TZOFFSETTO:-0500
TZNAME:EST
DTSTART:20241103T060000
END:STANDARD
BEGIN:DAYLIGHT
TZOFFSETFROM:-0500
TZOFFSETTO:-0400
TZNAME:EDT
DTSTART:20250309T070000
END:DAYLIGHT
BEGIN:STANDARD
TZOFFSETFROM:-0400
TZOFFSETTO:-0500
TZNAME:EST
DTSTART:20251102T060000
END:STANDARD
BEGIN:DAYLIGHT
TZOFFSETFROM:-0500
TZOFFSETTO:-0400
TZNAME:EDT
DTSTART:20260308T070000
END:DAYLIGHT
BEGIN:STANDARD
TZOFFSETFROM:-0400
TZOFFSETTO:-0500
TZNAME:EST
DTSTART:20261101T060000
END:STANDARD
END:VTIMEZONE
BEGIN:VEVENT
DTSTART;TZID=America/New_York:20250531T090000
DTEND;TZID=America/New_York:20250531T160000
DTSTAMP:20260424T050512
CREATED:20250410T024637Z
LAST-MODIFIED:20250410T024637Z
UID:10002372-1748682000-1748707200@www.bahailv.org
SUMMARY:Community Building Conference Save-The-Date-May 31st\, 2025.  Program 9:00 AM. till 4:00 PM.
DESCRIPTION:Lehigh Valley Community Building Conference\n\n\n\n\n \nDearest Friends:\n \nPlease join us for a day of fun\, learning and community building. We can build a better world when we focus our thoughts and actions on peace\, unity and service to mankind for our generation and the next generation to come. Please save the date for our upcoming Community Building Conference: \nMay 31st\, 2025 \nProgram 9:00 AM till 4:00 PM \nDinner\, Arts\, and Socializing 4:00 PM-7:00 PM \nCheck in begins at 9:00 AM followed by program at 9:30 AM  \nWe want to invite all friends\, and friends of friends to this amazing gathering. Families and everyone of all ages are welcome! \nThe purpose of the conference is to share Baha’u’llah’s world-embracing vision\, through prayers\, songs\, arts\, and group discussions. \nPlease register at one of the links below \n                                                            https://forms.gle/cRVZDecMLVT6xfB67
URL:https://www.bahailv.org/event/community-building-conference-save-the-date-may-31st-2025-program-900-am-till-400-pm/
ATTACH;FMTTYPE=image/gif:https://www.bahailv.org/wp-content/uploads/2025/04/Community-Building.gif
END:VEVENT
END:VCALENDAR