BEGIN:VCALENDAR
VERSION:2.0
PRODID:-//Lehigh Valley Bahai - ECPv6.15.20//NONSGML v1.0//EN
CALSCALE:GREGORIAN
METHOD:PUBLISH
X-WR-CALNAME:Lehigh Valley Bahai
X-ORIGINAL-URL:https://www.bahailv.org
X-WR-CALDESC:Events for Lehigh Valley Bahai
REFRESH-INTERVAL;VALUE=DURATION:PT1H
X-Robots-Tag:noindex
X-PUBLISHED-TTL:PT1H
BEGIN:VTIMEZONE
TZID:America/New_York
BEGIN:DAYLIGHT
TZOFFSETFROM:-0500
TZOFFSETTO:-0400
TZNAME:EDT
DTSTART:20240310T070000
END:DAYLIGHT
BEGIN:STANDARD
TZOFFSETFROM:-0400
TZOFFSETTO:-0500
TZNAME:EST
DTSTART:20241103T060000
END:STANDARD
BEGIN:DAYLIGHT
TZOFFSETFROM:-0500
TZOFFSETTO:-0400
TZNAME:EDT
DTSTART:20250309T070000
END:DAYLIGHT
BEGIN:STANDARD
TZOFFSETFROM:-0400
TZOFFSETTO:-0500
TZNAME:EST
DTSTART:20251102T060000
END:STANDARD
BEGIN:DAYLIGHT
TZOFFSETFROM:-0500
TZOFFSETTO:-0400
TZNAME:EDT
DTSTART:20260308T070000
END:DAYLIGHT
BEGIN:STANDARD
TZOFFSETFROM:-0400
TZOFFSETTO:-0500
TZNAME:EST
DTSTART:20261101T060000
END:STANDARD
END:VTIMEZONE
BEGIN:VEVENT
DTSTART;TZID=America/New_York:20250518T100000
DTEND;TZID=America/New_York:20250518T120000
DTSTAMP:20260424T050420
CREATED:20250419T175121Z
LAST-MODIFIED:20250419T175121Z
UID:10001940-1747562400-1747569600@www.bahailv.org
SUMMARY:Bahai Learning Center in Allentown (Lehigh Valley Center for Sight\, 1739 Fairmont Street\, Allentown 18104). Click here for details.
DESCRIPTION:Dear loved Friends\,\n \nWe are very excited to announce the start of another season of learning\, devotions\, and fellowship at the Bahá’í Learning Center in Allentown ( Lehigh Valley Center for Sight\, 1739 Fairmont Street\, Allentown 18104 ) every other Sunday 10 AM to 12 PM starting on September 29. There will be children and adult classes – All are welcome and feel free to bring family and friends. You are welcome to attend all or come to as many sessions that you are able.  A Zoom link will be provided for friends who wish to join online.\nYou can find the schedule on the Lehigh Valley Bahá’í Community Calendar: www.bahailv.org. Please contact Houman Ahdieh for further information and directions; houmanahdieh@yahoo.com 610-737-3938. \n \nWe very much look forward to seeing you soon!\n\n \nWith kind regards\,\n \nHouman Ahdieh\nBahá’í Learning Center Planning Committee
URL:https://www.bahailv.org/event/bahai-learning-center-8-6/
ATTACH;FMTTYPE=image/jpeg:https://www.bahailv.org/wp-content/uploads/2024/09/Bahai-Sunday-School.jpeg
END:VEVENT
BEGIN:VEVENT
DTSTART;TZID=America/New_York:20250518T183000
DTEND;TZID=America/New_York:20250518T203000
DTSTAMP:20260424T050420
CREATED:20250428T012839Z
LAST-MODIFIED:20250428T013007Z
UID:10002354-1747593000-1747600200@www.bahailv.org
SUMMARY:Little Pond monthly Sunday devotions hosted by Bill & Bridget George. 6:30 p.m. at Little Pond\, Nazareth.  Click here for details.
DESCRIPTION:Dear Friends\,\n \nAs always\, the Devotional program will be followed by refreshments and discussion. It helps us to know if you are coming\, so please respond to bridgetgeorge9@gmail.com.\n \nWe do hope you will join us\, and of course you are welcome to forward this invitation to your friends.\nDirections to Little Pond can be found on our website\, https://littlepond.org/\n\n \nWe also thought it would be helpful to let you know the dates of the Little Pond Devotionals  April 2025 to January 2026.. All dates are Sundays at 1 pm on weekends that do not conflict with the Baha’i Learning Center activities.\n\n\nApril 6\nMay 18\nJune 22\nJuly 27\nAugust 24\nSeptember 21\nOctober 19\nNovember 16\nJanuary 4 – 2026.
URL:https://www.bahailv.org/event/little-pond-monthly-sunday-devotions-hosted-by-bill-bridget-george-1-3-p-m-at-little-pond-nazareth-click-here-for-details-4-2/
ATTACH;FMTTYPE=image/jpeg:https://www.bahailv.org/wp-content/uploads/2021/09/Devotions-3.jpeg
END:VEVENT
END:VCALENDAR