BEGIN:VCALENDAR
VERSION:2.0
PRODID:-//Lehigh Valley Bahai - ECPv6.15.20//NONSGML v1.0//EN
CALSCALE:GREGORIAN
METHOD:PUBLISH
X-WR-CALNAME:Lehigh Valley Bahai
X-ORIGINAL-URL:https://www.bahailv.org
X-WR-CALDESC:Events for Lehigh Valley Bahai
REFRESH-INTERVAL;VALUE=DURATION:PT1H
X-Robots-Tag:noindex
X-PUBLISHED-TTL:PT1H
BEGIN:VTIMEZONE
TZID:America/New_York
BEGIN:DAYLIGHT
TZOFFSETFROM:-0500
TZOFFSETTO:-0400
TZNAME:EDT
DTSTART:20240310T070000
END:DAYLIGHT
BEGIN:STANDARD
TZOFFSETFROM:-0400
TZOFFSETTO:-0500
TZNAME:EST
DTSTART:20241103T060000
END:STANDARD
BEGIN:DAYLIGHT
TZOFFSETFROM:-0500
TZOFFSETTO:-0400
TZNAME:EDT
DTSTART:20250309T070000
END:DAYLIGHT
BEGIN:STANDARD
TZOFFSETFROM:-0400
TZOFFSETTO:-0500
TZNAME:EST
DTSTART:20251102T060000
END:STANDARD
BEGIN:DAYLIGHT
TZOFFSETFROM:-0500
TZOFFSETTO:-0400
TZNAME:EDT
DTSTART:20260308T070000
END:DAYLIGHT
BEGIN:STANDARD
TZOFFSETFROM:-0400
TZOFFSETTO:-0500
TZNAME:EST
DTSTART:20261101T060000
END:STANDARD
END:VTIMEZONE
BEGIN:VEVENT
DTSTART;TZID=America/New_York:20250516T183000
DTEND;TZID=America/New_York:20250516T210000
DTSTAMP:20260424T050420
CREATED:20240614T190625Z
LAST-MODIFIED:20250511T005238Z
UID:10001810-1747420200-1747429200@www.bahailv.org
SUMMARY:Feast of Azamat (Grandeur). Hosted by Naysan & Alaleh Sabet.  Click here for details.
DESCRIPTION:Hosts – Naysan & Alaleh Sabet. \nNaysan & Alaleh warmly invite you to the Feast of Azamat (Grandeur) –  Friday May 16th @6:30 PM at their home.\n\nPlease refer to email directly shared with friends for address and phone number.
URL:https://www.bahailv.org/event/feast-of-azamat-grandeur-host-tbd-click-here-for-details-2/
ATTACH;FMTTYPE=image/jpeg:https://www.bahailv.org/wp-content/uploads/2024/06/Feast-of-Azamat-Grandeur.jpeg
END:VEVENT
END:VCALENDAR