BEGIN:VCALENDAR
VERSION:2.0
PRODID:-//Lehigh Valley Bahai - ECPv6.15.20//NONSGML v1.0//EN
CALSCALE:GREGORIAN
METHOD:PUBLISH
X-WR-CALNAME:Lehigh Valley Bahai
X-ORIGINAL-URL:https://www.bahailv.org
X-WR-CALDESC:Events for Lehigh Valley Bahai
REFRESH-INTERVAL;VALUE=DURATION:PT1H
X-Robots-Tag:noindex
X-PUBLISHED-TTL:PT1H
BEGIN:VTIMEZONE
TZID:America/New_York
BEGIN:DAYLIGHT
TZOFFSETFROM:-0500
TZOFFSETTO:-0400
TZNAME:EDT
DTSTART:20240310T070000
END:DAYLIGHT
BEGIN:STANDARD
TZOFFSETFROM:-0400
TZOFFSETTO:-0500
TZNAME:EST
DTSTART:20241103T060000
END:STANDARD
BEGIN:DAYLIGHT
TZOFFSETFROM:-0500
TZOFFSETTO:-0400
TZNAME:EDT
DTSTART:20250309T070000
END:DAYLIGHT
BEGIN:STANDARD
TZOFFSETFROM:-0400
TZOFFSETTO:-0500
TZNAME:EST
DTSTART:20251102T060000
END:STANDARD
BEGIN:DAYLIGHT
TZOFFSETFROM:-0500
TZOFFSETTO:-0400
TZNAME:EDT
DTSTART:20260308T070000
END:DAYLIGHT
BEGIN:STANDARD
TZOFFSETFROM:-0400
TZOFFSETTO:-0500
TZNAME:EST
DTSTART:20261101T060000
END:STANDARD
END:VTIMEZONE
BEGIN:VEVENT
DTSTART;TZID=America/New_York:20250503T103000
DTEND;TZID=America/New_York:20250503T130000
DTSTAMP:20260424T050419
CREATED:20250430T182408Z
LAST-MODIFIED:20250430T182617Z
UID:10002375-1746268200-1746277200@www.bahailv.org
SUMMARY:Cluster Gathering - this Saturday May 3\, at 10:30 am hosted by Houman Ahdieh at the Baha'i Learning Center.  Click here for details.
DESCRIPTION:Dear Friends\,\n \nOn behalf of the Area Teaching Committee\, we apologize for sending this message about our next Cluster Gathering with such short notice.\nHouman has graciously offered to host the meeting that should have been last week this coming weekend:\nSaturday May 3\, 10:30am – 12:30pm at the Baha’i Learning Center (Lehigh Valley Center for Sight\, 1739 Fairmont Street\, Allentown 18104)\n \nAmidst all the wonderful local and national Ridvan gatherings\, the beautiful Feast of Jamal at Hong and Sally’s home\, the amazing formation of the Bethelehm/Bethlehem Township Assembly\, and the excellent efforts of the new team preparing for the May 30 Conference\, we completely forgot about the next cycle for the Reflection Gathering.\n \nWe do hope you will join us this Saturday as we reflect with gratitude on all that has been happening and look forward to everything we hope to accomplish in the next cycle with the help of all the members of our growing and vibrant Cluster.\n \n\nThe link for the Cluster Reflection was emailed to the friends directly.\n \nWith loving Baha’i greetings\,\n\n \nHouman Ahdieh\, Anne Bivans\, Shirin Khalighi\, Bridget Goerge\, and Laura Lawrence
URL:https://www.bahailv.org/event/cluster-gathering-this-saturday-may-3-at-1030-am-hosted-by-houman-ahdieh-at-the-bahai-learning-center/
ATTACH;FMTTYPE=image/jpeg:https://www.bahailv.org/wp-content/uploads/2021/06/Cluster-Reflection-meeting..jpg
END:VEVENT
END:VCALENDAR