BEGIN:VCALENDAR
VERSION:2.0
PRODID:-//Lehigh Valley Bahai - ECPv6.15.20//NONSGML v1.0//EN
CALSCALE:GREGORIAN
METHOD:PUBLISH
X-WR-CALNAME:Lehigh Valley Bahai
X-ORIGINAL-URL:https://www.bahailv.org
X-WR-CALDESC:Events for Lehigh Valley Bahai
REFRESH-INTERVAL;VALUE=DURATION:PT1H
X-Robots-Tag:noindex
X-PUBLISHED-TTL:PT1H
BEGIN:VTIMEZONE
TZID:America/New_York
BEGIN:DAYLIGHT
TZOFFSETFROM:-0500
TZOFFSETTO:-0400
TZNAME:EDT
DTSTART:20240310T070000
END:DAYLIGHT
BEGIN:STANDARD
TZOFFSETFROM:-0400
TZOFFSETTO:-0500
TZNAME:EST
DTSTART:20241103T060000
END:STANDARD
BEGIN:DAYLIGHT
TZOFFSETFROM:-0500
TZOFFSETTO:-0400
TZNAME:EDT
DTSTART:20250309T070000
END:DAYLIGHT
BEGIN:STANDARD
TZOFFSETFROM:-0400
TZOFFSETTO:-0500
TZNAME:EST
DTSTART:20251102T060000
END:STANDARD
BEGIN:DAYLIGHT
TZOFFSETFROM:-0500
TZOFFSETTO:-0400
TZNAME:EDT
DTSTART:20260308T070000
END:DAYLIGHT
BEGIN:STANDARD
TZOFFSETFROM:-0400
TZOFFSETTO:-0500
TZNAME:EST
DTSTART:20261101T060000
END:STANDARD
END:VTIMEZONE
BEGIN:VEVENT
DTSTART;TZID=America/New_York:20250428T190000
DTEND;TZID=America/New_York:20250428T200000
DTSTAMP:20260424T050419
CREATED:20240611T161324Z
LAST-MODIFIED:20250412T213859Z
UID:10001805-1745866800-1745870400@www.bahailv.org
SUMMARY:9th day of Ridvan celebrations. Hosted by Eme Ekpe-Enyosiobi  Monday evening\,  April 28th at 7:00 PM  Held via Zoom.
DESCRIPTION:Share the glorious season of Ridvan \n\n\n\n\n\n\n\n\n\n\n\n\n\n\n\n\nby joining the Lehigh Valley Bahai Community  \nat these upcoming holy day events \n  \n \nThe celebration of Ridvan commemorates : Baha’u’llah’s stay in the Garden of Ridván in Baghdad in 1863  \nwhere he declared his mission as a Manifestation of God. \n\n9th Day of Ridvan \n\nHosted by Eme Ekpe-Enyosiobi \nMonday evening\,  April 28th at 7:00 PM \nHeld via Zoom ( Zoom link was emailed to the friends directly) \n \n\n*Bring your spirit of devotion\, smiles\, and a fully charged device
URL:https://www.bahailv.org/event/9th-day-of-ridvan-celebrations-host-tbd-click-here-for-details/
ATTACH;FMTTYPE=image/jpeg:https://www.bahailv.org/wp-content/uploads/2022/05/ridvan.jpg
END:VEVENT
END:VCALENDAR