BEGIN:VCALENDAR
VERSION:2.0
PRODID:-//Lehigh Valley Bahai - ECPv6.15.20//NONSGML v1.0//EN
CALSCALE:GREGORIAN
METHOD:PUBLISH
X-WR-CALNAME:Lehigh Valley Bahai
X-ORIGINAL-URL:https://www.bahailv.org
X-WR-CALDESC:Events for Lehigh Valley Bahai
REFRESH-INTERVAL;VALUE=DURATION:PT1H
X-Robots-Tag:noindex
X-PUBLISHED-TTL:PT1H
BEGIN:VTIMEZONE
TZID:America/New_York
BEGIN:DAYLIGHT
TZOFFSETFROM:-0500
TZOFFSETTO:-0400
TZNAME:EDT
DTSTART:20240310T070000
END:DAYLIGHT
BEGIN:STANDARD
TZOFFSETFROM:-0400
TZOFFSETTO:-0500
TZNAME:EST
DTSTART:20241103T060000
END:STANDARD
BEGIN:DAYLIGHT
TZOFFSETFROM:-0500
TZOFFSETTO:-0400
TZNAME:EDT
DTSTART:20250309T070000
END:DAYLIGHT
BEGIN:STANDARD
TZOFFSETFROM:-0400
TZOFFSETTO:-0500
TZNAME:EST
DTSTART:20251102T060000
END:STANDARD
BEGIN:DAYLIGHT
TZOFFSETFROM:-0500
TZOFFSETTO:-0400
TZNAME:EDT
DTSTART:20260308T070000
END:DAYLIGHT
BEGIN:STANDARD
TZOFFSETFROM:-0400
TZOFFSETTO:-0500
TZNAME:EST
DTSTART:20261101T060000
END:STANDARD
END:VTIMEZONE
BEGIN:VEVENT
DTSTART;TZID=America/New_York:20250427T100000
DTEND;TZID=America/New_York:20250427T120000
DTSTAMP:20260424T050417
CREATED:20240903T234607Z
LAST-MODIFIED:20241203T033839Z
UID:10001939-1745748000-1745755200@www.bahailv.org
SUMMARY:Bahai Learning Center in Allentown (Lehigh Valley Center for Sight\, 1739 Fairmont Street\, Allentown 18104). Click here for details.
DESCRIPTION:Dear loved Friends\,\n \nWe are very excited to announce the start of another season of learning\, devotions\, and fellowship at the Bahá’í Learning Center in Allentown ( Lehigh Valley Center for Sight\, 1739 Fairmont Street\, Allentown 18104 ) every other Sunday 10 AM to 12 PM starting on September 29. There will be children and adult classes – All are welcome and feel free to bring family and friends. You are welcome to attend all or come to as many sessions that you are able.  A Zoom link will be provided for friends who wish to join online.\nYou can find the schedule on the Lehigh Valley Bahá’í Community Calendar: www.bahailv.org. Please contact Houman Ahdieh for further information and directions; houmanahdieh@yahoo.com 610-737-3938. \n \nWe very much look forward to seeing you soon!\n\n \nWith kind regards\,\n \nHouman Ahdieh\nBahá’í Learning Center Planning Committee
URL:https://www.bahailv.org/event/bahai-learning-center-8/2025-04-27/
ATTACH;FMTTYPE=image/jpeg:https://www.bahailv.org/wp-content/uploads/2024/09/Bahai-Sunday-School.jpeg
END:VEVENT
BEGIN:VEVENT
DTSTART;TZID=America/New_York:20250427T140000
DTEND;TZID=America/New_York:20250427T170000
DTSTAMP:20260424T050417
CREATED:20240614T185807Z
LAST-MODIFIED:20250425T185458Z
UID:10001809-1745762400-1745773200@www.bahailv.org
SUMMARY:Feast of Jamal (Beauty). Hosted by Hong & Sally Foo. Sunday\, April 27\, 2025\, at 2:00 p.m.
DESCRIPTION:Hosted by the Foo Family.  Contact:  484 238 0409. \n  \n\nLoving greetings to you\, dear friends! \n  \nHong and I are happy\, and honored\, to host the coming Feast of Jamal/Beauty on Sunday\, April 27\, 2025 at our home. This will be an in person Feast only\, there will be no Zoom option.   We warmly invite you to come and join us.  \n  \n                        Date:  Sunday\, April 27\, 2025 \n                        Time:  2:00PM ( Address was emailed to the friends directly ) \nDinner will be served after the program.  We ask that you let us know if you are coming\, via email:  siewkian2003@yahoo.com.  The reason is so that I can estimate the quantity of food I need to prepare.  Thank you! \n  \n  Beauty \n It is natural for the heart and spirit to take pleasure and enjoyment in all things \n            that show forth symmetry\, harmony\, and perfection. For instance: a beautiful house\, \n            a well-designed garden\, a symmetrical line\, a graceful motion\, a well written book\,\n           pleasing garments.  All things that have in themselves grace or beauty are pleasing\n            to the heart and spirit.  What is music? It is a combination of harmonious sounds. \n            What is poetry? It is a symmetrical collection of words. Therefore\, they are pleasing        \n             through harmony and rhythm. Poetry is much more effective and complete than prose.\n            It stirs more deeply\, for it is of a finer composition. \n  \n            …‘Abdu’l-Bahá\, A Brief Account of My Visit to Accá\, p. 11-14\n\n \n \nLove\,\nHong and Sally Foo
URL:https://www.bahailv.org/event/feast-of-jamal-beauty-host-tbd/
ATTACH;FMTTYPE=image/jpeg:https://www.bahailv.org/wp-content/uploads/2024/06/Feast-of-Jamal-Beauty-600x338-1.jpeg
END:VEVENT
END:VCALENDAR