BEGIN:VCALENDAR
VERSION:2.0
PRODID:-//Lehigh Valley Bahai - ECPv6.15.20//NONSGML v1.0//EN
CALSCALE:GREGORIAN
METHOD:PUBLISH
X-ORIGINAL-URL:https://www.bahailv.org
X-WR-CALDESC:Events for Lehigh Valley Bahai
REFRESH-INTERVAL;VALUE=DURATION:PT1H
X-Robots-Tag:noindex
X-PUBLISHED-TTL:PT1H
BEGIN:VTIMEZONE
TZID:America/New_York
BEGIN:DAYLIGHT
TZOFFSETFROM:-0500
TZOFFSETTO:-0400
TZNAME:EDT
DTSTART:20240310T070000
END:DAYLIGHT
BEGIN:STANDARD
TZOFFSETFROM:-0400
TZOFFSETTO:-0500
TZNAME:EST
DTSTART:20241103T060000
END:STANDARD
BEGIN:DAYLIGHT
TZOFFSETFROM:-0500
TZOFFSETTO:-0400
TZNAME:EDT
DTSTART:20250309T070000
END:DAYLIGHT
BEGIN:STANDARD
TZOFFSETFROM:-0400
TZOFFSETTO:-0500
TZNAME:EST
DTSTART:20251102T060000
END:STANDARD
BEGIN:DAYLIGHT
TZOFFSETFROM:-0500
TZOFFSETTO:-0400
TZNAME:EDT
DTSTART:20260308T070000
END:DAYLIGHT
BEGIN:STANDARD
TZOFFSETFROM:-0400
TZOFFSETTO:-0500
TZNAME:EST
DTSTART:20261101T060000
END:STANDARD
END:VTIMEZONE
BEGIN:VEVENT
DTSTART;TZID=America/New_York:20250226T190000
DTEND;TZID=America/New_York:20250226T210000
DTSTAMP:20260424T083145
CREATED:20240611T154650Z
LAST-MODIFIED:20240611T154650Z
UID:10001780-1740596400-1740603600@www.bahailv.org
SUMMARY:Ayyam-i-Ha!
DESCRIPTION:Ayyám-i-Há\, a period of intercalary days in the Bahá’í calendar\, will occur from February 25–28\, 2025. This period is a time to celebrate the Festival of Ayyám-i-Há and adjust the Bahá’í year to the solar calendar. The four or five days of Ayyám-i-Há are inserted between the last two months of the calendar\, Mulk and ʻAláʼ. Each day of Ayyám-i-Há is marked by a different virtue\, such as hospitality\, gift giving\, or charity.  
URL:https://www.bahailv.org/event/ayyam-i-ha-2/2025-02-26/
ATTACH;FMTTYPE=image/jpeg:https://www.bahailv.org/wp-content/uploads/2020/05/ed9556e32f8df11922e61efdc5a02f95.jpg
END:VEVENT
END:VCALENDAR