BEGIN:VCALENDAR
VERSION:2.0
PRODID:-//Lehigh Valley Bahai - ECPv6.15.20//NONSGML v1.0//EN
CALSCALE:GREGORIAN
METHOD:PUBLISH
X-WR-CALNAME:Lehigh Valley Bahai
X-ORIGINAL-URL:https://www.bahailv.org
X-WR-CALDESC:Events for Lehigh Valley Bahai
REFRESH-INTERVAL;VALUE=DURATION:PT1H
X-Robots-Tag:noindex
X-PUBLISHED-TTL:PT1H
BEGIN:VTIMEZONE
TZID:America/New_York
BEGIN:DAYLIGHT
TZOFFSETFROM:-0500
TZOFFSETTO:-0400
TZNAME:EDT
DTSTART:20230312T070000
END:DAYLIGHT
BEGIN:STANDARD
TZOFFSETFROM:-0400
TZOFFSETTO:-0500
TZNAME:EST
DTSTART:20231105T060000
END:STANDARD
BEGIN:DAYLIGHT
TZOFFSETFROM:-0500
TZOFFSETTO:-0400
TZNAME:EDT
DTSTART:20240310T070000
END:DAYLIGHT
BEGIN:STANDARD
TZOFFSETFROM:-0400
TZOFFSETTO:-0500
TZNAME:EST
DTSTART:20241103T060000
END:STANDARD
BEGIN:DAYLIGHT
TZOFFSETFROM:-0500
TZOFFSETTO:-0400
TZNAME:EDT
DTSTART:20250309T070000
END:DAYLIGHT
BEGIN:STANDARD
TZOFFSETFROM:-0400
TZOFFSETTO:-0500
TZNAME:EST
DTSTART:20251102T060000
END:STANDARD
END:VTIMEZONE
BEGIN:VEVENT
DTSTART;TZID=America/New_York:20241229T140000
DTEND;TZID=America/New_York:20241229T170000
DTSTAMP:20260424T113328
CREATED:20240605T034207Z
LAST-MODIFIED:20241221T205508Z
UID:10001750-1735480800-1735491600@www.bahailv.org
SUMMARY:In person and Zoom Feast of Sharaf (Honor) hosted by Laura & Henry Lawrence.  Click here for details.
DESCRIPTION:Dear Friends\,\n \nHenry & Laura Lawrence warmly invite you to the Feast of Sharaf (Honor)\,  on Sunday\, December 29 starting at 2 p.m. \nTheir home address was directly emailed to the friends in the cluster.\nPhone: 610 573 0559.\n\nFor friends who are unable to attend in person\, a zoom link was emailed to the friends. \n 
URL:https://www.bahailv.org/event/feast-of-sharaf-honor-hosted-by-laura-henry-lawrence-click-here-for-details/
ATTACH;FMTTYPE=image/jpeg:https://www.bahailv.org/wp-content/uploads/2024/06/Feast-of-Sharaf-Honor.jpeg
END:VEVENT
END:VCALENDAR