BEGIN:VCALENDAR
VERSION:2.0
PRODID:-//Lehigh Valley Bahai - ECPv6.15.20//NONSGML v1.0//EN
CALSCALE:GREGORIAN
METHOD:PUBLISH
X-ORIGINAL-URL:https://www.bahailv.org
X-WR-CALDESC:Events for Lehigh Valley Bahai
REFRESH-INTERVAL;VALUE=DURATION:PT1H
X-Robots-Tag:noindex
X-PUBLISHED-TTL:PT1H
BEGIN:VTIMEZONE
TZID:America/New_York
BEGIN:DAYLIGHT
TZOFFSETFROM:-0500
TZOFFSETTO:-0400
TZNAME:EDT
DTSTART:20230312T070000
END:DAYLIGHT
BEGIN:STANDARD
TZOFFSETFROM:-0400
TZOFFSETTO:-0500
TZNAME:EST
DTSTART:20231105T060000
END:STANDARD
BEGIN:DAYLIGHT
TZOFFSETFROM:-0500
TZOFFSETTO:-0400
TZNAME:EDT
DTSTART:20240310T070000
END:DAYLIGHT
BEGIN:STANDARD
TZOFFSETFROM:-0400
TZOFFSETTO:-0500
TZNAME:EST
DTSTART:20241103T060000
END:STANDARD
BEGIN:DAYLIGHT
TZOFFSETFROM:-0500
TZOFFSETTO:-0400
TZNAME:EDT
DTSTART:20250309T070000
END:DAYLIGHT
BEGIN:STANDARD
TZOFFSETFROM:-0400
TZOFFSETTO:-0500
TZNAME:EST
DTSTART:20251102T060000
END:STANDARD
END:VTIMEZONE
BEGIN:VEVENT
DTSTART;TZID=America/New_York:20241210T180000
DTEND;TZID=America/New_York:20241210T213000
DTSTAMP:20260424T131317
CREATED:20240605T033918Z
LAST-MODIFIED:20241207T044228Z
UID:10001749-1733853600-1733866200@www.bahailv.org
SUMMARY:Feast of Masail (Questions) - hosted by Marjan & Edward Joe-Kamara.  Click here for details.
DESCRIPTION:Dear Friends\,\n \nIt is with deep sadness and sincere sympathy that Marjan Salehi & Edward Joe-Kamara would like to share with the friends in the community the news of the passing on 5th December of Marjan’s mother\, Moluk Makhmour of Isfahan\, Iran.  Moluk Khanum was a stalwart member of the Baha’i Faith\, and a dedicated school teacher.  She faced many challenges as a Baha’i in Iran\, however she continued to be strong and faithful as she raised her daughters as Baha’is.  Please remember Moluk Khanum in your prayers.\n \nIn honor and memory of Moluk Makhmour\, Marjan & Edward and their daughter Anisa\, would like to invite you to their home for dinner preceding the 19 Day Feast program. Dinner will be served at 6 p.m. and friends are requested to RSVP to Ruhi West at ruhiwest@gmail by Sunday\, December 8 to help the host in the coordination and preparation of the meal.\nThank you!\n \n*******************************************************************************************************\n\n\n\n\n\n\n\n\n\n\n\n\n\n \nDear Friends\,\n \nEdward Joe-Kamara & Marjan Salehi warmly welcome you to join them for the Feast of Masail on Tuesday\, December 10\, at 6 p.m. \n \nTheir home address was emailed to the friends directly.\n \nPhone:  609 358 2576.\n \nFor friends who are not able to attend the Feast in person\, you are welcome to join by Zoom. The link was emailed to the friends directly.\n\nWith kind regards\,\n \n\n\nwww.bahailv.org
URL:https://www.bahailv.org/event/feast-of-masail-questions-hosted-by-marjan-edward-joe-kamara-click-here-for-details/
ATTACH;FMTTYPE=image/jpeg:https://www.bahailv.org/wp-content/uploads/2024/06/Feast-of-Masail-Questions.jpeg
END:VEVENT
END:VCALENDAR