BEGIN:VCALENDAR
VERSION:2.0
PRODID:-//Lehigh Valley Bahai - ECPv6.15.20//NONSGML v1.0//EN
CALSCALE:GREGORIAN
METHOD:PUBLISH
X-WR-CALNAME:Lehigh Valley Bahai
X-ORIGINAL-URL:https://www.bahailv.org
X-WR-CALDESC:Events for Lehigh Valley Bahai
REFRESH-INTERVAL;VALUE=DURATION:PT1H
X-Robots-Tag:noindex
X-PUBLISHED-TTL:PT1H
BEGIN:VTIMEZONE
TZID:America/New_York
BEGIN:DAYLIGHT
TZOFFSETFROM:-0500
TZOFFSETTO:-0400
TZNAME:EDT
DTSTART:20230312T070000
END:DAYLIGHT
BEGIN:STANDARD
TZOFFSETFROM:-0400
TZOFFSETTO:-0500
TZNAME:EST
DTSTART:20231105T060000
END:STANDARD
BEGIN:DAYLIGHT
TZOFFSETFROM:-0500
TZOFFSETTO:-0400
TZNAME:EDT
DTSTART:20240310T070000
END:DAYLIGHT
BEGIN:STANDARD
TZOFFSETFROM:-0400
TZOFFSETTO:-0500
TZNAME:EST
DTSTART:20241103T060000
END:STANDARD
BEGIN:DAYLIGHT
TZOFFSETFROM:-0500
TZOFFSETTO:-0400
TZNAME:EDT
DTSTART:20250309T070000
END:DAYLIGHT
BEGIN:STANDARD
TZOFFSETFROM:-0400
TZOFFSETTO:-0500
TZNAME:EST
DTSTART:20251102T060000
END:STANDARD
END:VTIMEZONE
BEGIN:VEVENT
DTSTART;TZID=America/New_York:20241102T150000
DTEND;TZID=America/New_York:20241102T180000
DTSTAMP:20260424T143515
CREATED:20231118T195950Z
LAST-MODIFIED:20241026T182946Z
UID:10001469-1730559600-1730570400@www.bahailv.org
SUMMARY:Observance for the Birth of Bahá’u’lláh. Hosted by Shirin & Koroush Khalighi at Little Pond.  Click here for details.
DESCRIPTION:Birth of Bahá’u’lláh observance to be held at  Little Pond and will be hosted by the Khalighi family.   \nYou are lovingly invited to join the Lehigh Valley Baha’i Community for the celebration of the \n \nBirth of the Baha’u’llah \non \nSaturday\, November 2\, 2024 \nfrom 3-6 in the afternoon  \nat  \nLittle Pond \n92 South Dixie Road \nNazareth\, PA. \n  \n“Join in accord with all the souls through the light on oneness…”  \n-Abdul-Baha \n  \n \n  \nJoin us for a refreshing and peaceful celebration \nwhich will begin with a pot-luck early dinner/late lunch. \nKindly bring a main/side dish to share as you are able \nas  \ndesserts and drinks will be provided \n  \nBring a friend\, bring yourself.  \nLeave with feelings of connection\, purpose\, and joy!
URL:https://www.bahailv.org/event/observance-for-the-birth-of-bahaullah-host-tbd/
ATTACH;FMTTYPE=image/jpeg:https://www.bahailv.org/wp-content/uploads/2023/11/Birth-of-Bahaullah.jpeg
END:VEVENT
END:VCALENDAR