BEGIN:VCALENDAR
VERSION:2.0
PRODID:-//Lehigh Valley Bahai - ECPv6.15.20//NONSGML v1.0//EN
CALSCALE:GREGORIAN
METHOD:PUBLISH
X-ORIGINAL-URL:https://www.bahailv.org
X-WR-CALDESC:Events for Lehigh Valley Bahai
REFRESH-INTERVAL;VALUE=DURATION:PT1H
X-Robots-Tag:noindex
X-PUBLISHED-TTL:PT1H
BEGIN:VTIMEZONE
TZID:America/New_York
BEGIN:DAYLIGHT
TZOFFSETFROM:-0500
TZOFFSETTO:-0400
TZNAME:EDT
DTSTART:20230312T070000
END:DAYLIGHT
BEGIN:STANDARD
TZOFFSETFROM:-0400
TZOFFSETTO:-0500
TZNAME:EST
DTSTART:20231105T060000
END:STANDARD
BEGIN:DAYLIGHT
TZOFFSETFROM:-0500
TZOFFSETTO:-0400
TZNAME:EDT
DTSTART:20240310T070000
END:DAYLIGHT
BEGIN:STANDARD
TZOFFSETFROM:-0400
TZOFFSETTO:-0500
TZNAME:EST
DTSTART:20241103T060000
END:STANDARD
BEGIN:DAYLIGHT
TZOFFSETFROM:-0500
TZOFFSETTO:-0400
TZNAME:EDT
DTSTART:20250309T070000
END:DAYLIGHT
BEGIN:STANDARD
TZOFFSETFROM:-0400
TZOFFSETTO:-0500
TZNAME:EST
DTSTART:20251102T060000
END:STANDARD
END:VTIMEZONE
BEGIN:VEVENT
DTSTART;TZID=America/New_York:20241027T110000
DTEND;TZID=America/New_York:20241027T140000
DTSTAMP:20260424T143538
CREATED:20240419T223734Z
LAST-MODIFIED:20241011T051013Z
UID:10001655-1730026800-1730037600@www.bahailv.org
SUMMARY:Allentown/Reading Cluster Gathering Sunday October 27\,  11:00am - 2:00pm. at the Heritage Village. Click here for details.
DESCRIPTION:Dear Friends\, \nYou are warmly invited to our next Cluster Reflection Gathering on Sunday\, October 27\,  11am – 1 pm.  It will be held at Heritage Village homes where the Bowerman & Padfield families reside. \n\n\nA)Our Next Family Friendly Cluster Meeting: Inspired by the desire to build on the momentum of the many aspects of work with and for youth in our Cluster\, those present at the Cluster meeting came up with a recommendation (approved by all members of the ATC present)\, that our next Cluster meeting be designed as a Family Friendly Gathering to include all our children and youth. \n\nYou’re invited to a Family Fun Baha’i Reflection Gathering!!\n\n\n          \nTime: Sunday Oct. 27\,2024\, 11am to 2pm \n \nPlace: Heritage Village homes of the Bowermans and Padfields .\n\nFor Children and Jr Youth : games and crafts \nFor Youth and Adults: Reflection\, Planning \nFor All: Lunch\, Scavenger Hunt\, Walking trails\, Outdoor activities. \n\nSponsored by the Area Teaching Committee of the Allentown/Reading Cluster – \nFor more information call:  610-704-0026 (Roseann Bowerman) \n\n \n 
URL:https://www.bahailv.org/event/allentown-reading-cluster-reflection-gathering-on-saturday-october-26-11-am-to-1-pm/
ATTACH;FMTTYPE=image/jpeg:https://www.bahailv.org/wp-content/uploads/2021/06/Cluster-Reflection-meeting..jpg
END:VEVENT
BEGIN:VEVENT
DTSTART;TZID=America/New_York:20241027T193000
DTEND;TZID=America/New_York:20241027T203000
DTSTAMP:20260424T143538
CREATED:20241012T165746Z
LAST-MODIFIED:20241012T165746Z
UID:10002103-1730057400-1730061000@www.bahailv.org
SUMMARY:Sunday night Healing Devotions hosted by Moira & Randy Padfield.  Click here for details.
DESCRIPTION:Dear friends\,  \nThe Padfield family are hosting a devotional via Zoom Sunday evening at 7:30pm and each Sunday thereafter.  Link will be emailed to the friends directly.  We will be saying prayers for Richard Beane (our son-in-law in Belize) and Shirin’s sister as well as others in the community in need of healing prayers. We will also offer healing prayers for our community\, country and the world.   \nWe would be happy to have you join us and would welcome anything you would like to contribute in the form of prayers\, Writings\, or poems.   \nWe hope to see you on Sunday night.  Zoom link was emailed to the friends directly. \nWith loving regards\, \nRandy & Moira
URL:https://www.bahailv.org/event/sunday-night-healing-devotions-hosted-by-moira-randy-padfield-click-here-for-details-2/2024-10-27/
ATTACH;FMTTYPE=image/jpeg:https://www.bahailv.org/wp-content/uploads/2020/05/devotions.jpg
END:VEVENT
END:VCALENDAR