BEGIN:VCALENDAR
VERSION:2.0
PRODID:-//Lehigh Valley Bahai - ECPv6.15.20//NONSGML v1.0//EN
CALSCALE:GREGORIAN
METHOD:PUBLISH
X-ORIGINAL-URL:https://www.bahailv.org
X-WR-CALDESC:Events for Lehigh Valley Bahai
REFRESH-INTERVAL;VALUE=DURATION:PT1H
X-Robots-Tag:noindex
X-PUBLISHED-TTL:PT1H
BEGIN:VTIMEZONE
TZID:America/New_York
BEGIN:DAYLIGHT
TZOFFSETFROM:-0500
TZOFFSETTO:-0400
TZNAME:EDT
DTSTART:20230312T070000
END:DAYLIGHT
BEGIN:STANDARD
TZOFFSETFROM:-0400
TZOFFSETTO:-0500
TZNAME:EST
DTSTART:20231105T060000
END:STANDARD
BEGIN:DAYLIGHT
TZOFFSETFROM:-0500
TZOFFSETTO:-0400
TZNAME:EDT
DTSTART:20240310T070000
END:DAYLIGHT
BEGIN:STANDARD
TZOFFSETFROM:-0400
TZOFFSETTO:-0500
TZNAME:EST
DTSTART:20241103T060000
END:STANDARD
BEGIN:DAYLIGHT
TZOFFSETFROM:-0500
TZOFFSETTO:-0400
TZNAME:EDT
DTSTART:20250309T070000
END:DAYLIGHT
BEGIN:STANDARD
TZOFFSETFROM:-0400
TZOFFSETTO:-0500
TZNAME:EST
DTSTART:20251102T060000
END:STANDARD
END:VTIMEZONE
BEGIN:VEVENT
DTSTART;TZID=America/New_York:20241013T100000
DTEND;TZID=America/New_York:20241013T120000
DTSTAMP:20260424T155358
CREATED:20240903T234607Z
LAST-MODIFIED:20241203T033839Z
UID:10001925-1728813600-1728820800@www.bahailv.org
SUMMARY:Bahai Learning Center in Allentown (Lehigh Valley Center for Sight\, 1739 Fairmont Street\, Allentown 18104). Click here for details.
DESCRIPTION:Dear loved Friends\,\n \nWe are very excited to announce the start of another season of learning\, devotions\, and fellowship at the Bahá’í Learning Center in Allentown ( Lehigh Valley Center for Sight\, 1739 Fairmont Street\, Allentown 18104 ) every other Sunday 10 AM to 12 PM starting on September 29. There will be children and adult classes – All are welcome and feel free to bring family and friends. You are welcome to attend all or come to as many sessions that you are able.  A Zoom link will be provided for friends who wish to join online.\nYou can find the schedule on the Lehigh Valley Bahá’í Community Calendar: www.bahailv.org. Please contact Houman Ahdieh for further information and directions; houmanahdieh@yahoo.com 610-737-3938. \n \nWe very much look forward to seeing you soon!\n\n \nWith kind regards\,\n \nHouman Ahdieh\nBahá’í Learning Center Planning Committee
URL:https://www.bahailv.org/event/bahai-learning-center-8/2024-10-13/
ATTACH;FMTTYPE=image/jpeg:https://www.bahailv.org/wp-content/uploads/2024/09/Bahai-Sunday-School.jpeg
END:VEVENT
BEGIN:VEVENT
DTSTART;TZID=America/New_York:20241013T193000
DTEND;TZID=America/New_York:20241013T203000
DTSTAMP:20260424T155358
CREATED:20241012T165746Z
LAST-MODIFIED:20241012T165746Z
UID:10002101-1728847800-1728851400@www.bahailv.org
SUMMARY:Sunday night Healing Devotions hosted by Moira & Randy Padfield.  Click here for details.
DESCRIPTION:Dear friends\,  \nThe Padfield family are hosting a devotional via Zoom Sunday evening at 7:30pm and each Sunday thereafter.  Link will be emailed to the friends directly.  We will be saying prayers for Richard Beane (our son-in-law in Belize) and Shirin’s sister as well as others in the community in need of healing prayers. We will also offer healing prayers for our community\, country and the world.   \nWe would be happy to have you join us and would welcome anything you would like to contribute in the form of prayers\, Writings\, or poems.   \nWe hope to see you on Sunday night.  Zoom link was emailed to the friends directly. \nWith loving regards\, \nRandy & Moira
URL:https://www.bahailv.org/event/sunday-night-healing-devotions-hosted-by-moira-randy-padfield-click-here-for-details-2/2024-10-13/
ATTACH;FMTTYPE=image/jpeg:https://www.bahailv.org/wp-content/uploads/2020/05/devotions.jpg
END:VEVENT
END:VCALENDAR