BEGIN:VCALENDAR
VERSION:2.0
PRODID:-//Lehigh Valley Bahai - ECPv6.15.20//NONSGML v1.0//EN
CALSCALE:GREGORIAN
METHOD:PUBLISH
X-ORIGINAL-URL:https://www.bahailv.org
X-WR-CALDESC:Events for Lehigh Valley Bahai
REFRESH-INTERVAL;VALUE=DURATION:PT1H
X-Robots-Tag:noindex
X-PUBLISHED-TTL:PT1H
BEGIN:VTIMEZONE
TZID:America/New_York
BEGIN:DAYLIGHT
TZOFFSETFROM:-0500
TZOFFSETTO:-0400
TZNAME:EDT
DTSTART:20230312T070000
END:DAYLIGHT
BEGIN:STANDARD
TZOFFSETFROM:-0400
TZOFFSETTO:-0500
TZNAME:EST
DTSTART:20231105T060000
END:STANDARD
BEGIN:DAYLIGHT
TZOFFSETFROM:-0500
TZOFFSETTO:-0400
TZNAME:EDT
DTSTART:20240310T070000
END:DAYLIGHT
BEGIN:STANDARD
TZOFFSETFROM:-0400
TZOFFSETTO:-0500
TZNAME:EST
DTSTART:20241103T060000
END:STANDARD
BEGIN:DAYLIGHT
TZOFFSETFROM:-0500
TZOFFSETTO:-0400
TZNAME:EDT
DTSTART:20250309T070000
END:DAYLIGHT
BEGIN:STANDARD
TZOFFSETFROM:-0400
TZOFFSETTO:-0500
TZNAME:EST
DTSTART:20251102T060000
END:STANDARD
END:VTIMEZONE
BEGIN:VEVENT
DTSTART;TZID=America/New_York:20241006T093000
DTEND;TZID=America/New_York:20241006T143000
DTSTAMP:20260424T155359
CREATED:20240817T235352Z
LAST-MODIFIED:20240817T235352Z
UID:10001916-1728207000-1728225000@www.bahailv.org
SUMMARY:Unit 015 Convention - Sunday\, October 6\, 9:30 AM (registration) & 10:30 AM to 2:30 PM for Convention
DESCRIPTION:Save the Date!! \n\nWHAT: next Unit 015 Convention in Eastern PA\n\nWHEN: Sunday\, October 6- 9:30 AM (registration) & 10:30 AM to 2:30 PM for Convention\n\nWHERE: Camp Curtin Academy\n\n2900 N. Sixth Street\n                Harrisburg\, PA 17110\n\nHOST: Spiritual Assembly of Baha’is of Harrisburg\, PA\n\n“Unit Conventions provide a venue to deepen the understanding of the friends about the unique nature of Baha’i elections\, \nand wholehearted participation in the election of delegates to the National Convention affords an opportunity for every \nresponsible\, conscientious believer to develop deeper bonds of love and enhance a spiritual connection with his or her \nNational Spiritual Assembly.”\n\nWritten on behalf of the Universal House of Justice to all National Spiritual Assemblies\, August 4\, 2016\n \nPurposes of the Unit Convention: \n \n\n\nBaha’is in good-standing ages 18 and above will vote for one delegate (age 21 and above) to represent Unit 015\nat the National Baha’i Convention in Wilmette\, IL to elect the next National Spiritual Assembly of the United States\nin April\, 2025.\n\n\n \n\n\nSecondly\, ideas will be shared by the Convention attendees to offer ideas as suggestions or recommendations to the\ncurrent National Spiritual Assembly to consider.\n\n\n\n\nFurther information will be sent to you with your election ballot from the National Spiritual Assembly.\n\nA letter with vital information will be sent to you from this Spiritual Assembly in the next two weeks.\n\nPlease RSVP once you receive the letter from the Spiritual Assembly of Harrisburg. We look forward to seeing you at the\nUnit Convention in Harrisburg on Sunday\, October 6!\n\nWith warm Baha’i greetings\,\nCarol M. Zandieh\,\nSecretary\,\nSpiritual Assembly of Baha’is of Harrisburg
URL:https://www.bahailv.org/event/unit-015-convention-sunday-october-6-930-am-registration-1030-am-to-230-pm-for-convention/
ATTACH;FMTTYPE=image/jpeg:https://www.bahailv.org/wp-content/uploads/2024/08/Unit-Convention.jpeg
END:VEVENT
END:VCALENDAR