BEGIN:VCALENDAR
VERSION:2.0
PRODID:-//Lehigh Valley Bahai - ECPv6.15.20//NONSGML v1.0//EN
CALSCALE:GREGORIAN
METHOD:PUBLISH
X-ORIGINAL-URL:https://www.bahailv.org
X-WR-CALDESC:Events for Lehigh Valley Bahai
REFRESH-INTERVAL;VALUE=DURATION:PT1H
X-Robots-Tag:noindex
X-PUBLISHED-TTL:PT1H
BEGIN:VTIMEZONE
TZID:America/New_York
BEGIN:DAYLIGHT
TZOFFSETFROM:-0500
TZOFFSETTO:-0400
TZNAME:EDT
DTSTART:20230312T070000
END:DAYLIGHT
BEGIN:STANDARD
TZOFFSETFROM:-0400
TZOFFSETTO:-0500
TZNAME:EST
DTSTART:20231105T060000
END:STANDARD
BEGIN:DAYLIGHT
TZOFFSETFROM:-0500
TZOFFSETTO:-0400
TZNAME:EDT
DTSTART:20240310T070000
END:DAYLIGHT
BEGIN:STANDARD
TZOFFSETFROM:-0400
TZOFFSETTO:-0500
TZNAME:EST
DTSTART:20241103T060000
END:STANDARD
BEGIN:DAYLIGHT
TZOFFSETFROM:-0500
TZOFFSETTO:-0400
TZNAME:EDT
DTSTART:20250309T070000
END:DAYLIGHT
BEGIN:STANDARD
TZOFFSETFROM:-0400
TZOFFSETTO:-0500
TZNAME:EST
DTSTART:20251102T060000
END:STANDARD
END:VTIMEZONE
BEGIN:VEVENT
DTSTART;TZID=America/New_York:20240925T190000
DTEND;TZID=America/New_York:20240925T213000
DTSTAMP:20260424T171304
CREATED:20240605T031956Z
LAST-MODIFIED:20240919T012617Z
UID:10001745-1727290800-1727299800@www.bahailv.org
SUMMARY:Feast of Mashiyyat (Will) - hosted by Phil & Adriana Dunmire.  Click here for details.
DESCRIPTION:Dear Friends\,\n \nPhil & Adriana Dunmire invite you to the Feast of Mashiyyat (Will)\,  which they are hosting at their home on Wednesday\, September 25 at 7 p.m.\n\nPhone : 856 625 1652.\n \nFor friends who are unable to attend in person\, you are welcome to join via Zoom.  The link was emailed to the friends directly.\n \nKind regards\,\n \nRuhi West
URL:https://www.bahailv.org/event/feast-of-mashiyyat-will-hosted-by-phil-adriana-dunmire-click-here-for-details/
ATTACH;FMTTYPE=image/jpeg:https://www.bahailv.org/wp-content/uploads/2024/06/Feast-of-Mashiyyat-Will.jpeg
END:VEVENT
END:VCALENDAR