BEGIN:VCALENDAR
VERSION:2.0
PRODID:-//Lehigh Valley Bahai - ECPv6.15.20//NONSGML v1.0//EN
CALSCALE:GREGORIAN
METHOD:PUBLISH
X-WR-CALNAME:Lehigh Valley Bahai
X-ORIGINAL-URL:https://www.bahailv.org
X-WR-CALDESC:Events for Lehigh Valley Bahai
REFRESH-INTERVAL;VALUE=DURATION:PT1H
X-Robots-Tag:noindex
X-PUBLISHED-TTL:PT1H
BEGIN:VTIMEZONE
TZID:America/New_York
BEGIN:DAYLIGHT
TZOFFSETFROM:-0500
TZOFFSETTO:-0400
TZNAME:EDT
DTSTART:20230312T070000
END:DAYLIGHT
BEGIN:STANDARD
TZOFFSETFROM:-0400
TZOFFSETTO:-0500
TZNAME:EST
DTSTART:20231105T060000
END:STANDARD
BEGIN:DAYLIGHT
TZOFFSETFROM:-0500
TZOFFSETTO:-0400
TZNAME:EDT
DTSTART:20240310T070000
END:DAYLIGHT
BEGIN:STANDARD
TZOFFSETFROM:-0400
TZOFFSETTO:-0500
TZNAME:EST
DTSTART:20241103T060000
END:STANDARD
BEGIN:DAYLIGHT
TZOFFSETFROM:-0500
TZOFFSETTO:-0400
TZNAME:EDT
DTSTART:20250309T070000
END:DAYLIGHT
BEGIN:STANDARD
TZOFFSETFROM:-0400
TZOFFSETTO:-0500
TZNAME:EST
DTSTART:20251102T060000
END:STANDARD
END:VTIMEZONE
BEGIN:VEVENT
DTSTART;TZID=America/New_York:20240730T180000
DTEND;TZID=America/New_York:20240730T210000
DTSTAMP:20260424T184038
CREATED:20230711T231659Z
LAST-MODIFIED:20240724T195450Z
UID:10001408-1722362400-1722373200@www.bahailv.org
SUMMARY:In person Feast of Kamal (Perfection) - Hosted by Lori & Houman Ahdieh at their home.  Click here for details.
DESCRIPTION:Host – Houman & Lori Ahdieh – 610 737 3938. \n\nDear friends\, \n\n \nLori and Houman Ahdieh would like to invite you to the Feast of Kamal ( Perfection )\, on Tuesday July 30th at 6 PM. This will be an in person Feast and a dinner gathering at their house. Please RSVP to Houman houmanahdieh@yahoo.com at your convenience. Thank you all! The address was emailed to the friends directly.\n \nWarmest Bahá’í Regards\,\nLori and Houman Ahdieh\n \n“O God! Dispel all those elements which are the cause of discord\, and prepare for us all those things which are the cause of unity and accord!”
URL:https://www.bahailv.org/event/feast-of-kamal-perfection-host-tbd-click-here-for-details-2/
ATTACH;FMTTYPE=image/jpeg:https://www.bahailv.org/wp-content/uploads/2023/07/Feast-of-Kamal-Perfection.jpeg
END:VEVENT
END:VCALENDAR