BEGIN:VCALENDAR
VERSION:2.0
PRODID:-//Lehigh Valley Bahai - ECPv6.15.20//NONSGML v1.0//EN
CALSCALE:GREGORIAN
METHOD:PUBLISH
X-ORIGINAL-URL:https://www.bahailv.org
X-WR-CALDESC:Events for Lehigh Valley Bahai
REFRESH-INTERVAL;VALUE=DURATION:PT1H
X-Robots-Tag:noindex
X-PUBLISHED-TTL:PT1H
BEGIN:VTIMEZONE
TZID:America/New_York
BEGIN:DAYLIGHT
TZOFFSETFROM:-0500
TZOFFSETTO:-0400
TZNAME:EDT
DTSTART:20230312T070000
END:DAYLIGHT
BEGIN:STANDARD
TZOFFSETFROM:-0400
TZOFFSETTO:-0500
TZNAME:EST
DTSTART:20231105T060000
END:STANDARD
BEGIN:DAYLIGHT
TZOFFSETFROM:-0500
TZOFFSETTO:-0400
TZNAME:EDT
DTSTART:20240310T070000
END:DAYLIGHT
BEGIN:STANDARD
TZOFFSETFROM:-0400
TZOFFSETTO:-0500
TZNAME:EST
DTSTART:20241103T060000
END:STANDARD
BEGIN:DAYLIGHT
TZOFFSETFROM:-0500
TZOFFSETTO:-0400
TZNAME:EDT
DTSTART:20250309T070000
END:DAYLIGHT
BEGIN:STANDARD
TZOFFSETFROM:-0400
TZOFFSETTO:-0500
TZNAME:EST
DTSTART:20251102T060000
END:STANDARD
END:VTIMEZONE
BEGIN:VEVENT
DTSTART;TZID=America/New_York:20240629T120000
DTEND;TZID=America/New_York:20240629T180000
DTSTAMP:20260424T211608
CREATED:20240330T155146Z
LAST-MODIFIED:20240330T155211Z
UID:10001647-1719662400-1719684000@www.bahailv.org
SUMMARY:112th Annual Souvenir Unity Feast – Saturday\, June 29th\, 2024.  12:00 PM to 6:00 PM.  Click here for details.
DESCRIPTION:112th Annual Souvenir Unity Feast\n\nSaturday\, June 29\, 2024\n12:00 PM  6:00 PM\n\n\nWilhelm Baha’i Properties 126 Evergreen Place\, Teaneck\, NJ\, 07666.\n\nThe Wilhelm Bahá’í Properties are one of the oldest and most unique Bahá’í sites in the United States.  Built by eminent American Bahá’í Roy Wilhelm\, the grounds were blessed by the presence of `Abdu’l-Bahá in 1912.  After more than 50 years of imprisonment and exile with his father Bahá’u’lláh\, the Founder of the Bahá’í Faith\, `Abdu’l-Bahá journeyed to Europe and America where he shared and exemplified the Bahá’í teachings.   \nFor the last 111 years\, Bahá’ís and local community members have annually commemorated `Abdu’l-Bahá’s 1912 visit to the Wilhelm Properties on the last Saturday of June. Next year’s 112th Souvenir Unity Feast will be held on Saturday\, June 29th\, 2024. The day begins at noon and the program will be at 3 pm.
URL:https://www.bahailv.org/event/112th-annual-souvenir-unity-feast-saturday-june-29th-2024-1200pm-to-600-pm-click-here-for-details/
ATTACH;FMTTYPE=image/jpeg:https://www.bahailv.org/wp-content/uploads/2024/03/Wilhelm.jpeg
END:VEVENT
END:VCALENDAR