BEGIN:VCALENDAR
VERSION:2.0
PRODID:-//Lehigh Valley Bahai - ECPv6.15.20//NONSGML v1.0//EN
CALSCALE:GREGORIAN
METHOD:PUBLISH
X-ORIGINAL-URL:https://www.bahailv.org
X-WR-CALDESC:Events for Lehigh Valley Bahai
REFRESH-INTERVAL;VALUE=DURATION:PT1H
X-Robots-Tag:noindex
X-PUBLISHED-TTL:PT1H
BEGIN:VTIMEZONE
TZID:America/New_York
BEGIN:DAYLIGHT
TZOFFSETFROM:-0500
TZOFFSETTO:-0400
TZNAME:EDT
DTSTART:20230312T070000
END:DAYLIGHT
BEGIN:STANDARD
TZOFFSETFROM:-0400
TZOFFSETTO:-0500
TZNAME:EST
DTSTART:20231105T060000
END:STANDARD
BEGIN:DAYLIGHT
TZOFFSETFROM:-0500
TZOFFSETTO:-0400
TZNAME:EDT
DTSTART:20240310T070000
END:DAYLIGHT
BEGIN:STANDARD
TZOFFSETFROM:-0400
TZOFFSETTO:-0500
TZNAME:EST
DTSTART:20241103T060000
END:STANDARD
BEGIN:DAYLIGHT
TZOFFSETFROM:-0500
TZOFFSETTO:-0400
TZNAME:EDT
DTSTART:20250309T070000
END:DAYLIGHT
BEGIN:STANDARD
TZOFFSETFROM:-0400
TZOFFSETTO:-0500
TZNAME:EST
DTSTART:20251102T060000
END:STANDARD
END:VTIMEZONE
BEGIN:VEVENT
DTSTART;TZID=America/New_York:20240602T060000
DTEND;TZID=America/New_York:20240602T130000
DTSTAMP:20260424T211655
CREATED:20240516T210025Z
LAST-MODIFIED:20240516T210025Z
UID:10001743-1717308000-1717333200@www.bahailv.org
SUMMARY:Youth Retreat at Little Pond facilitated by Suzan Gould - Saturday June 1\, 11 am - Sunday June 2\, 1 pm
DESCRIPTION:        Youth Retreat – Saturday June 1\, 11am – Sunday June 2\, 1pm at Little Pond: Study Sessions are focused on Unit 3 – “Serving as an Animator”. We are building towards these youth helping to facilitate a Retreat for Junior Youth later in the summer. Baha’i youth attending June 1-2 are already planning to invite friends and we will also personally invite any youth that attended last year’s Little Pond Retreats but are not currently part of the Zoom Study. The Retreat includes meals\, a sleepover and arts/nature activities related to the study sessions. We will be sending the registration form out to the whole Cluster later today in case you have any other youth who would like to attend. \nHere is the link to the Registration Form for our Youth Retreat at Little Pond facilitated by Suzan Gould – Saturday June 1\, 11am – Sunday June 2\, 1pm.\n\nYour Registration will go directly to Suzan Gould and there is a place for you to check so that the response will also go to Bridget George – bridgetgeorge9@gmail.com.\n\n\nhttps://forms.gle/sMkrfNMTQD8VUwRR7\n\nThe Retreat will include study from the Ruhi Institute Book 5 – Unit 3 – “Serving as an Animator.”\n\nSections focusing on Breezes of Confirmation\, Glimmerings of Hope\, and Walking the Straight Path” will be accompanied by arts and nature activities. \n\n\nA sleepover at Little Pond and meals are included in the Retreat. More details are included in the Registration Form\, and you can also contact Bridget George 610-570-1336\, bridgetgeorge9@gmail.com\, or Bill George 610-570-1335\, litlpond9@gmail.com\, if you have questions.\n\nRegistration is required in advance for those not already registered. We look forward to welcoming all youth who would like to join us for this fun and spiritually uplifting weekend!\n\n\nBill and Bridget Geroge and Suzan Gould
URL:https://www.bahailv.org/event/youth-retreat-at-little-pond-facilitated-by-suzan-gould-saturday-june-1-11-am-sunday-june-2-1-pm/
END:VEVENT
BEGIN:VEVENT
DTSTART;TZID=America/New_York:20240602T193000
DTEND;TZID=America/New_York:20240602T193000
DTSTAMP:20260424T211655
CREATED:20230625T020626Z
LAST-MODIFIED:20230625T020828Z
UID:10001353-1717356600-1717356600@www.bahailv.org
SUMMARY:Sunday night Zoom Healing Devotions hosted by Moira & Randy Padfield. Click here for details.
DESCRIPTION:Dear friends\,  \nThe Padfield family are hosting a devotional via Zoom Sunday evening at 7:30pm and each Sunday thereafter.  Link will be emailed to the friends directly.  We will be saying prayers for Richard Beane (our son-in-law in Belize) and Shirin’s sister as well as others in the community in need of healing prayers. We will also offer healing prayers for our community\, country and the world.   \nWe would be happy to have you join us and would welcome anything you would like to contribute in the form of prayers\, Writings\, or poems.   \nWe hope to see you on Sunday night.  Zoom link was emailed to the friends directly. \nWith loving regards\,
URL:https://www.bahailv.org/event/4523/2024-06-02/
ATTACH;FMTTYPE=image/jpeg:https://www.bahailv.org/wp-content/uploads/2020/05/devotions.jpg
END:VEVENT
END:VCALENDAR