BEGIN:VCALENDAR
VERSION:2.0
PRODID:-//Lehigh Valley Bahai - ECPv6.15.20//NONSGML v1.0//EN
CALSCALE:GREGORIAN
METHOD:PUBLISH
X-WR-CALNAME:Lehigh Valley Bahai
X-ORIGINAL-URL:https://www.bahailv.org
X-WR-CALDESC:Events for Lehigh Valley Bahai
REFRESH-INTERVAL;VALUE=DURATION:PT1H
X-Robots-Tag:noindex
X-PUBLISHED-TTL:PT1H
BEGIN:VTIMEZONE
TZID:America/New_York
BEGIN:DAYLIGHT
TZOFFSETFROM:-0500
TZOFFSETTO:-0400
TZNAME:EDT
DTSTART:20230312T070000
END:DAYLIGHT
BEGIN:STANDARD
TZOFFSETFROM:-0400
TZOFFSETTO:-0500
TZNAME:EST
DTSTART:20231105T060000
END:STANDARD
BEGIN:DAYLIGHT
TZOFFSETFROM:-0500
TZOFFSETTO:-0400
TZNAME:EDT
DTSTART:20240310T070000
END:DAYLIGHT
BEGIN:STANDARD
TZOFFSETFROM:-0400
TZOFFSETTO:-0500
TZNAME:EST
DTSTART:20241103T060000
END:STANDARD
BEGIN:DAYLIGHT
TZOFFSETFROM:-0500
TZOFFSETTO:-0400
TZNAME:EDT
DTSTART:20250309T070000
END:DAYLIGHT
BEGIN:STANDARD
TZOFFSETFROM:-0400
TZOFFSETTO:-0500
TZNAME:EST
DTSTART:20251102T060000
END:STANDARD
END:VTIMEZONE
BEGIN:VEVENT
DTSTART;TZID=America/New_York:20240504T110000
DTEND;TZID=America/New_York:20240504T130000
DTSTAMP:20260424T225445
CREATED:20240419T222754Z
LAST-MODIFIED:20240419T225307Z
UID:10001653-1714820400-1714827600@www.bahailv.org
SUMMARY:Allentown/Reading Cluster Reflection Gathering on Saturday May 4\, 11am - 1pm. Click here for details.
DESCRIPTION:Dear Friends\, \nYou are warmly invited to our next Cluster Reflection Gathering on Saturday May 4\, 11am – 1pm. \nAna and Ivan Almonte have kindly reserved the party room at their apartment building 1616 Liberty St. Allentown PA 18102. \n \nWe are happy to say that we are almost back on track with the dates for the Growth Cycles and Reflection Gatherings requested by our Regional Council.\nIn order to stay on track going forward\, we have already decided on the dates for the next three Reflection Gatherings. So here is your Save the Date Calendar!!\n \nSaturday May 4 2024 11am – 1pm\nSunday July 21\, 2024 11am – 1pm\nSaturday October 26\, 2024 11am – 1pm\nSaturday January 18 2025 11am – 1pm\n \nWe are excited to be together on May 4 to reflect on the many wonderful activities that have been taking place in our Cluster in the last Cycle.\nWe also hope that the Ridvan letter from the Universal House of Justice will inspire our beloved Baha’i Community to redouble our efforts for unity and community building in the upcoming Cycle.\n\nWe need all our thoughts\, ideas\, and enthusiasm to make this happen\, so we look forward with joy to seeing as many of you as possible on Saturday May 4.\n \nWith loving Baha’i Greetings from the Area Teaching Committee\n \nHouman Ahdieh\, Anne Bivans\, Bridget George\, Laura Lawrence and Shirin Khalighi
URL:https://www.bahailv.org/event/allentown-reading-cluster-reflection-gathering-on-saturday-may-4-11am-1pm/
ATTACH;FMTTYPE=image/jpeg:https://www.bahailv.org/wp-content/uploads/2021/06/Cluster-Reflection-meeting..jpg
END:VEVENT
END:VCALENDAR