BEGIN:VCALENDAR
VERSION:2.0
PRODID:-//Lehigh Valley Bahai - ECPv6.15.20//NONSGML v1.0//EN
CALSCALE:GREGORIAN
METHOD:PUBLISH
X-WR-CALNAME:Lehigh Valley Bahai
X-ORIGINAL-URL:https://www.bahailv.org
X-WR-CALDESC:Events for Lehigh Valley Bahai
REFRESH-INTERVAL;VALUE=DURATION:PT1H
X-Robots-Tag:noindex
X-PUBLISHED-TTL:PT1H
BEGIN:VTIMEZONE
TZID:America/New_York
BEGIN:DAYLIGHT
TZOFFSETFROM:-0500
TZOFFSETTO:-0400
TZNAME:EDT
DTSTART:20220313T070000
END:DAYLIGHT
BEGIN:STANDARD
TZOFFSETFROM:-0400
TZOFFSETTO:-0500
TZNAME:EST
DTSTART:20221106T060000
END:STANDARD
BEGIN:DAYLIGHT
TZOFFSETFROM:-0500
TZOFFSETTO:-0400
TZNAME:EDT
DTSTART:20230312T070000
END:DAYLIGHT
BEGIN:STANDARD
TZOFFSETFROM:-0400
TZOFFSETTO:-0500
TZNAME:EST
DTSTART:20231105T060000
END:STANDARD
BEGIN:DAYLIGHT
TZOFFSETFROM:-0500
TZOFFSETTO:-0400
TZNAME:EDT
DTSTART:20240310T070000
END:DAYLIGHT
BEGIN:STANDARD
TZOFFSETFROM:-0400
TZOFFSETTO:-0500
TZNAME:EST
DTSTART:20241103T060000
END:STANDARD
END:VTIMEZONE
BEGIN:VEVENT
DTSTART;TZID=America/New_York:20231125T190000
DTEND;TZID=America/New_York:20231125T190000
DTSTAMP:20260425T083002
CREATED:20230630T163602Z
LAST-MODIFIED:20231102T044603Z
UID:10001364-1700938800-1700938800@www.bahailv.org
SUMMARY:In person Observation for the Day of the Covenant. Hosted by Moira & Randy Padfield.  Click here for details.
DESCRIPTION:Hosted by Moira & Randy Padfield. \nDay of the Covenant* commemorating Bahá’u’lláh’s appointment of His son\, ‘Abdu’l-Bahá\, as the One to whom His followers should turn after His passing. \nPlease join the Lehigh Valley Bahai Community as we commemorate  \nthe  \nDay of the Covenant \n  \nTo be observed on Saturady\, November 25 \nBeginning at 7PM  \nAt the home of  \nRandy and Moira Padfield – 610 703 2874. \n“The first condition is firmness in the Covenant of God. For the power of the Covenant will protect the Cause of Bahá’u’lláh from the doubts of the people of error. It is the fortified fortress of the Cause of God and the firm pillar of the religion of God. Today no power can conserve the oneness of the Bahá’í world save the Covenant of God; otherwise differences like unto a most great tempest will encompass the Bahá’í world.” \n-Abdul-Baha
URL:https://www.bahailv.org/event/observation-for-the-day-of-the-covenant-tbd-click-here-for-details/
ATTACH;FMTTYPE=image/jpeg:https://www.bahailv.org/wp-content/uploads/2020/05/Covenant.jpeg
END:VEVENT
END:VCALENDAR