BEGIN:VCALENDAR
VERSION:2.0
PRODID:-//Lehigh Valley Bahai - ECPv6.15.20//NONSGML v1.0//EN
CALSCALE:GREGORIAN
METHOD:PUBLISH
X-WR-CALNAME:Lehigh Valley Bahai
X-ORIGINAL-URL:https://www.bahailv.org
X-WR-CALDESC:Events for Lehigh Valley Bahai
REFRESH-INTERVAL;VALUE=DURATION:PT1H
X-Robots-Tag:noindex
X-PUBLISHED-TTL:PT1H
BEGIN:VTIMEZONE
TZID:America/New_York
BEGIN:DAYLIGHT
TZOFFSETFROM:-0500
TZOFFSETTO:-0400
TZNAME:EDT
DTSTART:20220313T070000
END:DAYLIGHT
BEGIN:STANDARD
TZOFFSETFROM:-0400
TZOFFSETTO:-0500
TZNAME:EST
DTSTART:20221106T060000
END:STANDARD
BEGIN:DAYLIGHT
TZOFFSETFROM:-0500
TZOFFSETTO:-0400
TZNAME:EDT
DTSTART:20230312T070000
END:DAYLIGHT
BEGIN:STANDARD
TZOFFSETFROM:-0400
TZOFFSETTO:-0500
TZNAME:EST
DTSTART:20231105T060000
END:STANDARD
BEGIN:DAYLIGHT
TZOFFSETFROM:-0500
TZOFFSETTO:-0400
TZNAME:EDT
DTSTART:20240310T070000
END:DAYLIGHT
BEGIN:STANDARD
TZOFFSETFROM:-0400
TZOFFSETTO:-0500
TZNAME:EST
DTSTART:20241103T060000
END:STANDARD
END:VTIMEZONE
BEGIN:VEVENT
DTSTART;TZID=America/New_York:20231119T100000
DTEND;TZID=America/New_York:20231119T120000
DTSTAMP:20260425T083002
CREATED:20230807T190644Z
LAST-MODIFIED:20230831T031735Z
UID:10001416-1700388000-1700395200@www.bahailv.org
SUMMARY:Bahai Learning Center
DESCRIPTION:Bahai Learning Center Schedule : Fall 2023 to Spring 2024. \nDear loved Friends\,\n\nWe are very excited to announce the start of another season of learning\, devotions\, and fellowship at the Bahá’í Learning Center in Allentown ( Lehigh Valley Center for Sight\, 1739 Fairmont Street\, Allentown 18104 ) every other Sunday 10 AM to 12 PM starting on September 24. This year we will have a children’s class and an adult class which will focus on study of Ruhi Book 5 – Releasing the Power of Junior Youth. You are welcome to attend all or come to as many sessions you are able.\nYou can find the schedule on the Lehigh Valley Bahá’í Community Calendar\, and it is included below. Please contact Houman Ahdieh for further information and directions; houmanahdieh@yahoo.com 610-737-3938. \nWe look very much forward to seeing you soon!\n\nWith Much Love\,\nBahá’í Learning Center Planning Committee\n  \nStart time is 10 a.m. however Zoom attendees can join at 10:30 a.m.  Link will be emailed to the friends directly. \n 
URL:https://www.bahailv.org/event/bahai-learning-center/2023-11-19/
ATTACH;FMTTYPE=image/jpeg:https://www.bahailv.org/wp-content/uploads/2021/03/Childrens-classes.jpeg
END:VEVENT
BEGIN:VEVENT
DTSTART;TZID=America/New_York:20231119T130000
DTEND;TZID=America/New_York:20231119T150000
DTSTAMP:20260425T083002
CREATED:20230113T005440Z
LAST-MODIFIED:20230113T005441Z
UID:10001115-1700398800-1700406000@www.bahailv.org
SUMMARY:Monthly Sunday devotions hosted by Bill & Bridget George starting at 1 p.m.
DESCRIPTION:Details & program TBD.  Contact: 610 570 1336.
URL:https://www.bahailv.org/event/monthly-sunday-devotions-hosted-by-bill-bridget-george-starting-at-1-p-m-2-2-2-2-2-2-2-2/
ATTACH;FMTTYPE=image/jpeg:https://www.bahailv.org/wp-content/uploads/2021/09/Devotions-3.jpeg
END:VEVENT
BEGIN:VEVENT
DTSTART;TZID=America/New_York:20231119T193000
DTEND;TZID=America/New_York:20231119T193000
DTSTAMP:20260425T083002
CREATED:20230625T020626Z
LAST-MODIFIED:20230625T020828Z
UID:10001635-1700422200-1700422200@www.bahailv.org
SUMMARY:Sunday night Zoom Healing Devotions hosted by Moira & Randy Padfield. Click here for details.
DESCRIPTION:Dear friends\,  \nThe Padfield family are hosting a devotional via Zoom Sunday evening at 7:30pm and each Sunday thereafter.  Link will be emailed to the friends directly.  We will be saying prayers for Richard Beane (our son-in-law in Belize) and Shirin’s sister as well as others in the community in need of healing prayers. We will also offer healing prayers for our community\, country and the world.   \nWe would be happy to have you join us and would welcome anything you would like to contribute in the form of prayers\, Writings\, or poems.   \nWe hope to see you on Sunday night.  Zoom link was emailed to the friends directly. \nWith loving regards\,
URL:https://www.bahailv.org/event/4523/2023-11-19/
ATTACH;FMTTYPE=image/jpeg:https://www.bahailv.org/wp-content/uploads/2020/05/devotions.jpg
END:VEVENT
END:VCALENDAR