BEGIN:VCALENDAR
VERSION:2.0
PRODID:-//Lehigh Valley Bahai - ECPv6.15.20//NONSGML v1.0//EN
CALSCALE:GREGORIAN
METHOD:PUBLISH
X-ORIGINAL-URL:https://www.bahailv.org
X-WR-CALDESC:Events for Lehigh Valley Bahai
REFRESH-INTERVAL;VALUE=DURATION:PT1H
X-Robots-Tag:noindex
X-PUBLISHED-TTL:PT1H
BEGIN:VTIMEZONE
TZID:America/New_York
BEGIN:DAYLIGHT
TZOFFSETFROM:-0500
TZOFFSETTO:-0400
TZNAME:EDT
DTSTART:20220313T070000
END:DAYLIGHT
BEGIN:STANDARD
TZOFFSETFROM:-0400
TZOFFSETTO:-0500
TZNAME:EST
DTSTART:20221106T060000
END:STANDARD
BEGIN:DAYLIGHT
TZOFFSETFROM:-0500
TZOFFSETTO:-0400
TZNAME:EDT
DTSTART:20230312T070000
END:DAYLIGHT
BEGIN:STANDARD
TZOFFSETFROM:-0400
TZOFFSETTO:-0500
TZNAME:EST
DTSTART:20231105T060000
END:STANDARD
BEGIN:DAYLIGHT
TZOFFSETFROM:-0500
TZOFFSETTO:-0400
TZNAME:EDT
DTSTART:20240310T070000
END:DAYLIGHT
BEGIN:STANDARD
TZOFFSETFROM:-0400
TZOFFSETTO:-0500
TZNAME:EST
DTSTART:20241103T060000
END:STANDARD
END:VTIMEZONE
BEGIN:VEVENT
DTSTART;TZID=America/New_York:20231104T183000
DTEND;TZID=America/New_York:20231104T210000
DTSTAMP:20260425T083053
CREATED:20230711T220724Z
LAST-MODIFIED:20231030T182038Z
UID:10001394-1699122600-1699131600@www.bahailv.org
SUMMARY:In person Feast of Qudrat (Power).  Hosts Moira & Randy Padfield.  Click here for details.
DESCRIPTION:Hosts – The Padfield family. \n  \nDear Friends\, \nRandy and Moira warmly invite you to the Feast of Qudrat (Power) on: \nSaturday\, November 4 beginning at 6:30pm.  \nNOT 7:30 PM AS ORIGINALLY PLANNED! \nContact information:  moirapadfield@gmail.com   or by cell at 610.703.2874 \n This feast will be in-person only. However\, I have made a PowerPoint for this feast with the Writings and music.  If you have PowerPoint on your device and would like me to send you a copy I would be happy to do so. \nWarm regards\, Moira Padfield for the LSA of Bethlehem Township
URL:https://www.bahailv.org/event/feast-of-qudrat-power-host-tbd-click-here-for-details/
ATTACH;FMTTYPE=image/jpeg:https://www.bahailv.org/wp-content/uploads/2021/08/Feast.jpg
END:VEVENT
END:VCALENDAR