BEGIN:VCALENDAR
VERSION:2.0
PRODID:-//Lehigh Valley Bahai - ECPv6.15.20//NONSGML v1.0//EN
CALSCALE:GREGORIAN
METHOD:PUBLISH
X-ORIGINAL-URL:https://www.bahailv.org
X-WR-CALDESC:Events for Lehigh Valley Bahai
REFRESH-INTERVAL;VALUE=DURATION:PT1H
X-Robots-Tag:noindex
X-PUBLISHED-TTL:PT1H
BEGIN:VTIMEZONE
TZID:America/New_York
BEGIN:DAYLIGHT
TZOFFSETFROM:-0500
TZOFFSETTO:-0400
TZNAME:EDT
DTSTART:20220313T070000
END:DAYLIGHT
BEGIN:STANDARD
TZOFFSETFROM:-0400
TZOFFSETTO:-0500
TZNAME:EST
DTSTART:20221106T060000
END:STANDARD
BEGIN:DAYLIGHT
TZOFFSETFROM:-0500
TZOFFSETTO:-0400
TZNAME:EDT
DTSTART:20230312T070000
END:DAYLIGHT
BEGIN:STANDARD
TZOFFSETFROM:-0400
TZOFFSETTO:-0500
TZNAME:EST
DTSTART:20231105T060000
END:STANDARD
BEGIN:DAYLIGHT
TZOFFSETFROM:-0500
TZOFFSETTO:-0400
TZNAME:EDT
DTSTART:20240310T070000
END:DAYLIGHT
BEGIN:STANDARD
TZOFFSETFROM:-0400
TZOFFSETTO:-0500
TZNAME:EST
DTSTART:20241103T060000
END:STANDARD
END:VTIMEZONE
BEGIN:VEVENT
DTSTART;TZID=America/New_York:20231015T160000
DTEND;TZID=America/New_York:20231015T180000
DTSTAMP:20260425T094316
CREATED:20230711T220300Z
LAST-MODIFIED:20231010T142223Z
UID:10001393-1697385600-1697392800@www.bahailv.org
SUMMARY:Feast of Ilm (Knowledge).  Hosted by Margie Ensminger\,  Sunday\, October 15 beginning at 4pm. Click here for details.
DESCRIPTION:Dear Friends\, \n\n \nMargie Ensminger warmly invites you to the Feast of Ilm (Knowledge) on: \n \nSunday\, October 15 beginning at 4pm.\nThe address to Margie’s residence was emailed directly to the friends.\n \nIf you need more information please contact Margie at \n(610) 625-4671.\n \nExpect plenty of music and joy!\n \nFor friends who cannot attend in person  the Zoom link was directly emailed to the friends.\n\n\n\n\n\n\n\n\n\n\n\n\n\n \nWarmest regards\,\nRoseann Bowerman for the LSA of Bethlehem Township.
URL:https://www.bahailv.org/event/feast-of-ilm-knowledge-host-tbd-click-here-for-details-3/
ATTACH;FMTTYPE=image/jpeg:https://www.bahailv.org/wp-content/uploads/2021/08/Feast.jpg
END:VEVENT
BEGIN:VEVENT
DTSTART;TZID=America/New_York:20231015T193000
DTEND;TZID=America/New_York:20231015T193000
DTSTAMP:20260425T094316
CREATED:20230625T020626Z
LAST-MODIFIED:20230625T020828Z
UID:10001320-1697398200-1697398200@www.bahailv.org
SUMMARY:Sunday night Zoom Healing Devotions hosted by Moira & Randy Padfield. Click here for details.
DESCRIPTION:Dear friends\,  \nThe Padfield family are hosting a devotional via Zoom Sunday evening at 7:30pm and each Sunday thereafter.  Link will be emailed to the friends directly.  We will be saying prayers for Richard Beane (our son-in-law in Belize) and Shirin’s sister as well as others in the community in need of healing prayers. We will also offer healing prayers for our community\, country and the world.   \nWe would be happy to have you join us and would welcome anything you would like to contribute in the form of prayers\, Writings\, or poems.   \nWe hope to see you on Sunday night.  Zoom link was emailed to the friends directly. \nWith loving regards\,
URL:https://www.bahailv.org/event/4523/2023-10-15/
ATTACH;FMTTYPE=image/jpeg:https://www.bahailv.org/wp-content/uploads/2020/05/devotions.jpg
END:VEVENT
END:VCALENDAR