BEGIN:VCALENDAR
VERSION:2.0
PRODID:-//Lehigh Valley Bahai - ECPv6.15.20//NONSGML v1.0//EN
CALSCALE:GREGORIAN
METHOD:PUBLISH
X-WR-CALNAME:Lehigh Valley Bahai
X-ORIGINAL-URL:https://www.bahailv.org
X-WR-CALDESC:Events for Lehigh Valley Bahai
REFRESH-INTERVAL;VALUE=DURATION:PT1H
X-Robots-Tag:noindex
X-PUBLISHED-TTL:PT1H
BEGIN:VTIMEZONE
TZID:America/New_York
BEGIN:DAYLIGHT
TZOFFSETFROM:-0500
TZOFFSETTO:-0400
TZNAME:EDT
DTSTART:20220313T070000
END:DAYLIGHT
BEGIN:STANDARD
TZOFFSETFROM:-0400
TZOFFSETTO:-0500
TZNAME:EST
DTSTART:20221106T060000
END:STANDARD
BEGIN:DAYLIGHT
TZOFFSETFROM:-0500
TZOFFSETTO:-0400
TZNAME:EDT
DTSTART:20230312T070000
END:DAYLIGHT
BEGIN:STANDARD
TZOFFSETFROM:-0400
TZOFFSETTO:-0500
TZNAME:EST
DTSTART:20231105T060000
END:STANDARD
BEGIN:DAYLIGHT
TZOFFSETFROM:-0500
TZOFFSETTO:-0400
TZNAME:EDT
DTSTART:20240310T070000
END:DAYLIGHT
BEGIN:STANDARD
TZOFFSETFROM:-0400
TZOFFSETTO:-0500
TZNAME:EST
DTSTART:20241103T060000
END:STANDARD
END:VTIMEZONE
BEGIN:VEVENT
DTSTART;TZID=America/New_York:20230930T133000
DTEND;TZID=America/New_York:20230930T150000
DTSTAMP:20260425T110232
CREATED:20230819T235333Z
LAST-MODIFIED:20230819T235850Z
UID:10001435-1696080600-1696086000@www.bahailv.org
SUMMARY:Neighbor Love – an Interfaith Devotional for Touchstone Theatre's Festival Unbound\, Saturday September 30\, 1:30pm at the IceHouse Performing Arts Center in Bethlehem. Click here for details.
DESCRIPTION:In September\, we invite all of you to come to Neighbor Love – an Interfaith Devotional for Touchstone Theatre’s Festival Unbound\, Saturday September 30\, 1:30pm at the IceHouse Performing Arts Center in Bethlehem. Please join us for an art filled interfaith gathering featuring music\, prayers\, poetry\, dance\, and wisdom stories\, followed by refreshments and conversation. Find more information and make your reservations for this free event here:  http://www.touchstone.org/festival_unbound/devotional
URL:https://www.bahailv.org/event/neighbor-love-an-interfaith-devotional-for-touchstone-theatres-festival-unbound-saturday-september-30-130pm-at-the-icehouse-performing-arts-center-in-bethlehem-click-here-for/
END:VEVENT
END:VCALENDAR