BEGIN:VCALENDAR
VERSION:2.0
PRODID:-//Lehigh Valley Bahai - ECPv6.15.20//NONSGML v1.0//EN
CALSCALE:GREGORIAN
METHOD:PUBLISH
X-WR-CALNAME:Lehigh Valley Bahai
X-ORIGINAL-URL:https://www.bahailv.org
X-WR-CALDESC:Events for Lehigh Valley Bahai
REFRESH-INTERVAL;VALUE=DURATION:PT1H
X-Robots-Tag:noindex
X-PUBLISHED-TTL:PT1H
BEGIN:VTIMEZONE
TZID:America/New_York
BEGIN:DAYLIGHT
TZOFFSETFROM:-0500
TZOFFSETTO:-0400
TZNAME:EDT
DTSTART:20220313T070000
END:DAYLIGHT
BEGIN:STANDARD
TZOFFSETFROM:-0400
TZOFFSETTO:-0500
TZNAME:EST
DTSTART:20221106T060000
END:STANDARD
BEGIN:DAYLIGHT
TZOFFSETFROM:-0500
TZOFFSETTO:-0400
TZNAME:EDT
DTSTART:20230312T070000
END:DAYLIGHT
BEGIN:STANDARD
TZOFFSETFROM:-0400
TZOFFSETTO:-0500
TZNAME:EST
DTSTART:20231105T060000
END:STANDARD
BEGIN:DAYLIGHT
TZOFFSETFROM:-0500
TZOFFSETTO:-0400
TZNAME:EDT
DTSTART:20240310T070000
END:DAYLIGHT
BEGIN:STANDARD
TZOFFSETFROM:-0400
TZOFFSETTO:-0500
TZNAME:EST
DTSTART:20241103T060000
END:STANDARD
END:VTIMEZONE
BEGIN:VEVENT
DTSTART;TZID=America/New_York:20230908T180000
DTEND;TZID=America/New_York:20230908T210000
DTSTAMP:20260425T110226
CREATED:20230711T215642Z
LAST-MODIFIED:20230904T134854Z
UID:10001391-1694196000-1694206800@www.bahailv.org
SUMMARY:Feast of Izzat (Might).  Host Henry& Laura Lawrence.  Starts with a picnic at 6 p.m. Click here for details
DESCRIPTION:Host – The Lawrence family.  Starts with a picnic at 6 p.m.  Details: \nHello Friends\,  \nLaura and Henry Lawrence invite you to the Feast of Izzat (Might ) on:\n\nFriday September 8 at 6:00 pm for an In person  – “Good bye\, sniff sniff\, to Summer” Feast. \n\n \nThey will be serving a picnic supper –    hot dogs\, hamburgers\,  (vegan too)\, salads and dessert.\n\nYou can contact them at 610-868-5604.\n\nWarm regards\,\nRoseann Bowerman for the LSA of Bethlehem Township
URL:https://www.bahailv.org/event/feast-of-izzat-might-host-tbd-click-here-for-details/
ATTACH;FMTTYPE=image/jpeg:https://www.bahailv.org/wp-content/uploads/2021/08/Feast.jpg
END:VEVENT
END:VCALENDAR